From mboxrd@z Thu Jan  1 00:00:00 1970
Return-Path: <test-report-bounces@dpdk.org>
Received: from mails.dpdk.org (mails.dpdk.org [217.70.189.124])
	by inbox.dpdk.org (Postfix) with ESMTP id AF89346102
	for <public@inbox.dpdk.org>; Fri, 24 Jan 2025 22:52:02 +0100 (CET)
Received: from mails.dpdk.org (localhost [127.0.0.1])
	by mails.dpdk.org (Postfix) with ESMTP id 7C93140267;
	Fri, 24 Jan 2025 22:52:02 +0100 (CET)
Received: from mail-io1-f99.google.com (mail-io1-f99.google.com
 [209.85.166.99]) by mails.dpdk.org (Postfix) with ESMTP id C7F2340151
 for <test-report@dpdk.org>; Fri, 24 Jan 2025 22:52:01 +0100 (CET)
Received: by mail-io1-f99.google.com with SMTP id
 ca18e2360f4ac-852050432a8so74183839f.1
 for <test-report@dpdk.org>; Fri, 24 Jan 2025 13:52:01 -0800 (PST)
DKIM-Signature: v=1; a=rsa-sha256; c=relaxed/relaxed;
 d=iol.unh.edu; s=unh-iol; t=1737755521; x=1738360321; darn=dpdk.org;
 h=references:in-reply-to:cc:to:from:subject:message-id:date:from:to
 :cc:subject:date:message-id:reply-to;
 bh=KG0Iu4MYdXHxAEghWgho7NwcR2R+x11TXKA3xcTa70Q=;
 b=fu4i+5fZ14iUPGJGxTMO8C5GkQIBNgW1MknO6bQ0AZItTr4VcAxTw77230udNG/Kir
 5oQZZSxgciv19bgDcWhEF6jGUPMdT9zHJP+RQJkF/dosEb/4TrWRBdJb35TpLSCNJatk
 zwk3AC1ThdO3BB2ShJRYA07f8xJpgyTE2K2JA=
X-Google-DKIM-Signature: v=1; a=rsa-sha256; c=relaxed/relaxed;
 d=1e100.net; s=20230601; t=1737755521; x=1738360321;
 h=references:in-reply-to:cc:to:from:subject:message-id:date
 :x-gm-message-state:from:to:cc:subject:date:message-id:reply-to;
 bh=KG0Iu4MYdXHxAEghWgho7NwcR2R+x11TXKA3xcTa70Q=;
 b=gbbggC01Je81jQcdFT+0Q+vbOm+dOzFstiJ1hveT0ucOx223dWBAYv5bqcw3AJlzJA
 YWkm2Qh7f6r/aB2aaGljaFPFavM3F/5Cy2E32jl+VTjBBrSSbKAZP7OKzEB4a9mAahLG
 XALxJB9uefgfQ30Rh9BRDc6iz67CignwMnWisP+UVJaUgD+QzFOc5Rv3WUqKSQ52EnEM
 tbZ9m7HI/TCN72poRyuEtdZxAbDX1oq0+YOyGwPaPET4Fol9nTcQltJn3V6veod3FbPN
 aMS4vjZ7eSbcSwagezCF1WEBPP/PoF1clxAm9gqWRGehre5MQbCWxrQq2kNcOcmnys3z
 fYjQ==
X-Gm-Message-State: AOJu0Yz+40GVuM+zDrMxYKqARBOaoh8nzQru6uAJayhNEb3MwxRwWueL
 3/4wSo3Gm6few8xQfvHfOaa9U4ePQh8LIWy9lMmUg8n3EQl0xZjjwfnBGwghAXVNYjv5+/71gFq
 A60BArq+i6K1C+gpWlAN4wpCUcDfnROhwZFyqMRuhdUtt223W9Qw7gmaa
X-Gm-Gg: ASbGncsxVeKAqDxAl4rEV40g3ewmZvez56spqJY07KQS6o+7S7tuDFEpI8oHdXjIH+2
 +AvBtxpsOsVkRCGDdwn9ZkAs7gXKmxRzJCnNe7OQpHCZ/dRy51s3ueserEBUuP62WZwk+CW6k7Y
 AEs/hkmTlAZUeZEk9+Q7BJ3dnoJ7Ezsfmldj3zK1d0F7eEKjmqqBZnQKG6mrf6v7kJ7rsmbjHxH
 l6TC6s+1YaCJtzOO68ywFcDHWnRFG8Kf3siGMdN1S/dNaV1K6DFYWO+PPxW3G6LSMIaTP5LGWt1
 ZYlMGugsiEc2HiAMSHWZfWo7sdRgwS6ZeKxg7HS0RQ==
X-Google-Smtp-Source: AGHT+IGNoIOa+ekaDf3ggWncLUfCkr4SJ1DTRUd3WqBXXk/gayAIavmLrCUGZFSf78Ww9JrQFoz4PNH5wkv+
X-Received: by 2002:a05:6602:3a07:b0:84f:537d:8967 with SMTP id
 ca18e2360f4ac-8520bde74afmr709132039f.7.1737755521147; 
 Fri, 24 Jan 2025 13:52:01 -0800 (PST)
Received: from postal.iol.unh.edu (postal.iol.unh.edu.
 [2606:4100:3880:1234::84]) by smtp-relay.gmail.com with ESMTPS id
 ca18e2360f4ac-8521de10739sm13230939f.12.2025.01.24.13.52.01
 (version=TLS1_2 cipher=ECDHE-ECDSA-AES128-GCM-SHA256 bits=128/128);
 Fri, 24 Jan 2025 13:52:01 -0800 (PST)
X-Relaying-Domain: iol.unh.edu
Date: Fri, 24 Jan 2025 13:52:01 -0800 (PST)
Message-ID: <67940b81.050a0220.101a56.836dSMTPIN_ADDED_MISSING@mx.google.com>
Received: from [172.21.0.5] (unknown [172.18.0.240])
 by postal.iol.unh.edu (Postfix) with ESMTP id A89586052471;
 Fri, 24 Jan 2025 16:52:00 -0500 (EST)
Subject: |SUCCESS| pw150449-150451 [PATCH] [v2,3/3] net/mlx5: add port and qu
From: dpdklab@iol.unh.edu
To: Test Report <test-report@dpdk.org>
Cc: dpdk-test-reports@iol.unh.edu
In-Reply-To: <20250124114336.16610-4-shperetz@nvidia.com>
References: <20250124114336.16610-4-shperetz@nvidia.com>
Content-Type: text/plain
X-BeenThere: test-report@dpdk.org
X-Mailman-Version: 2.1.29
Precedence: list
List-Id: automatic DPDK test reports <test-report.dpdk.org>
List-Unsubscribe: <https://mails.dpdk.org/options/test-report>,
 <mailto:test-report-request@dpdk.org?subject=unsubscribe>
List-Archive: <http://mails.dpdk.org/archives/test-report/>
List-Post: <mailto:test-report@dpdk.org>
List-Help: <mailto:test-report-request@dpdk.org?subject=help>
List-Subscribe: <https://mails.dpdk.org/listinfo/test-report>,
 <mailto:test-report-request@dpdk.org?subject=subscribe>
Errors-To: test-report-bounces@dpdk.org

Test-Label: iol-compile-arm64-testing
Test-Status: SUCCESS
http://dpdk.org/patch/150451

_Testing PASS_

Submitter: Shani Peretz <shperetz@nvidia.com>
Date: Friday, January 24 2025 11:43:35 
DPDK git baseline: Repo:dpdk
  Branch: master
  CommitID:c5b363510f8319b4c89f4ed45568864968fa156d

150449-150451 --> testing pass

Upstream job id: Generic-DPDK-Compile-Meson#354745

Test environment and result as below:

+----------------------------------------+--------------------+
|              Environment               | dpdk_meson_compile |
+========================================+====================+
| RHEL9 (ARM)                            | PASS               |
+----------------------------------------+--------------------+
| Ubuntu 20.04 ARM SVE                   | PASS               |
+----------------------------------------+--------------------+
| Ubuntu 20.04 ARM GCC Cross Compile     | PASS               |
+----------------------------------------+--------------------+
| Debian 12 with MUSDK                   | PASS               |
+----------------------------------------+--------------------+
| Fedora 41 (ARM Clang)                  | PASS               |
+----------------------------------------+--------------------+
| Fedora 40 (ARM Clang)                  | PASS               |
+----------------------------------------+--------------------+
| Fedora 40 (ARM)                        | PASS               |
+----------------------------------------+--------------------+
| Fedora 41 (ARM)                        | PASS               |
+----------------------------------------+--------------------+
| Ubuntu 22.04 (ARM)                     | PASS               |
+----------------------------------------+--------------------+
| CentOS Stream 9 (ARM)                  | PASS               |
+----------------------------------------+--------------------+
| Ubuntu 20.04 (ARM)                     | PASS               |
+----------------------------------------+--------------------+
| Ubuntu 24.04 (ARM)                     | PASS               |
+----------------------------------------+--------------------+
| Debian 11 (Buster) (ARM)               | PASS               |
+----------------------------------------+--------------------+
| Debian 12 (arm)                        | PASS               |
+----------------------------------------+--------------------+
| Ubuntu 20.04 ARM Clang Cross Compile   | PASS               |
+----------------------------------------+--------------------+
| Ubuntu 20.04 aarch32 GCC Cross Compile | PASS               |
+----------------------------------------+--------------------+


RHEL9 (ARM)
	Kernel: Depends on container host
	Compiler: gcc 11.5.0 20240719 (Red Hat 11.5.0-2)

Ubuntu 20.04 ARM SVE
	Kernel: Depends on container host
	Compiler: gcc (Ubuntu 10.5.0-1ubuntu1~20.04) 10.5.0

Ubuntu 20.04 ARM GCC Cross Compile
	Kernel: Depends on container host
	Compiler: aarch64-linux-gnu-gcc (Ubuntu 9.4.0-1ubuntu1~20.04.2) 9.4.0

Debian 12 with MUSDK
	Kernel: Depends on container host
	Compiler: gcc (Debian 12.2.0-14) 12.2.0

Fedora 41 (ARM Clang)
	Kernel: Depends on container host
	Compiler: clang 19.1.5 (Fedora 19.1.5-1.fc41)

Fedora 40 (ARM Clang)
	Kernel: Depends on container host
	Compiler: clang 18.1.8 (Fedora 18.1.8-1.fc40)

Fedora 40 (ARM)
	Kernel: Depends on container host
	Compiler: gcc 14.2.1 20240912 (Red Hat 14.2.1-3)

Fedora 41 (ARM)
	Kernel: Depends on container host
	Compiler: gcc 14.2.1 20240912 (Red Hat 14.2.1-3)

Ubuntu 22.04 (ARM)
	Kernel: Depends on container host
	Compiler: gcc (Ubuntu 11.4.0-1ubuntu1~22.04) 11.4.0

CentOS Stream 9 (ARM)
	Kernel: Depends on container host
	Compiler: gcc 11.5.0 20240719 (Red Hat 11.5.0-2)

Ubuntu 20.04 (ARM)
	Kernel: Depends on container host
	Compiler: gcc (Ubuntu 9.4.0-1ubuntu1~20.04.2) 9.4.0

Ubuntu 24.04 (ARM)
	Kernel: Depends on container host
	Compiler: gcc (Ubuntu 13.3.0-6ubuntu2~24.04) 13.3.0

Debian 11 (Buster) (ARM)
	Kernel: Depends on container host
	Compiler: gcc (Debian 10.2.1-6) 10.2.1 20210110

Debian 12 (arm)
	Kernel: Depends on container host
	Compiler: gcc (Debian 12.2.0-14) 12.2.0

Ubuntu 20.04 ARM Clang Cross Compile
	Kernel: Depends on container host
	Compiler: clang 10.0.0-4ubuntu1

Ubuntu 20.04 aarch32 GCC Cross Compile
	Kernel: Depends on container host
	Compiler: gcc 9.4.0

To view detailed results, visit:
https://lab.dpdk.org/results/dashboard/patchsets/32413/

UNH-IOL DPDK Community Lab

To manage your email subscriptions, visit: 
https://lab.dpdk.org/results/dashboard/preferences/subscriptions/