From mboxrd@z Thu Jan  1 00:00:00 1970
Return-Path: <test-report-bounces@dpdk.org>
Received: from mails.dpdk.org (mails.dpdk.org [217.70.189.124])
	by inbox.dpdk.org (Postfix) with ESMTP id D91C846102
	for <public@inbox.dpdk.org>; Sat, 25 Jan 2025 00:14:09 +0100 (CET)
Received: from mails.dpdk.org (localhost [127.0.0.1])
	by mails.dpdk.org (Postfix) with ESMTP id AD6CE40151;
	Sat, 25 Jan 2025 00:14:09 +0100 (CET)
Received: from mail-ot1-f99.google.com (mail-ot1-f99.google.com
 [209.85.210.99]) by mails.dpdk.org (Postfix) with ESMTP id BB78F4014F
 for <test-report@dpdk.org>; Sat, 25 Jan 2025 00:14:08 +0100 (CET)
Received: by mail-ot1-f99.google.com with SMTP id
 46e09a7af769-71e565708beso1454988a34.1
 for <test-report@dpdk.org>; Fri, 24 Jan 2025 15:14:08 -0800 (PST)
DKIM-Signature: v=1; a=rsa-sha256; c=relaxed/relaxed;
 d=iol.unh.edu; s=unh-iol; t=1737760448; x=1738365248; darn=dpdk.org;
 h=references:in-reply-to:cc:to:from:subject:message-id:date:from:to
 :cc:subject:date:message-id:reply-to;
 bh=ePRV1kzERUBpY6tjvPhaV/xydhFYhkMdi44HjUjc2Kw=;
 b=WtTbyfgNzH3n4mhYyRLeYmBmy9I6XAab/niHMWJiubBt2OvPlA1FRLgDpZfubuskab
 dxpsk2rCkHpwWaqkOja1O9ON048e/UVh9zHzjw7N6Wtl4nkCnueU+GwaK9R+vUYg5WKH
 z0ITCnfedMkDu+oLcf7KlPh7US4XKo+7PKvCM=
X-Google-DKIM-Signature: v=1; a=rsa-sha256; c=relaxed/relaxed;
 d=1e100.net; s=20230601; t=1737760448; x=1738365248;
 h=references:in-reply-to:cc:to:from:subject:message-id:date
 :x-gm-message-state:from:to:cc:subject:date:message-id:reply-to;
 bh=ePRV1kzERUBpY6tjvPhaV/xydhFYhkMdi44HjUjc2Kw=;
 b=AASwwf0wb2t1m7C9MSOZ4Y4RzOgrrICbXIlx1lM5TmEumfoWdFEQL/ehp51vXZck1K
 I8R4yybgNWOg5B2F+JM1yUDVGuj19t0EdIEnRx1tXF+a5u6fBT1xh0Y+ZMDhcT/bLqv/
 Asdq6jsfSD7sRbCDckftsxZCkhzgF/ANrE4nkc026WraHgW+nk26XRHd98aaxH/Axx5m
 rnTriS8Kmojj6wlnZbJpFj+iJbCgR+lBGL6E9Dbbrw6JX8Q2c5Y49MB9GPzZgHG4L5Ep
 DSleR2Ht6vlHYrYNuf7/TDZ0C2rptJNz4oC2YwdQPgi61plV2KyDXmwbO0j6DbcIdq8O
 SqWQ==
X-Gm-Message-State: AOJu0YyYWX5KypuBfD4eS5lYpwFEOwrG23ZLCLwPalKwSiVfiZoIGmJE
 FsNaMI4VzPHykO5jtSFH2ZHlOvVHXG6nDkV2JUDfccViN2EO1GW5ju3JGC3RgsWclF+/RnewKeo
 xl2Du1vOilk6aq/3zQhWboSWRD0HSoLblqlDwCKZkjbzbUZqR1nJz+pEA
X-Gm-Gg: ASbGncuBUEfsPcWhtvKufKDbsF/KRfeK1TQIEhRZ0cU2eBkKrdrdp6UhbVG+CNnadcO
 wIRoT0qaW0TKKdPNzZTHTxDTpRQ0n5GWPJLu23L+D9fYJMp0R4b+vCNWM7iKwbAVTLmfCE/D3bA
 iTYaYoqk43nFIibBto8YWrDuQP7gzWupifgFY0vW0r9erCSpicwm6eOXHYbIivBnz6S+ZCp5FTx
 s2C3ySXXx5Zs0/FWeBVxyIU+DnvIkevEDNN4r9X4BVy8YU6bYBslMB1Z3J/bd9IeE6HWag6Jl8t
 3khPA+jNusrLyTUy0v5v4cxLZNw0QViImhT9Yyrukw==
X-Google-Smtp-Source: AGHT+IF70Hedki0wkTjRGxLRZ0sd9zRP0J6ohOBPgZY5uIJtAleXVjxqEbF+Bu1YYGdbyB9vOoCaKzdOfl49
X-Received: by 2002:a05:6830:3981:b0:71d:f8bd:4be4 with SMTP id
 46e09a7af769-7249dae0319mr19942840a34.19.1737760447871; 
 Fri, 24 Jan 2025 15:14:07 -0800 (PST)
Received: from postal.iol.unh.edu (postal.iol.unh.edu.
 [2606:4100:3880:1234::84]) by smtp-relay.gmail.com with ESMTPS id
 46e09a7af769-724ecdcf617sm103841a34.4.2025.01.24.15.14.07
 (version=TLS1_2 cipher=ECDHE-ECDSA-AES128-GCM-SHA256 bits=128/128);
 Fri, 24 Jan 2025 15:14:07 -0800 (PST)
X-Relaying-Domain: iol.unh.edu
Date: Fri, 24 Jan 2025 15:14:07 -0800 (PST)
Message-ID: <67941ebf.050a0220.15803.677fSMTPIN_ADDED_MISSING@mx.google.com>
Received: from [172.21.0.8] (unknown [172.18.0.240])
 by postal.iol.unh.edu (Postfix) with ESMTP id 4CE386052471;
 Fri, 24 Jan 2025 18:14:07 -0500 (EST)
Subject: |WARNING| pw150449-150451 [PATCH] [v2,3/3] net/mlx5: add port and qu
From: dpdklab@iol.unh.edu
To: Test Report <test-report@dpdk.org>
Cc: dpdk-test-reports@iol.unh.edu
In-Reply-To: <20250124114336.16610-4-shperetz@nvidia.com>
References: <20250124114336.16610-4-shperetz@nvidia.com>
Content-Type: text/plain
X-BeenThere: test-report@dpdk.org
X-Mailman-Version: 2.1.29
Precedence: list
List-Id: automatic DPDK test reports <test-report.dpdk.org>
List-Unsubscribe: <https://mails.dpdk.org/options/test-report>,
 <mailto:test-report-request@dpdk.org?subject=unsubscribe>
List-Archive: <http://mails.dpdk.org/archives/test-report/>
List-Post: <mailto:test-report@dpdk.org>
List-Help: <mailto:test-report-request@dpdk.org?subject=help>
List-Subscribe: <https://mails.dpdk.org/listinfo/test-report>,
 <mailto:test-report-request@dpdk.org?subject=subscribe>
Errors-To: test-report-bounces@dpdk.org

Test-Label: iol-compile-amd64-testing
Test-Status: WARNING
http://dpdk.org/patch/150451

_Testing issues_

Submitter: Shani Peretz <shperetz@nvidia.com>
Date: Friday, January 24 2025 11:43:35 
DPDK git baseline: Repo:dpdk
  Branch: master
  CommitID:c5b363510f8319b4c89f4ed45568864968fa156d

150449-150451 --> testing issues

Upstream job id: Windows-Compile-DPDK-Native#26098

Test environment and result as below:

+---------------------+--------------------+------------------+-------------------+-------------------+----------------------+
|     Environment     | dpdk_meson_compile | dpdk_compile_ovs | dpdk_compile_spdk | dpdk_msvc_compile | dpdk_mingw64_compile |
+=====================+====================+==================+===================+===================+======================+
| Debian Bullseye     | PASS               | PASS             | PASS              | SKIPPED           | SKIPPED              |
+---------------------+--------------------+------------------+-------------------+-------------------+----------------------+
| CentOS Stream 9     | PASS               | PASS             | PASS              | SKIPPED           | SKIPPED              |
+---------------------+--------------------+------------------+-------------------+-------------------+----------------------+
| Debian 12           | PASS               | PASS             | PASS              | SKIPPED           | SKIPPED              |
+---------------------+--------------------+------------------+-------------------+-------------------+----------------------+
| Fedora 40 (Clang)   | PASS               | PASS             | PASS              | SKIPPED           | SKIPPED              |
+---------------------+--------------------+------------------+-------------------+-------------------+----------------------+
| Fedora 40           | PASS               | PASS             | PASS              | SKIPPED           | SKIPPED              |
+---------------------+--------------------+------------------+-------------------+-------------------+----------------------+
| Fedora 41 (Clang)   | PASS               | PASS             | PASS              | SKIPPED           | SKIPPED              |
+---------------------+--------------------+------------------+-------------------+-------------------+----------------------+
| Fedora 41           | PASS               | PASS             | PASS              | SKIPPED           | SKIPPED              |
+---------------------+--------------------+------------------+-------------------+-------------------+----------------------+
| RHEL9               | PASS               | PASS             | SKIPPED           | SKIPPED           | SKIPPED              |
+---------------------+--------------------+------------------+-------------------+-------------------+----------------------+
| RHEL8               | PASS               | PASS             | SKIPPED           | SKIPPED           | SKIPPED              |
+---------------------+--------------------+------------------+-------------------+-------------------+----------------------+
| openSUSE Leap 15    | PASS               | SKIPPED          | SKIPPED           | SKIPPED           | SKIPPED              |
+---------------------+--------------------+------------------+-------------------+-------------------+----------------------+
| Ubuntu 20.04        | PASS               | WARN             | SKIPPED           | SKIPPED           | SKIPPED              |
+---------------------+--------------------+------------------+-------------------+-------------------+----------------------+
| Ubuntu 22.04        | PASS               | PASS             | PASS              | SKIPPED           | SKIPPED              |
+---------------------+--------------------+------------------+-------------------+-------------------+----------------------+
| Ubuntu 24.04        | PASS               | PASS             | PASS              | SKIPPED           | SKIPPED              |
+---------------------+--------------------+------------------+-------------------+-------------------+----------------------+
| FreeBSD 13.4        | PASS               | SKIPPED          | SKIPPED           | SKIPPED           | SKIPPED              |
+---------------------+--------------------+------------------+-------------------+-------------------+----------------------+
| Alpine              | PASS               | PASS             | SKIPPED           | SKIPPED           | SKIPPED              |
+---------------------+--------------------+------------------+-------------------+-------------------+----------------------+
| FreeBSD 14.2        | PASS               | SKIPPED          | SKIPPED           | SKIPPED           | SKIPPED              |
+---------------------+--------------------+------------------+-------------------+-------------------+----------------------+
| Windows Server 2022 | SKIPPED            | SKIPPED          | SKIPPED           | PASS              | PASS                 |
+---------------------+--------------------+------------------+-------------------+-------------------+----------------------+

==== 20 line log output for Ubuntu 20.04 (dpdk_compile_ovs): ====
 --- Failed to get log output --- 
==== End log output ====

Debian Bullseye
	Kernel: Depends on container host
	Compiler: gcc (Debian 10.2.1-6) 10.2.1 20210110

CentOS Stream 9
	Kernel: Depends on container host
	Compiler: gcc 11.5.0 20240719 (Red Hat 11.5.0-2)

Debian 12
	Kernel: Depends on container host
	Compiler: gcc (Debian 12.2.0-14) 12.2.0

Fedora 40 (Clang)
	Kernel: Depends on container host
	Compiler: clang 18.1.8 (Fedora 18.1.8-1.fc40)

Fedora 40
	Kernel: Depends on container host
	Compiler: gcc 14.2.1 20240912 (Red Hat 14.2.1-3)

Fedora 41 (Clang)
	Kernel: Depends on container host
	Compiler: clang 19.1.5 (Fedora 19.1.5-1.fc41)

Fedora 41
	Kernel: Depends on container host
	Compiler: gcc 14.2.1 20240912 (Red Hat 14.2.1-3)

RHEL9
	Kernel: Depends on container host
	Compiler: gcc 11.5.0 20240719 (Red Hat 11.5.0-2)

RHEL8
	Kernel: Depends on container host
	Compiler: gcc 8.5.0 20210514 (Red Hat 8.5.0-22)

openSUSE Leap 15
	Kernel: Depends on container host
	Compiler: gcc (SUSE Linux) 7.5.0

Ubuntu 20.04
	Kernel: Depends on container host
	Compiler: gcc (Ubuntu 9.4.0-1ubuntu1~20.04.2) 9.4.0

Ubuntu 22.04
	Kernel: Depends on container host
	Compiler: gcc (Ubuntu 11.4.0-1ubuntu1~22.04) 11.4.0

Ubuntu 24.04
	Kernel: Depends on container host
	Compiler: gcc (Ubuntu 13.3.0-6ubuntu2~24.04) 13.3.0

FreeBSD 13.4
	Kernel: 13.4-RELEASE-p1
	Compiler: clang 18.1.6

Alpine
	Kernel: Depends on container host
	Compiler: gcc (Alpine 14.2.0) 14.2.0

FreeBSD 14.2
	Kernel: 14.2-RELEASE
	Compiler: clang 18.1.6

Windows Server 2022
	Kernel: 10.0.20348.2031
	Compiler: clang 15.0.7, gcc 14.1.0 (MinGW), and MSVC VS 19.39.33521

To view detailed results, visit:
https://lab.dpdk.org/results/dashboard/patchsets/32413/

UNH-IOL DPDK Community Lab

To manage your email subscriptions, visit: 
https://lab.dpdk.org/results/dashboard/preferences/subscriptions/