From mboxrd@z Thu Jan  1 00:00:00 1970
Return-Path: <test-report-bounces@dpdk.org>
Received: from mails.dpdk.org (mails.dpdk.org [217.70.189.124])
	by inbox.dpdk.org (Postfix) with ESMTP id 2FD3546102
	for <public@inbox.dpdk.org>; Sat, 25 Jan 2025 00:16:46 +0100 (CET)
Received: from mails.dpdk.org (localhost [127.0.0.1])
	by mails.dpdk.org (Postfix) with ESMTP id 1366440151;
	Sat, 25 Jan 2025 00:16:46 +0100 (CET)
Received: from mail-pj1-f100.google.com (mail-pj1-f100.google.com
 [209.85.216.100])
 by mails.dpdk.org (Postfix) with ESMTP id 1A6764014F
 for <test-report@dpdk.org>; Sat, 25 Jan 2025 00:16:45 +0100 (CET)
Received: by mail-pj1-f100.google.com with SMTP id
 98e67ed59e1d1-2ef760a1001so4636544a91.0
 for <test-report@dpdk.org>; Fri, 24 Jan 2025 15:16:45 -0800 (PST)
DKIM-Signature: v=1; a=rsa-sha256; c=relaxed/relaxed;
 d=iol.unh.edu; s=unh-iol; t=1737760604; x=1738365404; darn=dpdk.org;
 h=references:in-reply-to:cc:to:from:subject:message-id:date:from:to
 :cc:subject:date:message-id:reply-to;
 bh=e23GjdX9ErYq4wwTUn8pAzSnBAczzl6/pxJZdI8deyU=;
 b=jYqMDlf4Nr8YeCZEP49pJyFa+0SkeXe4ozxl4++DGy9zCzj50xzVL5v83ZJJU3t5kl
 XFkZPZlDW7fozRH9wy6H5DC3mHq0GpLuZwQg7sBN3oAuvfjGUlP+BaKWVNSs8myZqDjx
 7/Kq3B4H1FyqZBTTbKxmdetjd0g6My2j2W9ig=
X-Google-DKIM-Signature: v=1; a=rsa-sha256; c=relaxed/relaxed;
 d=1e100.net; s=20230601; t=1737760604; x=1738365404;
 h=references:in-reply-to:cc:to:from:subject:message-id:date
 :x-gm-message-state:from:to:cc:subject:date:message-id:reply-to;
 bh=e23GjdX9ErYq4wwTUn8pAzSnBAczzl6/pxJZdI8deyU=;
 b=Qi/KIyW/SwLfJzc/TE2BEcEL+2wWFPDHej5dkm0HJ5k0Dmf8LxGMPBJamuRwa4B2tL
 O9irL6+uI+PYL3qKZAGlEpc23MiqMfR7RxZxNntxoqExmoGy2sQpKKjMnpvBaAkWq/Ya
 CPdLOs3buWLXAH+So/X2WNLJRviDJcvZB8/of9LUwbdiZUCAuPkut5d/vxg93BBqXuvJ
 gfzjEEXF00Cqo1P2SPLvaK8OLoCoUhwHvDCqLImYfopOYRPvotb4NWvdVTP75VC/AElu
 heQZILOy7iIZN3S9lLZEjYKLtPKrTlE2UxSTWcEl7NaaxhtqWPDhX/pQ+b7XotI5ifrd
 T0CQ==
X-Gm-Message-State: AOJu0Yz2uwbiZ7BqAUt+uhv+m3t5yyRm8KQVgm/poXjn6Gbeodr10sg4
 aoLPnF0nTjTyT9XQPFSLfWpnMYP+7zDzizMhGoHylsXCPPBDFDrXy8tlWijAqy6PUj8wtvK2jwy
 CSWLPYZQBso84yybvMGgDzeXj1L+D/UgD3tJGsh7b
X-Gm-Gg: ASbGncvekHBaoTOrtR65b6MDXfG50CcTeobZAV+HdiH9XliVzoRuoYbQAVY1z1AC8Aj
 1fV7qP93cd+erUNt22jlMwfNY+oZO8PlEHVMSlcFegIHf6iU5T7T/3pCgUKnU9md0ZqJtmyVlcN
 DHlyppo6T7M/5zhMjl5Fi1BieMyfDLwEd/j+IQBn+q7HTe94rTjLRO8Hhg/mEbnKKD7T5oWU+IP
 LIVntwBOg09Z+3h+XOTFbBAgjwqwVSWHshDMYmhGUf6AHNvEpf/IzAfGtsbrebO44QmhLzeCzeE
 boQRzFHsVqh9xpn/7rbwI5krn0Q/5w==
X-Google-Smtp-Source: AGHT+IG1LQdYf13csbuyPgaLOYcmv9TQTiKyQCuMphpnnbkK0NXJ3A9cAb9dWk8sRlHJUgzF4gXaM8m7MRL0
X-Received: by 2002:a17:90b:3503:b0:2ee:d96a:5831 with SMTP id
 98e67ed59e1d1-2f782d7dc10mr47032303a91.30.1737760604279; 
 Fri, 24 Jan 2025 15:16:44 -0800 (PST)
Received: from postal.iol.unh.edu (postal.iol.unh.edu. [132.177.123.84])
 by smtp-relay.gmail.com with ESMTPS id
 98e67ed59e1d1-2f7ffa6b25esm143633a91.7.2025.01.24.15.16.44
 (version=TLS1_2 cipher=ECDHE-ECDSA-AES128-GCM-SHA256 bits=128/128);
 Fri, 24 Jan 2025 15:16:44 -0800 (PST)
X-Relaying-Domain: iol.unh.edu
Date: Fri, 24 Jan 2025 15:16:44 -0800 (PST)
Message-ID: <67941f5c.170a0220.27a628.912aSMTPIN_ADDED_MISSING@mx.google.com>
Received: from [172.21.0.5] (unknown [172.18.0.240])
 by postal.iol.unh.edu (Postfix) with ESMTP id 74DC26052471;
 Fri, 24 Jan 2025 18:16:43 -0500 (EST)
Subject: |WARNING| pw150458-150482 [PATCH] [v6,25/25] net/intel: extract comm
From: dpdklab@iol.unh.edu
To: Test Report <test-report@dpdk.org>
Cc: dpdk-test-reports@iol.unh.edu
In-Reply-To: <20250124162921.1406103-26-bruce.richardson@intel.com>
References: <20250124162921.1406103-26-bruce.richardson@intel.com>
Content-Type: text/plain
X-BeenThere: test-report@dpdk.org
X-Mailman-Version: 2.1.29
Precedence: list
List-Id: automatic DPDK test reports <test-report.dpdk.org>
List-Unsubscribe: <https://mails.dpdk.org/options/test-report>,
 <mailto:test-report-request@dpdk.org?subject=unsubscribe>
List-Archive: <http://mails.dpdk.org/archives/test-report/>
List-Post: <mailto:test-report@dpdk.org>
List-Help: <mailto:test-report-request@dpdk.org?subject=help>
List-Subscribe: <https://mails.dpdk.org/listinfo/test-report>,
 <mailto:test-report-request@dpdk.org?subject=subscribe>
Errors-To: test-report-bounces@dpdk.org

Test-Label: iol-compile-amd64-testing
Test-Status: WARNING
http://dpdk.org/patch/150482

_Testing issues_

Submitter: Bruce Richardson <bruce.richardson@intel.com>
Date: Friday, January 24 2025 16:29:20 
DPDK git baseline: Repo:dpdk
  Branch: master
  CommitID:5b856206c74bbcf19e12cafa15382a7e15b0a1b5

150458-150482 --> testing issues

Upstream job id: Generic-DPDK-Compile-Meson#354760

Test environment and result as below:

+---------------------+-------------------+--------------------+------------------+-------------------+
|     Environment     | dpdk_msvc_compile | dpdk_meson_compile | dpdk_compile_ovs | dpdk_compile_spdk |
+=====================+===================+====================+==================+===================+
| Windows Server 2022 | PASS              | SKIPPED            | SKIPPED          | SKIPPED           |
+---------------------+-------------------+--------------------+------------------+-------------------+
| FreeBSD 13.4        | SKIPPED           | PASS               | SKIPPED          | SKIPPED           |
+---------------------+-------------------+--------------------+------------------+-------------------+
| FreeBSD 14.2        | SKIPPED           | PASS               | SKIPPED          | SKIPPED           |
+---------------------+-------------------+--------------------+------------------+-------------------+
| Debian Bullseye     | SKIPPED           | PASS               | PASS             | PASS              |
+---------------------+-------------------+--------------------+------------------+-------------------+
| Debian 12           | SKIPPED           | PASS               | PASS             | PASS              |
+---------------------+-------------------+--------------------+------------------+-------------------+
| Fedora 40 (Clang)   | SKIPPED           | PASS               | PASS             | PASS              |
+---------------------+-------------------+--------------------+------------------+-------------------+
| Fedora 40           | SKIPPED           | PASS               | PASS             | PASS              |
+---------------------+-------------------+--------------------+------------------+-------------------+
| Fedora 41 (Clang)   | SKIPPED           | PASS               | PASS             | PASS              |
+---------------------+-------------------+--------------------+------------------+-------------------+
| Fedora 41           | SKIPPED           | PASS               | PASS             | PASS              |
+---------------------+-------------------+--------------------+------------------+-------------------+
| openSUSE Leap 15    | SKIPPED           | PASS               | SKIPPED          | SKIPPED           |
+---------------------+-------------------+--------------------+------------------+-------------------+
| RHEL8               | SKIPPED           | PASS               | PASS             | SKIPPED           |
+---------------------+-------------------+--------------------+------------------+-------------------+
| Ubuntu 20.04        | SKIPPED           | PASS               | WARN             | SKIPPED           |
+---------------------+-------------------+--------------------+------------------+-------------------+
| Ubuntu 22.04        | SKIPPED           | PASS               | PASS             | PASS              |
+---------------------+-------------------+--------------------+------------------+-------------------+
| Ubuntu 24.04        | SKIPPED           | PASS               | PASS             | PASS              |
+---------------------+-------------------+--------------------+------------------+-------------------+
| Alpine              | SKIPPED           | PASS               | PASS             | SKIPPED           |
+---------------------+-------------------+--------------------+------------------+-------------------+
| CentOS Stream 9     | SKIPPED           | PASS               | PASS             | PASS              |
+---------------------+-------------------+--------------------+------------------+-------------------+
| RHEL9               | SKIPPED           | PASS               | PASS             | SKIPPED           |
+---------------------+-------------------+--------------------+------------------+-------------------+

==== 20 line log output for Ubuntu 20.04 (dpdk_compile_ovs): ====
 --- Failed to get log output --- 
==== End log output ====

Windows Server 2022
	Kernel: 10.0.20348.2031
	Compiler: clang 15.0.7, gcc 14.1.0 (MinGW), and MSVC VS 19.39.33521

FreeBSD 13.4
	Kernel: 13.4-RELEASE-p1
	Compiler: clang 18.1.6

FreeBSD 14.2
	Kernel: 14.2-RELEASE
	Compiler: clang 18.1.6

Debian Bullseye
	Kernel: Depends on container host
	Compiler: gcc (Debian 10.2.1-6) 10.2.1 20210110

Debian 12
	Kernel: Depends on container host
	Compiler: gcc (Debian 12.2.0-14) 12.2.0

Fedora 40 (Clang)
	Kernel: Depends on container host
	Compiler: clang 18.1.8 (Fedora 18.1.8-1.fc40)

Fedora 40
	Kernel: Depends on container host
	Compiler: gcc 14.2.1 20240912 (Red Hat 14.2.1-3)

Fedora 41 (Clang)
	Kernel: Depends on container host
	Compiler: clang 19.1.5 (Fedora 19.1.5-1.fc41)

Fedora 41
	Kernel: Depends on container host
	Compiler: gcc 14.2.1 20240912 (Red Hat 14.2.1-3)

openSUSE Leap 15
	Kernel: Depends on container host
	Compiler: gcc (SUSE Linux) 7.5.0

RHEL8
	Kernel: Depends on container host
	Compiler: gcc 8.5.0 20210514 (Red Hat 8.5.0-22)

Ubuntu 20.04
	Kernel: Depends on container host
	Compiler: gcc (Ubuntu 9.4.0-1ubuntu1~20.04.2) 9.4.0

Ubuntu 22.04
	Kernel: Depends on container host
	Compiler: gcc (Ubuntu 11.4.0-1ubuntu1~22.04) 11.4.0

Ubuntu 24.04
	Kernel: Depends on container host
	Compiler: gcc (Ubuntu 13.3.0-6ubuntu2~24.04) 13.3.0

Alpine
	Kernel: Depends on container host
	Compiler: gcc (Alpine 14.2.0) 14.2.0

CentOS Stream 9
	Kernel: Depends on container host
	Compiler: gcc 11.5.0 20240719 (Red Hat 11.5.0-2)

RHEL9
	Kernel: Depends on container host
	Compiler: gcc 11.5.0 20240719 (Red Hat 11.5.0-2)

To view detailed results, visit:
https://lab.dpdk.org/results/dashboard/patchsets/32417/

UNH-IOL DPDK Community Lab

To manage your email subscriptions, visit: 
https://lab.dpdk.org/results/dashboard/preferences/subscriptions/