From mboxrd@z Thu Jan  1 00:00:00 1970
Return-Path: <test-report-bounces@dpdk.org>
Received: from mails.dpdk.org (mails.dpdk.org [217.70.189.124])
	by inbox.dpdk.org (Postfix) with ESMTP id 5559146102
	for <public@inbox.dpdk.org>; Sat, 25 Jan 2025 00:24:25 +0100 (CET)
Received: from mails.dpdk.org (localhost [127.0.0.1])
	by mails.dpdk.org (Postfix) with ESMTP id 239B940151;
	Sat, 25 Jan 2025 00:24:25 +0100 (CET)
Received: from mail-oa1-f97.google.com (mail-oa1-f97.google.com
 [209.85.160.97]) by mails.dpdk.org (Postfix) with ESMTP id 7C2F54014F
 for <test-report@dpdk.org>; Sat, 25 Jan 2025 00:24:23 +0100 (CET)
Received: by mail-oa1-f97.google.com with SMTP id
 586e51a60fabf-29e842cb9b4so870780fac.2
 for <test-report@dpdk.org>; Fri, 24 Jan 2025 15:24:23 -0800 (PST)
DKIM-Signature: v=1; a=rsa-sha256; c=relaxed/relaxed;
 d=iol.unh.edu; s=unh-iol; t=1737761063; x=1738365863; darn=dpdk.org;
 h=references:in-reply-to:cc:to:from:subject:message-id:date:from:to
 :cc:subject:date:message-id:reply-to;
 bh=IS/XtvX2lWtoHxexBqFDxYk6Rtd5sYpBRnjpecJfGjs=;
 b=LYsmFEllc4i3jan3F6mMB4n525Yd7M0IEYeJGJVAB24nHS7oW7L+GpH2L3wNXySZU8
 dOQ5v/3Nrpod/TQ5pbO5/q1tpNN01WT1oRwppHhzEAc/eTWstjdjbdtrRrFyn12ZthFJ
 Dmdp4kiPZdyQ41en7EJcSuNim5yJYOk3u0I14=
X-Google-DKIM-Signature: v=1; a=rsa-sha256; c=relaxed/relaxed;
 d=1e100.net; s=20230601; t=1737761063; x=1738365863;
 h=references:in-reply-to:cc:to:from:subject:message-id:date
 :x-gm-message-state:from:to:cc:subject:date:message-id:reply-to;
 bh=IS/XtvX2lWtoHxexBqFDxYk6Rtd5sYpBRnjpecJfGjs=;
 b=TqybKV5eBslidALM2V5OwWkY0aewRKH7lh7HopjkmvufafeuHTHpWo+jpa2Vk6gnyf
 c+4GYTk0TUMJ10FDyT5yVzZl1NNdISoJhezXS3xnU3focAF0VMw2xglg3HvOAQmhU+dQ
 pAQVokgCmjbidqF0bxtdyrbBMZQU96m24jWzSrdY0wS2OFucl6FviZ9RQEUdfMfEl9dI
 g8lJ3bvc8r+E8PvTleceISEcyiIi2keHWGd8WOxImuNDRbaSVP3kJe5JCtJzorJtSps6
 Q/S8e2jDqFZgNJuSDU1oiCmnRi3dcs86pGwTmIDSVY0ft8Qfjfz8AZPget3DTNkotRhW
 fRuQ==
X-Gm-Message-State: AOJu0YzpnjptjbCmQIs8jmu10kVFQ3D7ehtDGucczqdaKrQeRqa49plE
 Lf7Izu/CQxuDtrHSrH88Fsu+SOaPII0FSx6vJkp3RdfQxVaPwykWghSSi2OxiH71hDItogz2gL6
 frhzkXmTucncrHH/X3FSRq4LBE7NYgPppMbBY9q4n
X-Gm-Gg: ASbGncsMnmagQXixt+zXax/YlgrIcZ0rbKnn0/3ewha7MoP0ffXeyUGomnofL/fXX2n
 EModtgrDvA9S3PhnnfbUcBCZwWqzQoopnJzhPnk2p8BEQOR3LNIyHpAwqY0qGPyrfOlm7fBj5gC
 2v6k2VT/18lq7zGa66YJbNgBW9l4aUOAE314q1VgmqV6LIidKC6nUcGy/81+ymJ9CEYD9//QdnU
 LEG2cHsQrLLHzRV6EQPfX0UzpwzOzxTg1gc7BH/ATEGCJ5fwmaRZrnLASi/Wl1PKO1RRimzXM2n
 1DFjNlIW1qZ/9jFSQ8MfK8GM3Dw8Qw==
X-Google-Smtp-Source: AGHT+IGaq5lperXRNZfWysyf6Su0NbFgxlDyAspNbJg2mWA7NgtLhh83pXP3cXmRmgC0/ZX17Iiiw8Q8hQJc
X-Received: by 2002:a05:6871:a917:b0:296:c3cf:39ed with SMTP id
 586e51a60fabf-2b1c0ce70a4mr17813193fac.38.1737761062789; 
 Fri, 24 Jan 2025 15:24:22 -0800 (PST)
Received: from postal.iol.unh.edu (postal.iol.unh.edu. [132.177.123.84])
 by smtp-relay.gmail.com with ESMTPS id
 586e51a60fabf-2b28f5143d3sm167503fac.39.2025.01.24.15.24.22
 (version=TLS1_2 cipher=ECDHE-ECDSA-AES128-GCM-SHA256 bits=128/128);
 Fri, 24 Jan 2025 15:24:22 -0800 (PST)
X-Relaying-Domain: iol.unh.edu
Date: Fri, 24 Jan 2025 15:24:22 -0800 (PST)
Message-ID: <67942126.050a0220.2a44ea.a96aSMTPIN_ADDED_MISSING@mx.google.com>
Received: from [172.21.0.9] (unknown [172.18.0.240])
 by postal.iol.unh.edu (Postfix) with ESMTP id 3D5126052471;
 Fri, 24 Jan 2025 18:24:22 -0500 (EST)
Subject: |SUCCESS| pw150456-150457 [PATCH] [2/2] dmadev: avoid copies in trac
From: dpdklab@iol.unh.edu
To: Test Report <test-report@dpdk.org>
Cc: dpdk-test-reports@iol.unh.edu
In-Reply-To: <20250124161408.310581-2-david.marchand@redhat.com>
References: <20250124161408.310581-2-david.marchand@redhat.com>
Content-Type: text/plain
X-BeenThere: test-report@dpdk.org
X-Mailman-Version: 2.1.29
Precedence: list
List-Id: automatic DPDK test reports <test-report.dpdk.org>
List-Unsubscribe: <https://mails.dpdk.org/options/test-report>,
 <mailto:test-report-request@dpdk.org?subject=unsubscribe>
List-Archive: <http://mails.dpdk.org/archives/test-report/>
List-Post: <mailto:test-report@dpdk.org>
List-Help: <mailto:test-report-request@dpdk.org?subject=help>
List-Subscribe: <https://mails.dpdk.org/listinfo/test-report>,
 <mailto:test-report-request@dpdk.org?subject=subscribe>
Errors-To: test-report-bounces@dpdk.org

Test-Label: iol-compile-arm64-testing
Test-Status: SUCCESS
http://dpdk.org/patch/150457

_Testing PASS_

Submitter: David Marchand <david.marchand@redhat.com>
Date: Friday, January 24 2025 16:14:08 
DPDK git baseline: Repo:dpdk
  Branch: master
  CommitID:5b856206c74bbcf19e12cafa15382a7e15b0a1b5

150456-150457 --> testing pass

Upstream job id: Generic-DPDK-Compile-Meson#354809

Test environment and result as below:

+----------------------------------------+--------------------+
|              Environment               | dpdk_meson_compile |
+========================================+====================+
| RHEL9 (ARM)                            | PASS               |
+----------------------------------------+--------------------+
| Debian 12 with MUSDK                   | PASS               |
+----------------------------------------+--------------------+
| Ubuntu 20.04 ARM GCC Cross Compile     | PASS               |
+----------------------------------------+--------------------+
| Ubuntu 20.04 ARM SVE                   | PASS               |
+----------------------------------------+--------------------+
| Fedora 40 (ARM)                        | PASS               |
+----------------------------------------+--------------------+
| Fedora 40 (ARM Clang)                  | PASS               |
+----------------------------------------+--------------------+
| Fedora 41 (ARM)                        | PASS               |
+----------------------------------------+--------------------+
| Fedora 41 (ARM Clang)                  | PASS               |
+----------------------------------------+--------------------+
| Ubuntu 20.04 (ARM)                     | PASS               |
+----------------------------------------+--------------------+
| Ubuntu 22.04 (ARM)                     | PASS               |
+----------------------------------------+--------------------+
| Ubuntu 24.04 (ARM)                     | PASS               |
+----------------------------------------+--------------------+
| CentOS Stream 9 (ARM)                  | PASS               |
+----------------------------------------+--------------------+
| Debian 11 (Buster) (ARM)               | PASS               |
+----------------------------------------+--------------------+
| Debian 12 (arm)                        | PASS               |
+----------------------------------------+--------------------+
| Ubuntu 20.04 ARM Clang Cross Compile   | PASS               |
+----------------------------------------+--------------------+
| Ubuntu 20.04 aarch32 GCC Cross Compile | PASS               |
+----------------------------------------+--------------------+


RHEL9 (ARM)
	Kernel: Depends on container host
	Compiler: gcc 11.5.0 20240719 (Red Hat 11.5.0-2)

Debian 12 with MUSDK
	Kernel: Depends on container host
	Compiler: gcc (Debian 12.2.0-14) 12.2.0

Ubuntu 20.04 ARM GCC Cross Compile
	Kernel: Depends on container host
	Compiler: aarch64-linux-gnu-gcc (Ubuntu 9.4.0-1ubuntu1~20.04.2) 9.4.0

Ubuntu 20.04 ARM SVE
	Kernel: Depends on container host
	Compiler: gcc (Ubuntu 10.5.0-1ubuntu1~20.04) 10.5.0

Fedora 40 (ARM)
	Kernel: Depends on container host
	Compiler: gcc 14.2.1 20240912 (Red Hat 14.2.1-3)

Fedora 40 (ARM Clang)
	Kernel: Depends on container host
	Compiler: clang 18.1.8 (Fedora 18.1.8-1.fc40)

Fedora 41 (ARM)
	Kernel: Depends on container host
	Compiler: gcc 14.2.1 20240912 (Red Hat 14.2.1-3)

Fedora 41 (ARM Clang)
	Kernel: Depends on container host
	Compiler: clang 19.1.5 (Fedora 19.1.5-1.fc41)

Ubuntu 20.04 (ARM)
	Kernel: Depends on container host
	Compiler: gcc (Ubuntu 9.4.0-1ubuntu1~20.04.2) 9.4.0

Ubuntu 22.04 (ARM)
	Kernel: Depends on container host
	Compiler: gcc (Ubuntu 11.4.0-1ubuntu1~22.04) 11.4.0

Ubuntu 24.04 (ARM)
	Kernel: Depends on container host
	Compiler: gcc (Ubuntu 13.3.0-6ubuntu2~24.04) 13.3.0

CentOS Stream 9 (ARM)
	Kernel: Depends on container host
	Compiler: gcc 11.5.0 20240719 (Red Hat 11.5.0-2)

Debian 11 (Buster) (ARM)
	Kernel: Depends on container host
	Compiler: gcc (Debian 10.2.1-6) 10.2.1 20210110

Debian 12 (arm)
	Kernel: Depends on container host
	Compiler: gcc (Debian 12.2.0-14) 12.2.0

Ubuntu 20.04 ARM Clang Cross Compile
	Kernel: Depends on container host
	Compiler: clang 10.0.0-4ubuntu1

Ubuntu 20.04 aarch32 GCC Cross Compile
	Kernel: Depends on container host
	Compiler: gcc 9.4.0

To view detailed results, visit:
https://lab.dpdk.org/results/dashboard/patchsets/32416/

UNH-IOL DPDK Community Lab

To manage your email subscriptions, visit: 
https://lab.dpdk.org/results/dashboard/preferences/subscriptions/