From mboxrd@z Thu Jan  1 00:00:00 1970
Return-Path: <test-report-bounces@dpdk.org>
Received: from mails.dpdk.org (mails.dpdk.org [217.70.189.124])
	by inbox.dpdk.org (Postfix) with ESMTP id 6CCDC46102
	for <public@inbox.dpdk.org>; Sat, 25 Jan 2025 01:08:55 +0100 (CET)
Received: from mails.dpdk.org (localhost [127.0.0.1])
	by mails.dpdk.org (Postfix) with ESMTP id F366640151;
	Sat, 25 Jan 2025 01:08:54 +0100 (CET)
Received: from mail-pl1-f228.google.com (mail-pl1-f228.google.com
 [209.85.214.228])
 by mails.dpdk.org (Postfix) with ESMTP id 7A8E64014F
 for <test-report@dpdk.org>; Sat, 25 Jan 2025 01:08:54 +0100 (CET)
Received: by mail-pl1-f228.google.com with SMTP id
 d9443c01a7336-21a7ed0155cso46478595ad.3
 for <test-report@dpdk.org>; Fri, 24 Jan 2025 16:08:54 -0800 (PST)
DKIM-Signature: v=1; a=rsa-sha256; c=relaxed/relaxed;
 d=iol.unh.edu; s=unh-iol; t=1737763734; x=1738368534; darn=dpdk.org;
 h=references:in-reply-to:cc:to:from:subject:message-id:date:from:to
 :cc:subject:date:message-id:reply-to;
 bh=AXgIqztJUobgiiZi10m4KtXZs/G/BARGY8CZX5WpPBI=;
 b=WDekAyn1cRdtN6iEaERor9iwRvnH+50/Ob3R41yUEyePssWgj7d4akpKfve0Sjk1Gc
 wNRsLdCGPUFdXYwhiwN3TiDQtV50C8Twr5uIL9n3DZU57tJ6DPjXqM6su3XoUxmDk+a5
 gX5/17i9AcED69RHSywubwt2rRAB/WqXAqKdg=
X-Google-DKIM-Signature: v=1; a=rsa-sha256; c=relaxed/relaxed;
 d=1e100.net; s=20230601; t=1737763734; x=1738368534;
 h=references:in-reply-to:cc:to:from:subject:message-id:date
 :x-gm-message-state:from:to:cc:subject:date:message-id:reply-to;
 bh=AXgIqztJUobgiiZi10m4KtXZs/G/BARGY8CZX5WpPBI=;
 b=j1iKr9M6FALcSYUNnAKxYWmXk/SOcEagI6ZkQjNqU+S53g0mI+54Bq8fExUZykE041
 EJzXQ7d17mufqvS1V8OVo4YIoI6ux+EqOFRg52tFmVb/0zX7A4eppL3JFBgCEOipkUEw
 8v1s8NooypHKToqwjCAkOmfF7RZ9XT263GHdwgnw9lGchDls+4krx6BUkpJNYdB3/in4
 6lEKNHaVkXcNmYS5CFXaPWINwO/v/z+wwu+5+6NIwYJTKN0dEsla3qUawCArHm8sBy+Q
 zZAEYFm7TqEQ40aUPwlswhif9X7Ayz1C1y8S1QVz1fWCT+TvVMTcjWo4f6q1wVlfWPV4
 nhLw==
X-Gm-Message-State: AOJu0YyXYOJJdQemvOkm3V4DHFmAbKroYmlOLTOGZtGc+3DABFz6Mv2i
 HBK2u+GFb1RXVrEyGcVChxGQpRxxSuPKsTEpNtpiHb0ajNaropTv2/h5vZ0wyqO+MFfcv8z4Qmz
 eW2ZK7xEuUdEb221IYLulCHfSNAn3TVUo1FlhRQE16GWFO0ABLAnr5asR
X-Gm-Gg: ASbGncvIP4ddADJ97EYNeyJnEmecy9bV93k9NiD7FtSJ9idL9KqchLZZCa64J3SYWT9
 wpy4XT8mRQB51ryqWj+23uUeqQ8dlPiuU37SL9VO2SpKINgXwqvkIDoc9b0fsgCCe+aVC3/RLKg
 FPE3Peb8FU3GJqgXPfkPnVzDkFkenbMARMxfnH5NjbG8ygbYrFiBEeXf3BYE0bcfws46VsCRdjC
 UsZophzITfgUuoKS6xW8Cgh7O30wno9OMSNf8liX0YL3I1v8av0FoPC/yRBw35OK9E/6RCbTx3p
 Hrf6o7XgLw3PtP5jL+IpH8DYiBEYGXJYp5CqUAbErw==
X-Google-Smtp-Source: AGHT+IHP4yJuWHORlFQKkiDYL0FtQ203WQU5YWwayYOSre/MKOD2OnAuDYVgOnZdF2juek5YuJuhokcETGoV
X-Received: by 2002:a17:903:2344:b0:210:fce4:11ec with SMTP id
 d9443c01a7336-21c352ddf4emr536338895ad.1.1737763733731; 
 Fri, 24 Jan 2025 16:08:53 -0800 (PST)
Received: from postal.iol.unh.edu (postal.iol.unh.edu.
 [2606:4100:3880:1234::84]) by smtp-relay.gmail.com with ESMTPS id
 d9443c01a7336-21da3d9e036sm1121335ad.1.2025.01.24.16.08.53
 (version=TLS1_2 cipher=ECDHE-ECDSA-AES128-GCM-SHA256 bits=128/128);
 Fri, 24 Jan 2025 16:08:53 -0800 (PST)
X-Relaying-Domain: iol.unh.edu
Date: Fri, 24 Jan 2025 16:08:53 -0800 (PST)
Message-ID: <67942b95.170a0220.1faaee.6ea9SMTPIN_ADDED_MISSING@mx.google.com>
Received: from [172.21.0.6] (unknown [172.18.0.240])
 by postal.iol.unh.edu (Postfix) with ESMTP id D9AD56052471;
 Fri, 24 Jan 2025 19:08:52 -0500 (EST)
Subject: |WARNING| pw150458-150482 [PATCH] [v6,25/25] net/intel: extract comm
From: dpdklab@iol.unh.edu
To: Test Report <test-report@dpdk.org>
Cc: dpdk-test-reports@iol.unh.edu
In-Reply-To: <20250124162921.1406103-26-bruce.richardson@intel.com>
References: <20250124162921.1406103-26-bruce.richardson@intel.com>
Content-Type: text/plain
X-BeenThere: test-report@dpdk.org
X-Mailman-Version: 2.1.29
Precedence: list
List-Id: automatic DPDK test reports <test-report.dpdk.org>
List-Unsubscribe: <https://mails.dpdk.org/options/test-report>,
 <mailto:test-report-request@dpdk.org?subject=unsubscribe>
List-Archive: <http://mails.dpdk.org/archives/test-report/>
List-Post: <mailto:test-report@dpdk.org>
List-Help: <mailto:test-report-request@dpdk.org?subject=help>
List-Subscribe: <https://mails.dpdk.org/listinfo/test-report>,
 <mailto:test-report-request@dpdk.org?subject=subscribe>
Errors-To: test-report-bounces@dpdk.org

Test-Label: iol-compile-amd64-testing
Test-Status: WARNING
http://dpdk.org/patch/150482

_Testing issues_

Submitter: Bruce Richardson <bruce.richardson@intel.com>
Date: Friday, January 24 2025 16:29:20 
DPDK git baseline: Repo:dpdk
  Branch: master
  CommitID:5b856206c74bbcf19e12cafa15382a7e15b0a1b5

150458-150482 --> testing issues

Upstream job id: Windows-Compile-DPDK-Native#26100

Test environment and result as below:

+---------------------+-------------------+--------------------+------------------+-------------------+----------------------+
|     Environment     | dpdk_msvc_compile | dpdk_meson_compile | dpdk_compile_ovs | dpdk_compile_spdk | dpdk_mingw64_compile |
+=====================+===================+====================+==================+===================+======================+
| Windows Server 2022 | PASS              | SKIPPED            | SKIPPED          | SKIPPED           | PASS                 |
+---------------------+-------------------+--------------------+------------------+-------------------+----------------------+
| FreeBSD 13.4        | SKIPPED           | PASS               | SKIPPED          | SKIPPED           | SKIPPED              |
+---------------------+-------------------+--------------------+------------------+-------------------+----------------------+
| FreeBSD 14.2        | SKIPPED           | PASS               | SKIPPED          | SKIPPED           | SKIPPED              |
+---------------------+-------------------+--------------------+------------------+-------------------+----------------------+
| Debian Bullseye     | SKIPPED           | PASS               | PASS             | PASS              | SKIPPED              |
+---------------------+-------------------+--------------------+------------------+-------------------+----------------------+
| Debian 12           | SKIPPED           | PASS               | PASS             | PASS              | SKIPPED              |
+---------------------+-------------------+--------------------+------------------+-------------------+----------------------+
| Fedora 40 (Clang)   | SKIPPED           | PASS               | PASS             | PASS              | SKIPPED              |
+---------------------+-------------------+--------------------+------------------+-------------------+----------------------+
| Fedora 40           | SKIPPED           | PASS               | PASS             | PASS              | SKIPPED              |
+---------------------+-------------------+--------------------+------------------+-------------------+----------------------+
| Fedora 41 (Clang)   | SKIPPED           | PASS               | PASS             | PASS              | SKIPPED              |
+---------------------+-------------------+--------------------+------------------+-------------------+----------------------+
| Fedora 41           | SKIPPED           | PASS               | PASS             | PASS              | SKIPPED              |
+---------------------+-------------------+--------------------+------------------+-------------------+----------------------+
| openSUSE Leap 15    | SKIPPED           | PASS               | SKIPPED          | SKIPPED           | SKIPPED              |
+---------------------+-------------------+--------------------+------------------+-------------------+----------------------+
| RHEL8               | SKIPPED           | PASS               | PASS             | SKIPPED           | SKIPPED              |
+---------------------+-------------------+--------------------+------------------+-------------------+----------------------+
| Ubuntu 20.04        | SKIPPED           | PASS               | WARN             | SKIPPED           | SKIPPED              |
+---------------------+-------------------+--------------------+------------------+-------------------+----------------------+
| Ubuntu 22.04        | SKIPPED           | PASS               | PASS             | PASS              | SKIPPED              |
+---------------------+-------------------+--------------------+------------------+-------------------+----------------------+
| Ubuntu 24.04        | SKIPPED           | PASS               | PASS             | PASS              | SKIPPED              |
+---------------------+-------------------+--------------------+------------------+-------------------+----------------------+
| Alpine              | SKIPPED           | PASS               | PASS             | SKIPPED           | SKIPPED              |
+---------------------+-------------------+--------------------+------------------+-------------------+----------------------+
| CentOS Stream 9     | SKIPPED           | PASS               | PASS             | PASS              | SKIPPED              |
+---------------------+-------------------+--------------------+------------------+-------------------+----------------------+
| RHEL9               | SKIPPED           | PASS               | PASS             | SKIPPED           | SKIPPED              |
+---------------------+-------------------+--------------------+------------------+-------------------+----------------------+

==== 20 line log output for Ubuntu 20.04 (dpdk_compile_ovs): ====
 --- Failed to get log output --- 
==== End log output ====

Windows Server 2022
	Kernel: 10.0.20348.2031
	Compiler: clang 15.0.7, gcc 14.1.0 (MinGW), and MSVC VS 19.39.33521

FreeBSD 13.4
	Kernel: 13.4-RELEASE-p1
	Compiler: clang 18.1.6

FreeBSD 14.2
	Kernel: 14.2-RELEASE
	Compiler: clang 18.1.6

Debian Bullseye
	Kernel: Depends on container host
	Compiler: gcc (Debian 10.2.1-6) 10.2.1 20210110

Debian 12
	Kernel: Depends on container host
	Compiler: gcc (Debian 12.2.0-14) 12.2.0

Fedora 40 (Clang)
	Kernel: Depends on container host
	Compiler: clang 18.1.8 (Fedora 18.1.8-1.fc40)

Fedora 40
	Kernel: Depends on container host
	Compiler: gcc 14.2.1 20240912 (Red Hat 14.2.1-3)

Fedora 41 (Clang)
	Kernel: Depends on container host
	Compiler: clang 19.1.5 (Fedora 19.1.5-1.fc41)

Fedora 41
	Kernel: Depends on container host
	Compiler: gcc 14.2.1 20240912 (Red Hat 14.2.1-3)

openSUSE Leap 15
	Kernel: Depends on container host
	Compiler: gcc (SUSE Linux) 7.5.0

RHEL8
	Kernel: Depends on container host
	Compiler: gcc 8.5.0 20210514 (Red Hat 8.5.0-22)

Ubuntu 20.04
	Kernel: Depends on container host
	Compiler: gcc (Ubuntu 9.4.0-1ubuntu1~20.04.2) 9.4.0

Ubuntu 22.04
	Kernel: Depends on container host
	Compiler: gcc (Ubuntu 11.4.0-1ubuntu1~22.04) 11.4.0

Ubuntu 24.04
	Kernel: Depends on container host
	Compiler: gcc (Ubuntu 13.3.0-6ubuntu2~24.04) 13.3.0

Alpine
	Kernel: Depends on container host
	Compiler: gcc (Alpine 14.2.0) 14.2.0

CentOS Stream 9
	Kernel: Depends on container host
	Compiler: gcc 11.5.0 20240719 (Red Hat 11.5.0-2)

RHEL9
	Kernel: Depends on container host
	Compiler: gcc 11.5.0 20240719 (Red Hat 11.5.0-2)

To view detailed results, visit:
https://lab.dpdk.org/results/dashboard/patchsets/32417/

UNH-IOL DPDK Community Lab

To manage your email subscriptions, visit: 
https://lab.dpdk.org/results/dashboard/preferences/subscriptions/