From mboxrd@z Thu Jan  1 00:00:00 1970
Return-Path: <test-report-bounces@dpdk.org>
Received: from mails.dpdk.org (mails.dpdk.org [217.70.189.124])
	by inbox.dpdk.org (Postfix) with ESMTP id EFF2646107
	for <public@inbox.dpdk.org>; Sat, 25 Jan 2025 06:07:16 +0100 (CET)
Received: from mails.dpdk.org (localhost [127.0.0.1])
	by mails.dpdk.org (Postfix) with ESMTP id ABAA5402B9;
	Sat, 25 Jan 2025 06:07:16 +0100 (CET)
Received: from mail-qv1-f98.google.com (mail-qv1-f98.google.com
 [209.85.219.98]) by mails.dpdk.org (Postfix) with ESMTP id AA5DA402B7
 for <test-report@dpdk.org>; Sat, 25 Jan 2025 06:07:15 +0100 (CET)
Received: by mail-qv1-f98.google.com with SMTP id
 6a1803df08f44-6d8ece4937fso24732476d6.2
 for <test-report@dpdk.org>; Fri, 24 Jan 2025 21:07:15 -0800 (PST)
DKIM-Signature: v=1; a=rsa-sha256; c=relaxed/relaxed;
 d=iol.unh.edu; s=unh-iol; t=1737781635; x=1738386435; darn=dpdk.org;
 h=references:in-reply-to:cc:to:from:subject:message-id:date:from:to
 :cc:subject:date:message-id:reply-to;
 bh=O1KESWFDxpBla/6/3GFXmwt97VC1PBfxfjnFUVCckzc=;
 b=YRyvXWo2lSpY2ADg2mODcFE3jCF+WhyqyK+qJeOoOsNq1YeseDQNhI/xZozuq+e1mb
 B5+5MKHW/JLyqjyRrs8Vf8T354UPdzhEOIG8kpSk9dyqrXqhUlS2d9c+w+ZmkePF8gxc
 cpv72amoxqYL6GkhqoixFqpeS7CYf+HT9W98Y=
X-Google-DKIM-Signature: v=1; a=rsa-sha256; c=relaxed/relaxed;
 d=1e100.net; s=20230601; t=1737781635; x=1738386435;
 h=references:in-reply-to:cc:to:from:subject:message-id:date
 :x-gm-message-state:from:to:cc:subject:date:message-id:reply-to;
 bh=O1KESWFDxpBla/6/3GFXmwt97VC1PBfxfjnFUVCckzc=;
 b=uZ3vKWSCFlqWn21UdjNRqopyq1b8z8MUjFD9x5vNIkpjoZkRYi9xeEFwUWPHikG6yM
 d37xv8D28nTUQxFmRIPc78LoByYzI/4O6L63VY+8f/zKOqGTPOnMGpbceYZZmE6uy+xN
 ta+wbg5aoGsUn1+s+V4k0maSL+hDk3DOk9v3/GJ/fqnZWHmt8wl/axm5CrpVRrAFiviD
 oE8d2Qig69EqGRYzDGGvAbTo0/bEWFD9DYEKJQuoNoe31YNreGx9ZX1zvYiThe5ITm6e
 SRcadUAj1Mkk8yUp9pHZIrFcIFJfL4yYyDZf01gN5qrP6JzMdCdEklWjR6NAVkhCwmBH
 TVQw==
X-Gm-Message-State: AOJu0Ywxsbm/nlciQN8mYWm4p3Ubki1UTvM7cF2VATewuF10IuLVK1ry
 1igFgMoLq6H2r+Kq3fA9Wgy6QMqSIcsG3BYaC2zIVbl7DC07RKzHiN7XPwbAwI8QJXEe0VfCUHg
 YBiq5+lknioic762iWodmDy22ZhhyBIGTBfLBJ4f/
X-Gm-Gg: ASbGncvE2YjrNICG3PWb/WSLrPXt8BzoDwJaVwPcB9qiXM2Svq4oLoOFk8hasqNqV6z
 9YR6gP9jUd6T5iESiZI4tlRytw/4FBm3AYS3SqvEfWMmOoKl+mfOm2qUTFU2mMZrEgu4AHjP+aY
 qRlV2qvUEnjS+2nV89MPCGp+VgxdDev2jqmhW6KMwhIaq9WtB/8iIinPZVI8zd4mWZrTVatditO
 4fxDBQ/Z7EcylDBQcr0J8bZmAuIE6blrYsou/2mkkic/YtmdlIMQWBYmMDy4+j7EzTi0XeZ8aym
 7SWjmOmLNpxNux/5WeZ0sVWSCEZi4A==
X-Google-Smtp-Source: AGHT+IF2OxfCUo3SprlkELx5Pj0x7sk8WOn1qYihuniYBrH5AFF9k27jzSbHSOLdDhdeMkzy+uctdXKV9VCN
X-Received: by 2002:a05:6214:cce:b0:6d8:ada3:26d3 with SMTP id
 6a1803df08f44-6e1b21786c4mr506094276d6.9.1737781635005; 
 Fri, 24 Jan 2025 21:07:15 -0800 (PST)
Received: from postal.iol.unh.edu (postal.iol.unh.edu. [132.177.123.84])
 by smtp-relay.gmail.com with ESMTPS id
 6a1803df08f44-6e205362963sm1571656d6.40.2025.01.24.21.07.14
 (version=TLS1_2 cipher=ECDHE-ECDSA-AES128-GCM-SHA256 bits=128/128);
 Fri, 24 Jan 2025 21:07:14 -0800 (PST)
X-Relaying-Domain: iol.unh.edu
Date: Fri, 24 Jan 2025 21:07:14 -0800 (PST)
Message-ID: <67947182.050a0220.362317.9784SMTPIN_ADDED_MISSING@mx.google.com>
Received: from [172.21.0.6] (unknown [172.18.0.240])
 by postal.iol.unh.edu (Postfix) with ESMTP id A3F0F6052471;
 Sat, 25 Jan 2025 00:07:14 -0500 (EST)
Subject: |SUCCESS| pw150484-150498 [PATCH] [v4,16/16] doc: add release note a
From: dpdklab@iol.unh.edu
To: Test Report <test-report@dpdk.org>
Cc: dpdk-test-reports@iol.unh.edu
In-Reply-To: <20250124181704.86567-17-stephen@networkplumber.org>
References: <20250124181704.86567-17-stephen@networkplumber.org>
Content-Type: text/plain
X-BeenThere: test-report@dpdk.org
X-Mailman-Version: 2.1.29
Precedence: list
List-Id: automatic DPDK test reports <test-report.dpdk.org>
List-Unsubscribe: <https://mails.dpdk.org/options/test-report>,
 <mailto:test-report-request@dpdk.org?subject=unsubscribe>
List-Archive: <http://mails.dpdk.org/archives/test-report/>
List-Post: <mailto:test-report@dpdk.org>
List-Help: <mailto:test-report-request@dpdk.org?subject=help>
List-Subscribe: <https://mails.dpdk.org/listinfo/test-report>,
 <mailto:test-report-request@dpdk.org?subject=subscribe>
Errors-To: test-report-bounces@dpdk.org

Test-Label: iol-abi-testing
Test-Status: SUCCESS
http://dpdk.org/patch/150498

_Testing PASS_

Submitter: Stephen Hemminger <stephen@networkplumber.org>
Date: Friday, January 24 2025 18:15:07 
DPDK git baseline: Repo:dpdk
  Branch: master
  CommitID:5b856206c74bbcf19e12cafa15382a7e15b0a1b5

150484-150498 --> testing pass

Upstream job id: Generic-DPDK-Compile-ABI#113661

Test environment and result as below:

+-------------------+----------+
|    Environment    | abi_test |
+===================+==========+
| CentOS Stream 9   | PASS     |
+-------------------+----------+
| Fedora 40 (Clang) | PASS     |
+-------------------+----------+
| Debian Bullseye   | PASS     |
+-------------------+----------+
| Ubuntu 24.04      | PASS     |
+-------------------+----------+
| Debian 12         | PASS     |
+-------------------+----------+
| RHEL8             | PASS     |
+-------------------+----------+
| Fedora 41 (Clang) | PASS     |
+-------------------+----------+
| RHEL9             | PASS     |
+-------------------+----------+
| Ubuntu 22.04      | PASS     |
+-------------------+----------+
| openSUSE Leap 15  | PASS     |
+-------------------+----------+
| Fedora 40         | PASS     |
+-------------------+----------+
| Fedora 41         | PASS     |
+-------------------+----------+


CentOS Stream 9
	Kernel: Depends on container host
	Compiler: gcc 11.5.0 20240719 (Red Hat 11.5.0-2)

Fedora 40 (Clang)
	Kernel: Depends on container host
	Compiler: clang 18.1.8 (Fedora 18.1.8-1.fc40)

Debian Bullseye
	Kernel: Depends on container host
	Compiler: gcc (Debian 10.2.1-6) 10.2.1 20210110

Ubuntu 24.04
	Kernel: Depends on container host
	Compiler: gcc (Ubuntu 13.3.0-6ubuntu2~24.04) 13.3.0

Debian 12
	Kernel: Depends on container host
	Compiler: gcc (Debian 12.2.0-14) 12.2.0

RHEL8
	Kernel: Depends on container host
	Compiler: gcc 8.5.0 20210514 (Red Hat 8.5.0-22)

Fedora 41 (Clang)
	Kernel: Depends on container host
	Compiler: clang 19.1.5 (Fedora 19.1.5-1.fc41)

RHEL9
	Kernel: Depends on container host
	Compiler: gcc 11.5.0 20240719 (Red Hat 11.5.0-2)

Ubuntu 22.04
	Kernel: Depends on container host
	Compiler: gcc (Ubuntu 11.4.0-1ubuntu1~22.04) 11.4.0

openSUSE Leap 15
	Kernel: Depends on container host
	Compiler: gcc (SUSE Linux) 7.5.0

Fedora 40
	Kernel: Depends on container host
	Compiler: gcc 14.2.1 20240912 (Red Hat 14.2.1-3)

Fedora 41
	Kernel: Depends on container host
	Compiler: gcc 14.2.1 20240912 (Red Hat 14.2.1-3)

To view detailed results, visit:
https://lab.dpdk.org/results/dashboard/patchsets/32419/

UNH-IOL DPDK Community Lab

To manage your email subscriptions, visit: 
https://lab.dpdk.org/results/dashboard/preferences/subscriptions/