From mboxrd@z Thu Jan  1 00:00:00 1970
Return-Path: <test-report-bounces@dpdk.org>
Received: from mails.dpdk.org (mails.dpdk.org [217.70.189.124])
	by inbox.dpdk.org (Postfix) with ESMTP id 8B6ED46107
	for <public@inbox.dpdk.org>; Sat, 25 Jan 2025 07:43:58 +0100 (CET)
Received: from mails.dpdk.org (localhost [127.0.0.1])
	by mails.dpdk.org (Postfix) with ESMTP id 404A5402B7;
	Sat, 25 Jan 2025 07:43:58 +0100 (CET)
Received: from mail-qv1-f98.google.com (mail-qv1-f98.google.com
 [209.85.219.98]) by mails.dpdk.org (Postfix) with ESMTP id A193A40279
 for <test-report@dpdk.org>; Sat, 25 Jan 2025 07:43:57 +0100 (CET)
Received: by mail-qv1-f98.google.com with SMTP id
 6a1803df08f44-6dd0d09215aso24398786d6.2
 for <test-report@dpdk.org>; Fri, 24 Jan 2025 22:43:57 -0800 (PST)
DKIM-Signature: v=1; a=rsa-sha256; c=relaxed/relaxed;
 d=iol.unh.edu; s=unh-iol; t=1737787437; x=1738392237; darn=dpdk.org;
 h=references:in-reply-to:cc:to:from:subject:message-id:date:from:to
 :cc:subject:date:message-id:reply-to;
 bh=EkP/y9GM5+w+ARjgngJ62Qukqip2q2Bcc0jHRAlK4jA=;
 b=R3x9qbQlMXE9NXkSkBgwL82IsyIE4B26r4aooypappPniSjQqSs/SvHRta0gbAaVC9
 sPvRl+n2lwQGjipBk2z0+P7Q71oD6isGbfm/utUEjwkCH7pPR3B3hrRq4VGEcdINAk1V
 FQWhBcPPeoN33soncywGOMqD1kQvzuFc4tMvo=
X-Google-DKIM-Signature: v=1; a=rsa-sha256; c=relaxed/relaxed;
 d=1e100.net; s=20230601; t=1737787437; x=1738392237;
 h=references:in-reply-to:cc:to:from:subject:message-id:date
 :x-gm-message-state:from:to:cc:subject:date:message-id:reply-to;
 bh=EkP/y9GM5+w+ARjgngJ62Qukqip2q2Bcc0jHRAlK4jA=;
 b=Lqcg2t4Ll9QABREWjkbr6d9eW0NqrB0aEeVEtCd7CuFEWG3OU3MH9YZFbWj2AD4YVV
 mnusqMLE5iWavcahW25VMz20YJ72MBv9iUaSmOhpZCQRtiZ+n717hBSPFLoDhrraxLm1
 o/CNF8MCn6e2pHUtuvP1YRi/NgkuPclWvlRz46615tiua1HICuQyFkTt88hKG+32KADF
 sbBHkxVRrlS7wbE5kgBy9ZTly0/denH1BRNoXp8xEq62bla4VJP988zKRUBOq0WFDn7l
 KUBprl5S78RGGiOPthFSok3+L1limbBldmQM6Rb1oa8g08XOWwU6yrxDfctve7i8+9RZ
 EW/g==
X-Gm-Message-State: AOJu0YxBZ931b8toJUKZ033Bh6MCOZg8C32MFWSz3Xuuc+L5j4RjmPuG
 kG3xuKldjkTw7M5m3K6OONAvG4X4Sa91XbGd0FRTwDE6i5yNlsEs20U1Q7laXAGY1oVtTGaKLlG
 IwXw2gtpy3TcVe0YlSh2lrbxXjNAjTTRXWgY2vzdQ
X-Gm-Gg: ASbGnct94/G+obbIcZjDfGmCvGWvx/m2fUwQL7syavj9p4hwGstuY3NyEnMmFVkSGVw
 Z7PQtsgvTtervZPN84PJ9cp5paMTlMLipJkIsbX10me0ASGp5UI0sf1IBoffOP6MVyaEcMK0Byt
 e6TyXNldfj/o0mShhZw4FvbKpQuUuKL6/4RorTVfKjNKaM/ii20Agj+4ta+Gy4Kc4fvqXvcjM2n
 +AvA0kDmnKNfffcvLOY0cEydRlf1PKsBOtJ07iTnHDrFCKlyZPgfK+nEKfEeubE7YGo18biynZd
 CBWFmhXZFKhuS1M3Gf1jezm4RIyYZw==
X-Google-Smtp-Source: AGHT+IH7B+2sikruQIYVzxXDwEsTTKOTjm/QnXVGSuCK3XKaV2hDYdDoD/bVPVXx6ueK09J017jTuUuETUXy
X-Received: by 2002:a05:6214:5002:b0:6d4:1c9d:4f47 with SMTP id
 6a1803df08f44-6e1b2141a31mr554321726d6.13.1737787437185; 
 Fri, 24 Jan 2025 22:43:57 -0800 (PST)
Received: from postal.iol.unh.edu (postal.iol.unh.edu. [132.177.123.84])
 by smtp-relay.gmail.com with ESMTPS id
 6a1803df08f44-6e205be5a89sm1655266d6.48.2025.01.24.22.43.57
 (version=TLS1_2 cipher=ECDHE-ECDSA-AES128-GCM-SHA256 bits=128/128);
 Fri, 24 Jan 2025 22:43:57 -0800 (PST)
X-Relaying-Domain: iol.unh.edu
Date: Fri, 24 Jan 2025 22:43:57 -0800 (PST)
Message-ID: <6794882d.d40a0220.269387.a454SMTPIN_ADDED_MISSING@mx.google.com>
Received: from [172.21.0.6] (unknown [172.18.0.240])
 by postal.iol.unh.edu (Postfix) with ESMTP id D66626052471;
 Sat, 25 Jan 2025 01:43:56 -0500 (EST)
Subject: |WARNING| pw150484-150498 [PATCH] [v4,16/16] doc: add release note a
From: dpdklab@iol.unh.edu
To: Test Report <test-report@dpdk.org>
Cc: dpdk-test-reports@iol.unh.edu
In-Reply-To: <20250124181704.86567-17-stephen@networkplumber.org>
References: <20250124181704.86567-17-stephen@networkplumber.org>
Content-Type: text/plain
X-BeenThere: test-report@dpdk.org
X-Mailman-Version: 2.1.29
Precedence: list
List-Id: automatic DPDK test reports <test-report.dpdk.org>
List-Unsubscribe: <https://mails.dpdk.org/options/test-report>,
 <mailto:test-report-request@dpdk.org?subject=unsubscribe>
List-Archive: <http://mails.dpdk.org/archives/test-report/>
List-Post: <mailto:test-report@dpdk.org>
List-Help: <mailto:test-report-request@dpdk.org?subject=help>
List-Subscribe: <https://mails.dpdk.org/listinfo/test-report>,
 <mailto:test-report-request@dpdk.org?subject=subscribe>
Errors-To: test-report-bounces@dpdk.org

Test-Label: iol-compile-amd64-testing
Test-Status: WARNING
http://dpdk.org/patch/150498

_Testing issues_

Submitter: Stephen Hemminger <stephen@networkplumber.org>
Date: Friday, January 24 2025 18:15:07 
DPDK git baseline: Repo:dpdk
  Branch: master
  CommitID:5b856206c74bbcf19e12cafa15382a7e15b0a1b5

150484-150498 --> testing issues

Upstream job id: Generic-DPDK-Compile-Meson#354952

Test environment and result as below:

+---------------------+--------------------+-------------------+------------------+-------------------+----------------------+
|     Environment     | dpdk_meson_compile | dpdk_msvc_compile | dpdk_compile_ovs | dpdk_compile_spdk | dpdk_mingw64_compile |
+=====================+====================+===================+==================+===================+======================+
| FreeBSD 13.4        | PASS               | SKIPPED           | SKIPPED          | SKIPPED           | SKIPPED              |
+---------------------+--------------------+-------------------+------------------+-------------------+----------------------+
| FreeBSD 14.2        | PASS               | SKIPPED           | SKIPPED          | SKIPPED           | SKIPPED              |
+---------------------+--------------------+-------------------+------------------+-------------------+----------------------+
| CentOS Stream 9     | PASS               | SKIPPED           | PASS             | PASS              | SKIPPED              |
+---------------------+--------------------+-------------------+------------------+-------------------+----------------------+
| Debian Bullseye     | PASS               | SKIPPED           | PASS             | PASS              | SKIPPED              |
+---------------------+--------------------+-------------------+------------------+-------------------+----------------------+
| Debian 12           | PASS               | SKIPPED           | PASS             | PASS              | SKIPPED              |
+---------------------+--------------------+-------------------+------------------+-------------------+----------------------+
| Fedora 40 (Clang)   | PASS               | SKIPPED           | PASS             | PASS              | SKIPPED              |
+---------------------+--------------------+-------------------+------------------+-------------------+----------------------+
| Fedora 40           | PASS               | SKIPPED           | PASS             | PASS              | SKIPPED              |
+---------------------+--------------------+-------------------+------------------+-------------------+----------------------+
| Fedora 41 (Clang)   | PASS               | SKIPPED           | PASS             | PASS              | SKIPPED              |
+---------------------+--------------------+-------------------+------------------+-------------------+----------------------+
| Fedora 41           | PASS               | SKIPPED           | PASS             | PASS              | SKIPPED              |
+---------------------+--------------------+-------------------+------------------+-------------------+----------------------+
| openSUSE Leap 15    | PASS               | SKIPPED           | SKIPPED          | SKIPPED           | SKIPPED              |
+---------------------+--------------------+-------------------+------------------+-------------------+----------------------+
| RHEL8               | PASS               | SKIPPED           | PASS             | SKIPPED           | SKIPPED              |
+---------------------+--------------------+-------------------+------------------+-------------------+----------------------+
| RHEL9               | PASS               | SKIPPED           | PASS             | SKIPPED           | SKIPPED              |
+---------------------+--------------------+-------------------+------------------+-------------------+----------------------+
| Ubuntu 20.04        | PASS               | SKIPPED           | WARN             | SKIPPED           | SKIPPED              |
+---------------------+--------------------+-------------------+------------------+-------------------+----------------------+
| Ubuntu 22.04        | PASS               | SKIPPED           | PASS             | PASS              | SKIPPED              |
+---------------------+--------------------+-------------------+------------------+-------------------+----------------------+
| Ubuntu 24.04        | PASS               | SKIPPED           | PASS             | PASS              | SKIPPED              |
+---------------------+--------------------+-------------------+------------------+-------------------+----------------------+
| Alpine              | PASS               | SKIPPED           | PASS             | SKIPPED           | SKIPPED              |
+---------------------+--------------------+-------------------+------------------+-------------------+----------------------+
| Windows Server 2022 | SKIPPED            | PASS              | SKIPPED          | SKIPPED           | PASS                 |
+---------------------+--------------------+-------------------+------------------+-------------------+----------------------+

==== 20 line log output for Ubuntu 20.04 (dpdk_compile_ovs): ====
 --- Failed to get log output --- 
==== End log output ====

FreeBSD 13.4
	Kernel: 13.4-RELEASE-p1
	Compiler: clang 18.1.6

FreeBSD 14.2
	Kernel: 14.2-RELEASE
	Compiler: clang 18.1.6

CentOS Stream 9
	Kernel: Depends on container host
	Compiler: gcc 11.5.0 20240719 (Red Hat 11.5.0-2)

Debian Bullseye
	Kernel: Depends on container host
	Compiler: gcc (Debian 10.2.1-6) 10.2.1 20210110

Debian 12
	Kernel: Depends on container host
	Compiler: gcc (Debian 12.2.0-14) 12.2.0

Fedora 40 (Clang)
	Kernel: Depends on container host
	Compiler: clang 18.1.8 (Fedora 18.1.8-1.fc40)

Fedora 40
	Kernel: Depends on container host
	Compiler: gcc 14.2.1 20240912 (Red Hat 14.2.1-3)

Fedora 41 (Clang)
	Kernel: Depends on container host
	Compiler: clang 19.1.5 (Fedora 19.1.5-1.fc41)

Fedora 41
	Kernel: Depends on container host
	Compiler: gcc 14.2.1 20240912 (Red Hat 14.2.1-3)

openSUSE Leap 15
	Kernel: Depends on container host
	Compiler: gcc (SUSE Linux) 7.5.0

RHEL8
	Kernel: Depends on container host
	Compiler: gcc 8.5.0 20210514 (Red Hat 8.5.0-22)

RHEL9
	Kernel: Depends on container host
	Compiler: gcc 11.5.0 20240719 (Red Hat 11.5.0-2)

Ubuntu 20.04
	Kernel: Depends on container host
	Compiler: gcc (Ubuntu 9.4.0-1ubuntu1~20.04.2) 9.4.0

Ubuntu 22.04
	Kernel: Depends on container host
	Compiler: gcc (Ubuntu 11.4.0-1ubuntu1~22.04) 11.4.0

Ubuntu 24.04
	Kernel: Depends on container host
	Compiler: gcc (Ubuntu 13.3.0-6ubuntu2~24.04) 13.3.0

Alpine
	Kernel: Depends on container host
	Compiler: gcc (Alpine 14.2.0) 14.2.0

Windows Server 2022
	Kernel: 10.0.20348.2031
	Compiler: clang 15.0.7, gcc 14.1.0 (MinGW), and MSVC VS 19.39.33521

To view detailed results, visit:
https://lab.dpdk.org/results/dashboard/patchsets/32419/

UNH-IOL DPDK Community Lab

To manage your email subscriptions, visit: 
https://lab.dpdk.org/results/dashboard/preferences/subscriptions/