From mboxrd@z Thu Jan  1 00:00:00 1970
Return-Path: <test-report-bounces@dpdk.org>
Received: from mails.dpdk.org (mails.dpdk.org [217.70.189.124])
	by inbox.dpdk.org (Postfix) with ESMTP id B6F0C46129
	for <public@inbox.dpdk.org>; Sun, 26 Jan 2025 22:31:20 +0100 (CET)
Received: from mails.dpdk.org (localhost [127.0.0.1])
	by mails.dpdk.org (Postfix) with ESMTP id B07DB40151;
	Sun, 26 Jan 2025 22:31:20 +0100 (CET)
Received: from mail-qv1-f98.google.com (mail-qv1-f98.google.com
 [209.85.219.98]) by mails.dpdk.org (Postfix) with ESMTP id 45774400D5
 for <test-report@dpdk.org>; Sun, 26 Jan 2025 22:31:19 +0100 (CET)
Received: by mail-qv1-f98.google.com with SMTP id
 6a1803df08f44-6d8e8cb8605so19576636d6.0
 for <test-report@dpdk.org>; Sun, 26 Jan 2025 13:31:19 -0800 (PST)
DKIM-Signature: v=1; a=rsa-sha256; c=relaxed/relaxed;
 d=iol.unh.edu; s=unh-iol; t=1737927078; x=1738531878; darn=dpdk.org;
 h=references:in-reply-to:cc:to:from:subject:message-id:date:from:to
 :cc:subject:date:message-id:reply-to;
 bh=PY4N5/OJSIilvMOgGlcqw90wa/wsLRhteyBlVQld9TQ=;
 b=afQz/+q/ojJ2e+9nyod/9HmDRcQah5nf/Z23yUS6YTX4P9C2R1jfJTOtdudUY4JQfS
 amjKvJadqHqai6GgITn5dmQQJXG7wG+6zWwdgNiE3PaM78t/stg0OTdyyhPAzpTT5s+v
 Q4auDmNCaU1PNoR4LqO+eQxUdy/rUlGBQJRIE=
X-Google-DKIM-Signature: v=1; a=rsa-sha256; c=relaxed/relaxed;
 d=1e100.net; s=20230601; t=1737927078; x=1738531878;
 h=references:in-reply-to:cc:to:from:subject:message-id:date
 :x-gm-message-state:from:to:cc:subject:date:message-id:reply-to;
 bh=PY4N5/OJSIilvMOgGlcqw90wa/wsLRhteyBlVQld9TQ=;
 b=AjTKr93MwUODX1OJ8qj+ebYOGfZL2OBF0h9tDC2g07LJQ3ag+B+PGXrrdxcan1Yq6n
 ucSV6dA7wT1s4fCK7jHoVlrS5V1FITcWRiWJ/oxK36k9tp9NPwlHIygJFC5McoyRwsru
 26jdywh22DkGaNIh0pJ6k2UIAQVfB2E3iAO7eWl6k2y7eZOpSw1yRVhATSfSfZa4NoSe
 EryUvdDZd6K9bddCiNtqdx+RjvHL6kjMFE+X8NbmORDI0/hk4eOXZOvJoK7RpNJjT11J
 sE7UstPpVBA3ie1uKBG+Yck/UoGm4ivJsS8BjXd2i3KtHs85A3GDjNs1VatTWJtikKwJ
 eXsA==
X-Gm-Message-State: AOJu0YwXeKNg6UjaB2LA2H3oyO9C9NRAKNIK6ibL62hSBKaliQJw0N+l
 2quF969481OTZJyRFZpNBQ3KC0DqBUtGnVMMUaY3dh4z+UPYfu2Q9a4rGpqBRmCbiq4agqAmWpw
 /7qWnMarRc61cYVjSSiIDcHvk4HhfQgIWr9nah/VZ
X-Gm-Gg: ASbGnctaaLNB5CC+rHYaDXzL+EaHXI1mopUHcikBenwKwO0UkjkZ8zolo3qsB4EVx3+
 P5Wo/mLJfvm8vpWGYpT17Td3wgwLvZQ3r4R1MZFrPnIBt7vH6oizDZNd5sdhKMysROQv7ZCtz9y
 CKbgvjlpW5Mr22Pigycg7FhC7lDXWT6SAwWszcLTZuqWbVIA3Alwup8epcTMAsUU8VuWGBoS54G
 ytYx/b3MSBtZWZJQ9I1U4PYNJ8oKWx3hWDfe79m9FieRjK69b3f4feNid4G0lu9MmIy8RWtDGEs
 tGEjP1F0KH/BCnoQGXzbsvYSo7CiDA==
X-Google-Smtp-Source: AGHT+IE7+9op3rF9pJVJXOct2GxspH7kQs/vzIAIaDA99yUIW+t7NMo4PV6qIsR9216mHYVWl+sThyzA6hqY
X-Received: by 2002:a05:6214:2586:b0:6d4:b1e:5418 with SMTP id
 6a1803df08f44-6e1b21c46b2mr546628146d6.33.1737927078658; 
 Sun, 26 Jan 2025 13:31:18 -0800 (PST)
Received: from postal.iol.unh.edu (postal.iol.unh.edu. [132.177.123.84])
 by smtp-relay.gmail.com with ESMTPS id
 6a1803df08f44-6e20514f2a4sm3282556d6.2.2025.01.26.13.31.18
 (version=TLS1_2 cipher=ECDHE-ECDSA-AES128-GCM-SHA256 bits=128/128);
 Sun, 26 Jan 2025 13:31:18 -0800 (PST)
X-Relaying-Domain: iol.unh.edu
Date: Sun, 26 Jan 2025 13:31:18 -0800 (PST)
Message-ID: <6796a9a6.d40a0220.72b62.293dSMTPIN_ADDED_MISSING@mx.google.com>
Received: from [172.17.0.5] (unknown [172.18.0.217])
 by postal.iol.unh.edu (Postfix) with ESMTP id 5A92B6052471;
 Sun, 26 Jan 2025 16:31:18 -0500 (EST)
Subject: |SUCCESS| pw150538 [PATCH] net/virtio: add virtio hash report featur
From: dpdklab@iol.unh.edu
To: Test Report <test-report@dpdk.org>
Cc: dpdk-test-reports@iol.unh.edu
In-Reply-To: <20250126193404.3431544-1-kshankar@marvell.com>
References: <20250126193404.3431544-1-kshankar@marvell.com>
Content-Type: text/plain
X-BeenThere: test-report@dpdk.org
X-Mailman-Version: 2.1.29
Precedence: list
List-Id: automatic DPDK test reports <test-report.dpdk.org>
List-Unsubscribe: <https://mails.dpdk.org/options/test-report>,
 <mailto:test-report-request@dpdk.org?subject=unsubscribe>
List-Archive: <http://mails.dpdk.org/archives/test-report/>
List-Post: <mailto:test-report@dpdk.org>
List-Help: <mailto:test-report-request@dpdk.org?subject=help>
List-Subscribe: <https://mails.dpdk.org/listinfo/test-report>,
 <mailto:test-report-request@dpdk.org?subject=subscribe>
Errors-To: test-report-bounces@dpdk.org

Test-Label: iol-sample-apps-testing
Test-Status: SUCCESS
http://dpdk.org/patch/150538

_Testing PASS_

Submitter: Kommula Shiva Shankar <kshankar@marvell.com>
Date: Sunday, January 26 2025 19:34:04 
DPDK git baseline: Repo:dpdk
  Branch: master
  CommitID:d92688baedcfc963b7539899347012a09c45a15b

150538 --> testing pass

Upstream job id: ACVP-FIPS-testing#8693

Test environment and result as below:

+--------------------+----------------------+----------------------+
|    Environment     | compressdev_zlib_pmd | dpdk_fips_validation |
+====================+======================+======================+
| Ubuntu 22.04 (ARM) | PASS                 | SKIPPED              |
+--------------------+----------------------+----------------------+
| Ubuntu 22.04       | PASS                 | SKIPPED              |
+--------------------+----------------------+----------------------+
| Ubuntu 20.04       | SKIPPED              | PASS                 |
+--------------------+----------------------+----------------------+


Ubuntu 22.04 (ARM)
	Kernel: 5.15.0-97-generic
	Compiler: gcc gcc (Ubuntu 11.4.0-1ubuntu1~22.04) 11.4.0

Ubuntu 22.04
	Kernel: 5.15.0-100-generic
	Compiler: gcc gcc (Ubuntu 11.4.0-1ubuntu1~22.04) 11.4.0

Ubuntu 20.04
	Kernel: Depends on container host
	Compiler: gcc (Ubuntu 9.4.0-1ubuntu1~20.04.2) 9.4.0

To view detailed results, visit:
https://lab.dpdk.org/results/dashboard/patchsets/32428/

UNH-IOL DPDK Community Lab

To manage your email subscriptions, visit: 
https://lab.dpdk.org/results/dashboard/preferences/subscriptions/