From mboxrd@z Thu Jan 1 00:00:00 1970 Return-Path: Received: from mails.dpdk.org (mails.dpdk.org [217.70.189.124]) by inbox.dpdk.org (Postfix) with ESMTP id 18DB546138 for ; Mon, 27 Jan 2025 08:34:36 +0100 (CET) Received: from mails.dpdk.org (localhost [127.0.0.1]) by mails.dpdk.org (Postfix) with ESMTP id 1628F4064E; Mon, 27 Jan 2025 08:34:36 +0100 (CET) Received: from mail-yb1-f226.google.com (mail-yb1-f226.google.com [209.85.219.226]) by mails.dpdk.org (Postfix) with ESMTP id 24EE44060B for ; Mon, 27 Jan 2025 08:34:35 +0100 (CET) Received: by mail-yb1-f226.google.com with SMTP id 3f1490d57ef6-e54bd61e793so6683847276.2 for ; Sun, 26 Jan 2025 23:34:35 -0800 (PST) DKIM-Signature: v=1; a=rsa-sha256; c=relaxed/relaxed; d=iol.unh.edu; s=unh-iol; t=1737963274; x=1738568074; darn=dpdk.org; h=cc:to:from:subject:message-id:date:from:to:cc:subject:date :message-id:reply-to; bh=tjvecoZT4bFVz+mNUU7BQL2IO1PWA2rzw9k01N5D/U0=; b=Ji9qo9SAqLQ90UsCq4IwJcE3/+B2fMZDYzA9ViWyM/iBjjIPVw/ev0ZSp86g/LURhp xASNUSWAI2ibhOH6flWii6F2H21rQGlxp01UI4G1xRwO1h4zwLQXOp7YIf3I3hb/D7ki 5pY4JpSnejcCHTw7Xq+noowwsTU4hB1LDOAAs= X-Google-DKIM-Signature: v=1; a=rsa-sha256; c=relaxed/relaxed; d=1e100.net; s=20230601; t=1737963274; x=1738568074; h=cc:to:from:subject:message-id:date:x-gm-message-state:from:to:cc :subject:date:message-id:reply-to; bh=tjvecoZT4bFVz+mNUU7BQL2IO1PWA2rzw9k01N5D/U0=; b=IkO7lHf9iCHNjW1kC9ruCQCXXReWoXRo3l88Fv8O6miPLRx+cKz7DIzp345qHzpoZd LHHZWUTtVNslb5Et/hBYVtrwNePZ2WrStqfTrxTXptXwszVI9qwMc07C2/BD+1EpKOCU nlIbvJfGE6KeIsSnpJNDUOyY52LS15y8xi1Yt76jFTggsITSdpdO6y6jNuF+uLBbFDM9 oOXx4ZwOy4ucRidRoj7+EU4WxVxzu+IOUDh3GQaAY2qNjv5EVXjv0wGjwkwLEa4ugfvO 68HcFkmWKl4Fd2A2LgyRzbm4z59M07ItFh7yY3H871fhS9Y4DV8aH/Ffel5fX1II++27 gKiw== X-Gm-Message-State: AOJu0Yzndz2T2hOcZpoBi/t3JEivNFnGo9jVD8kxlNcBL5xHSaU2ma/o 7qGExnEO9MKAJhp7660ZnVP1SO6KieLwvAhcLiaGJjxyVEYvuEg+J5mBObu7zzHKIzOxY/vTIBh eSXfx8DsQKHsZuqLx8OdtpJnCrvUTESQK X-Gm-Gg: ASbGncsmhh4ioQM8IBRKx3doRioTChvi4/9PBNU1zHtVuPz4A6LsAjTdXspFWjLZ8eO 4qtTCbOuwsfJa55pbu0tHVsuaMLID476NBnquKRYc3ay7z0hqaHUUutVRrmlK33iqVK87VCI33V yece/L8ZhAakCvSvVZcFg8z8oslt0rePzaVI7PL9/69koLRWaSeJ06iqhv6hnbhdZpJZVjVK/nI KHG4u2hk077PNULBLmBMjc9Aawg58LSGj2xSiyYa2z7vGzXdl5yfJoUvLBVkfsiPHVzuwBOKtIQ UhiALOjHpKvosh+1sjFfPOnf/n3yQQ== X-Google-Smtp-Source: AGHT+IFRKH013eZEHuMA8lXohoJirHb+wdYoiXc5mVTLOf4nah4lNF7HK6Bo9CxSth9d9Q/HSA4GJMvAuzvN X-Received: by 2002:a05:690c:a83:b0:6f6:7ef2:fe74 with SMTP id 00721157ae682-6f6eb93bf10mr310025617b3.32.1737963274459; Sun, 26 Jan 2025 23:34:34 -0800 (PST) Received: from postal.iol.unh.edu (postal.iol.unh.edu. [132.177.123.84]) by smtp-relay.gmail.com with ESMTPS id 00721157ae682-6f7579a8baasm2722287b3.51.2025.01.26.23.34.34 (version=TLS1_2 cipher=ECDHE-ECDSA-AES128-GCM-SHA256 bits=128/128); Sun, 26 Jan 2025 23:34:34 -0800 (PST) X-Relaying-Domain: iol.unh.edu Date: Sun, 26 Jan 2025 23:34:34 -0800 (PST) Message-ID: <6797370a.050a0220.2c2400.f21cSMTPIN_ADDED_MISSING@mx.google.com> Received: from [172.21.0.7] (unknown [172.18.0.240]) by postal.iol.unh.edu (Postfix) with ESMTP id 2207A6052471; Mon, 27 Jan 2025 02:34:34 -0500 (EST) Subject: |SUCCESS| [GIT MASTER] 7ce7d3341d7e21c2a81f2fea8e451681d7306d77 From: dpdklab@iol.unh.edu To: Test Report Cc: dpdk-test-reports@iol.unh.edu, Xueming Li , Christian Ehrhardt , Kevin Traynor , Luca Boccassi Content-Type: text/plain X-BeenThere: test-report@dpdk.org X-Mailman-Version: 2.1.29 Precedence: list List-Id: automatic DPDK test reports List-Unsubscribe: , List-Archive: List-Post: List-Help: List-Subscribe: , Errors-To: test-report-bounces@dpdk.org _Testing PASS_ Branch: tags/v22.11 7ce7d3341d7e21c2a81f2fea8e451681d7306d77 --> testing pass Upstream job id: Generic-DPDK-Compile-Meson#355292 Test environment and result as below: +------------------------------------+--------------------+ | Environment | dpdk_meson_compile | +====================================+====================+ | Ubuntu 20.04 ARM GCC Cross Compile | PASS | +------------------------------------+--------------------+ | Ubuntu 20.04 ARM SVE | PASS | +------------------------------------+--------------------+ | Debian 12 with MUSDK | PASS | +------------------------------------+--------------------+ | Fedora 40 (ARM) | PASS | +------------------------------------+--------------------+ | Fedora 40 (ARM Clang) | PASS | +------------------------------------+--------------------+ | Debian 11 (Buster) (ARM) | PASS | +------------------------------------+--------------------+ | Fedora 41 (ARM) | PASS | +------------------------------------+--------------------+ | Fedora 41 (ARM Clang) | PASS | +------------------------------------+--------------------+ | Ubuntu 20.04 (ARM) | PASS | +------------------------------------+--------------------+ | Ubuntu 24.04 (ARM) | PASS | +------------------------------------+--------------------+ | CentOS Stream 9 (ARM) | PASS | +------------------------------------+--------------------+ | Ubuntu 22.04 (ARM) | PASS | +------------------------------------+--------------------+ | Debian 12 (arm) | PASS | +------------------------------------+--------------------+ | RHEL9 (ARM) | PASS | +------------------------------------+--------------------+ Ubuntu 20.04 ARM GCC Cross Compile Kernel: Depends on container host Compiler: aarch64-linux-gnu-gcc (Ubuntu 9.4.0-1ubuntu1~20.04.2) 9.4.0 Ubuntu 20.04 ARM SVE Kernel: Depends on container host Compiler: gcc (Ubuntu 10.5.0-1ubuntu1~20.04) 10.5.0 Debian 12 with MUSDK Kernel: Depends on container host Compiler: gcc (Debian 12.2.0-14) 12.2.0 Fedora 40 (ARM) Kernel: Depends on container host Compiler: gcc 14.2.1 20240912 (Red Hat 14.2.1-3) Fedora 40 (ARM Clang) Kernel: Depends on container host Compiler: clang 18.1.8 (Fedora 18.1.8-1.fc40) Debian 11 (Buster) (ARM) Kernel: Depends on container host Compiler: gcc (Debian 10.2.1-6) 10.2.1 20210110 Fedora 41 (ARM) Kernel: Depends on container host Compiler: gcc 14.2.1 20240912 (Red Hat 14.2.1-3) Fedora 41 (ARM Clang) Kernel: Depends on container host Compiler: clang 19.1.5 (Fedora 19.1.5-1.fc41) Ubuntu 20.04 (ARM) Kernel: Depends on container host Compiler: gcc (Ubuntu 9.4.0-1ubuntu1~20.04.2) 9.4.0 Ubuntu 24.04 (ARM) Kernel: Depends on container host Compiler: gcc (Ubuntu 13.3.0-6ubuntu2~24.04) 13.3.0 CentOS Stream 9 (ARM) Kernel: Depends on container host Compiler: gcc 11.5.0 20240719 (Red Hat 11.5.0-2) Ubuntu 22.04 (ARM) Kernel: Depends on container host Compiler: gcc (Ubuntu 11.4.0-1ubuntu1~22.04) 11.4.0 Debian 12 (arm) Kernel: Depends on container host Compiler: gcc (Debian 12.2.0-14) 12.2.0 RHEL9 (ARM) Kernel: Depends on container host Compiler: gcc 11.5.0 20240719 (Red Hat 11.5.0-2) To view detailed results, visit: https://lab.dpdk.org/results/dashboard/tarballs/32352/ UNH-IOL DPDK Community Lab To manage your email subscriptions, visit: https://lab.dpdk.org/results/dashboard/preferences/subscriptions/