From mboxrd@z Thu Jan  1 00:00:00 1970
Return-Path: <test-report-bounces@dpdk.org>
Received: from mails.dpdk.org (mails.dpdk.org [217.70.189.124])
	by inbox.dpdk.org (Postfix) with ESMTP id 7619C4613A
	for <public@inbox.dpdk.org>; Mon, 27 Jan 2025 11:36:09 +0100 (CET)
Received: from mails.dpdk.org (localhost [127.0.0.1])
	by mails.dpdk.org (Postfix) with ESMTP id 50AC040275;
	Mon, 27 Jan 2025 11:36:09 +0100 (CET)
Received: from mail-io1-f100.google.com (mail-io1-f100.google.com
 [209.85.166.100])
 by mails.dpdk.org (Postfix) with ESMTP id D6F1340265
 for <test-report@dpdk.org>; Mon, 27 Jan 2025 11:36:07 +0100 (CET)
Received: by mail-io1-f100.google.com with SMTP id
 ca18e2360f4ac-844d555491eso109456139f.0
 for <test-report@dpdk.org>; Mon, 27 Jan 2025 02:36:07 -0800 (PST)
DKIM-Signature: v=1; a=rsa-sha256; c=relaxed/relaxed;
 d=iol.unh.edu; s=unh-iol; t=1737974167; x=1738578967; darn=dpdk.org;
 h=references:in-reply-to:cc:to:from:subject:message-id:date:from:to
 :cc:subject:date:message-id:reply-to;
 bh=Yr6YzfrIBGfZgWA7nNygNxAG+Z9M7aF+B9/NnfrERxY=;
 b=YbHT1pnDxYALS8t/28anVQJkTWZ11Fp8pOqh4da9rgfHTl2FwVeHZKP9dN6ULgNO+U
 JvSLsN2rLIjQAiGcihU80NKGixbu3f2vmqaD+kZOHoNYo+nwoX1RVi6knQ2CmA77eyIa
 qpchb9FthTsOJQd4GSJYKzJVUNUl7ZZCLApHM=
X-Google-DKIM-Signature: v=1; a=rsa-sha256; c=relaxed/relaxed;
 d=1e100.net; s=20230601; t=1737974167; x=1738578967;
 h=references:in-reply-to:cc:to:from:subject:message-id:date
 :x-gm-message-state:from:to:cc:subject:date:message-id:reply-to;
 bh=Yr6YzfrIBGfZgWA7nNygNxAG+Z9M7aF+B9/NnfrERxY=;
 b=i5W2b2hbRk71xru11jokoAAQRubQ2gVHWkE685HvQrZjy1QJHLFEQtSoA7asvAjtQf
 KiBgsPvV3s640YIpyL6wfnobom0LJuJgaPrAc/Rn0UXHC5RtLXW+5aAciflx9E8iCJzR
 iFnngk5QNOa4i7RO8c7SFB9+Tb4/a/hmh9UgBJaHDWLP3Y0nSAWlGCDOnRRYowHI4vrY
 bJLWqDC2g+EwD9zHvttrWFhz8YU46Kh/4eFQDXXCukqhmHsHoc07SBr8j75laMSTzpIk
 fTmUlp34tSwfrHzDA3aSMfRx/Zp+za/M8E1CpeQGrkKdju6x82fdOX4OjYgONDYFUS6A
 U7Fw==
X-Gm-Message-State: AOJu0Yz046CillE1wzG6TXHI5YguxRWCp18ZFugKCLZrxOgjND57M53f
 qhwNY3kIQhCPAcT8GrQ0mDNCGPvgUwS4t/4LPlijWm+d0ovoYRvSZN5Sh5lrI0FjRWeFNVeKYMK
 Iu68a9KVGeYZRvi/0fgsTup0OFpMhQrbk7b7gQ41c
X-Gm-Gg: ASbGncvgQaa7/S0J9KX+iImEXwI1w1gFAWLfD4NGfC9MrwPsA0+FgZGxV1feQFxKavM
 TrCrMLWxaTbDE1WbqxMiEndaKQjDlPZmG6xXrHohvQh7Lz8kgccranRP0FiloVm73VHdFpRKaMy
 Y8NDYovrHKjQaaZrY21GddikdUuUOPliq2sigcH+ki0d0uxcmkM2wUXCNfHuFR0rvU4uylKWOUx
 uWExXyZ+oXZOUOsTS/DyCp5l+WhBgMGk0D3OCGoupgXB5HpYXSNDxWksbjtMMBOItCH/Awv8VaR
 aBgugVjknxTvaBMh1f9T8GZRcHoqQQ==
X-Google-Smtp-Source: AGHT+IFFmkguguZEkzkHIlTWhTqNAEtc4y8DllxHBb+pFICvImC44NrEa84ftf1x9ZjYUIOTnX4YEQlylhoG
X-Received: by 2002:a05:6e02:8b:b0:3cf:e53e:83ec with SMTP id
 e9e14a558f8ab-3cfe53e8496mr26687895ab.15.1737974167087; 
 Mon, 27 Jan 2025 02:36:07 -0800 (PST)
Received: from postal.iol.unh.edu (postal.iol.unh.edu. [132.177.123.84])
 by smtp-relay.gmail.com with ESMTPS id
 8926c6da1cb9f-4ec1d41c3e6sm388759173.25.2025.01.27.02.36.07
 (version=TLS1_2 cipher=ECDHE-ECDSA-AES128-GCM-SHA256 bits=128/128);
 Mon, 27 Jan 2025 02:36:07 -0800 (PST)
X-Relaying-Domain: iol.unh.edu
Date: Mon, 27 Jan 2025 02:36:07 -0800 (PST)
Message-ID: <67976197.050a0220.1d77c.6df6SMTPIN_ADDED_MISSING@mx.google.com>
Received: from [172.21.0.5] (unknown [172.18.0.240])
 by postal.iol.unh.edu (Postfix) with ESMTP id 8D15B6052471;
 Mon, 27 Jan 2025 05:36:06 -0500 (EST)
Subject: |SUCCESS| pw150540 [PATCH] [v2] net/virtio: add virtio hash report f
From: dpdklab@iol.unh.edu
To: Test Report <test-report@dpdk.org>
Cc: dpdk-test-reports@iol.unh.edu
In-Reply-To: <20250127074150.3499851-1-kshankar@marvell.com>
References: <20250127074150.3499851-1-kshankar@marvell.com>
Content-Type: text/plain
X-BeenThere: test-report@dpdk.org
X-Mailman-Version: 2.1.29
Precedence: list
List-Id: automatic DPDK test reports <test-report.dpdk.org>
List-Unsubscribe: <https://mails.dpdk.org/options/test-report>,
 <mailto:test-report-request@dpdk.org?subject=unsubscribe>
List-Archive: <http://mails.dpdk.org/archives/test-report/>
List-Post: <mailto:test-report@dpdk.org>
List-Help: <mailto:test-report-request@dpdk.org?subject=help>
List-Subscribe: <https://mails.dpdk.org/listinfo/test-report>,
 <mailto:test-report-request@dpdk.org?subject=subscribe>
Errors-To: test-report-bounces@dpdk.org

Test-Label: iol-unit-arm64-testing
Test-Status: SUCCESS
http://dpdk.org/patch/150540

_Testing PASS_

Submitter: Kommula Shiva Shankar <kshankar@marvell.com>
Date: Monday, January 27 2025 07:41:50 
DPDK git baseline: Repo:dpdk
  Branch: master
  CommitID:d92688baedcfc963b7539899347012a09c45a15b

150540 --> testing pass

Upstream job id: Generic-Unit-Test-DPDK#309534

Test environment and result as below:

+-----------------------------+----------------+--------------+---------------------------+------------------------------+
|         Environment         | dpdk_unit_test | lpm_autotest | cryptodev_sw_zuc_autotest | cryptodev_sw_snow3g_autotest |
+=============================+================+==============+===========================+==============================+
| CentOS Stream 9 (ARM)       | PASS           | SKIPPED      | SKIPPED                   | SKIPPED                      |
+-----------------------------+----------------+--------------+---------------------------+------------------------------+
| Debian 12 (arm)             | PASS           | SKIPPED      | PASS                      | PASS                         |
+-----------------------------+----------------+--------------+---------------------------+------------------------------+
| Debian 11 (Buster) (ARM)    | PASS           | SKIPPED      | SKIPPED                   | SKIPPED                      |
+-----------------------------+----------------+--------------+---------------------------+------------------------------+
| 32-bit Ubuntu 22.04.4 (ARM) | PASS           | SKIPPED      | SKIPPED                   | SKIPPED                      |
+-----------------------------+----------------+--------------+---------------------------+------------------------------+
| Fedora 40 (ARM Clang)       | PASS           | SKIPPED      | SKIPPED                   | SKIPPED                      |
+-----------------------------+----------------+--------------+---------------------------+------------------------------+
| Fedora 41 (ARM Clang)       | PASS           | SKIPPED      | SKIPPED                   | SKIPPED                      |
+-----------------------------+----------------+--------------+---------------------------+------------------------------+
| Fedora 40 (ARM)             | PASS           | SKIPPED      | SKIPPED                   | SKIPPED                      |
+-----------------------------+----------------+--------------+---------------------------+------------------------------+
| Fedora 41 (ARM)             | PASS           | SKIPPED      | SKIPPED                   | SKIPPED                      |
+-----------------------------+----------------+--------------+---------------------------+------------------------------+
| RHEL9 (ARM)                 | PASS           | SKIPPED      | SKIPPED                   | SKIPPED                      |
+-----------------------------+----------------+--------------+---------------------------+------------------------------+
| Ubuntu 20.04 (ARM)          | PASS           | SKIPPED      | SKIPPED                   | SKIPPED                      |
+-----------------------------+----------------+--------------+---------------------------+------------------------------+
| Ubuntu 22.04 (ARM)          | PASS           | SKIPPED      | SKIPPED                   | SKIPPED                      |
+-----------------------------+----------------+--------------+---------------------------+------------------------------+
| Ubuntu 24.04 (ARM)          | PASS           | SKIPPED      | SKIPPED                   | SKIPPED                      |
+-----------------------------+----------------+--------------+---------------------------+------------------------------+
| Ubuntu 20.04 ARM SVE        | SKIPPED        | PASS         | SKIPPED                   | SKIPPED                      |
+-----------------------------+----------------+--------------+---------------------------+------------------------------+


CentOS Stream 9 (ARM)
	Kernel: Depends on container host
	Compiler: gcc 11.5.0 20240719 (Red Hat 11.5.0-2)

Debian 12 (arm)
	Kernel: Depends on container host
	Compiler: gcc (Debian 12.2.0-14) 12.2.0

Debian 11 (Buster) (ARM)
	Kernel: Depends on container host
	Compiler: gcc (Debian 10.2.1-6) 10.2.1 20210110

32-bit Ubuntu 22.04.4 (ARM)
	Kernel: 5.15.83+ aarch64
	Compiler: gcc (Ubuntu 11.4.0-1ubuntu1~22.04) 11.4.0

Fedora 40 (ARM Clang)
	Kernel: Depends on container host
	Compiler: clang 18.1.8 (Fedora 18.1.8-1.fc40)

Fedora 41 (ARM Clang)
	Kernel: Depends on container host
	Compiler: clang 19.1.5 (Fedora 19.1.5-1.fc41)

Fedora 40 (ARM)
	Kernel: Depends on container host
	Compiler: gcc 14.2.1 20240912 (Red Hat 14.2.1-3)

Fedora 41 (ARM)
	Kernel: Depends on container host
	Compiler: gcc 14.2.1 20240912 (Red Hat 14.2.1-3)

RHEL9 (ARM)
	Kernel: Depends on container host
	Compiler: gcc 11.5.0 20240719 (Red Hat 11.5.0-2)

Ubuntu 20.04 (ARM)
	Kernel: Depends on container host
	Compiler: gcc (Ubuntu 9.4.0-1ubuntu1~20.04.2) 9.4.0

Ubuntu 22.04 (ARM)
	Kernel: Depends on container host
	Compiler: gcc (Ubuntu 11.4.0-1ubuntu1~22.04) 11.4.0

Ubuntu 24.04 (ARM)
	Kernel: Depends on container host
	Compiler: gcc (Ubuntu 13.3.0-6ubuntu2~24.04) 13.3.0

Ubuntu 20.04 ARM SVE
	Kernel: Depends on container host
	Compiler: gcc (Ubuntu 10.5.0-1ubuntu1~20.04) 10.5.0

To view detailed results, visit:
https://lab.dpdk.org/results/dashboard/patchsets/32430/

UNH-IOL DPDK Community Lab

To manage your email subscriptions, visit: 
https://lab.dpdk.org/results/dashboard/preferences/subscriptions/