From mboxrd@z Thu Jan  1 00:00:00 1970
Return-Path: <test-report-bounces@dpdk.org>
Received: from mails.dpdk.org (mails.dpdk.org [217.70.189.124])
	by inbox.dpdk.org (Postfix) with ESMTP id 8FDE445FE6
	for <public@inbox.dpdk.org>; Wed, 29 Jan 2025 00:10:11 +0100 (CET)
Received: from mails.dpdk.org (localhost [127.0.0.1])
	by mails.dpdk.org (Postfix) with ESMTP id 81ECF4026F;
	Wed, 29 Jan 2025 00:10:11 +0100 (CET)
Received: from mail-oo1-f99.google.com (mail-oo1-f99.google.com
 [209.85.161.99]) by mails.dpdk.org (Postfix) with ESMTP id 2FA2A40265
 for <test-report@dpdk.org>; Wed, 29 Jan 2025 00:10:10 +0100 (CET)
Received: by mail-oo1-f99.google.com with SMTP id
 006d021491bc7-5f2dee7d218so2685824eaf.2
 for <test-report@dpdk.org>; Tue, 28 Jan 2025 15:10:10 -0800 (PST)
DKIM-Signature: v=1; a=rsa-sha256; c=relaxed/relaxed;
 d=iol.unh.edu; s=unh-iol; t=1738105809; x=1738710609; darn=dpdk.org;
 h=references:in-reply-to:cc:to:from:subject:message-id:date:from:to
 :cc:subject:date:message-id:reply-to;
 bh=EHrLmCzMb7PPrOhyRDCqJ81/9unjVqjRXDnrLK2m49g=;
 b=SCTWJ32Bj+cw8K6C8LbFpLl1U3e44e17aOZmkONbeNuSV8RuWrLzk7yImysl8+fN13
 sYGAnpPMYbFcZiQa5g6BeFpG8xyD0Z5WyM5icIi3miS8dxZKKFgfJ4XFYBo4QwyVmzsh
 V5iVhtRsRWvpDczbUPUYIjKrEoeKgK8WqLKXA=
X-Google-DKIM-Signature: v=1; a=rsa-sha256; c=relaxed/relaxed;
 d=1e100.net; s=20230601; t=1738105809; x=1738710609;
 h=references:in-reply-to:cc:to:from:subject:message-id:date
 :x-gm-message-state:from:to:cc:subject:date:message-id:reply-to;
 bh=EHrLmCzMb7PPrOhyRDCqJ81/9unjVqjRXDnrLK2m49g=;
 b=T7/Y7a0i+t1spn6gr37GaO3c32RsEuLP9ZNVJn8rOq+dD4PLW8TAdLu346u251Dum3
 bm380D6MFzpy136kFOedEO0vgVoAYrMksRz99Yc8JPfizB1r6/KV2yDz77GsnPD+OiQG
 g4OnlWoAutP1l6Atxt+J7RqMxk4dn4dh5/UKW9EXxMfqN6SXuvU8eAQ5qrpAlmxMadEJ
 35r2Ecf6ToR9+s6ssWlvGXbWjNNFmv6J3TtRrLthxACXGWIwNGRDUzG+Y7T/KdFogV0/
 TLJ+LxOdhQYotBPJC31Zlg2WQs1pBBnl3lKrhQ0qz1OXGCOTAMtNahvAxgHyXugJYSuD
 fC+w==
X-Gm-Message-State: AOJu0Ywhe7zklswm0c2oGalepUulns4QT/LzGhtbmvBMnCI85StkOR19
 1Iv2G4mBoEDwNSnAEvPM+TYTfnQ4p5TEZCEaej9uqohUElyHHE0huCYRw5k0uqFRXIlpTxzWMc1
 9iJfbpDDc4OVmjNHioKd4CZhWERYNhYZdvUEc7fVE/VRKlNjbQvFcyJTv
X-Gm-Gg: ASbGncuQkwvIwJKW8SNVix5kg/6Nr4sJjnQNSXN3PV43nWXJgx99IFa7z8No5YXiG6u
 bK2dEZfKFSAOzVqEc9oV2+PkpPL1b32ktEqAu0ILHTUCW+hJY8t/fe+gmW1WqnDFML+TQ5K5d1o
 bTGNGHr+xHbApLxiDjmnEBMp9nrQIanktUfh7baKoGo19Q21eJRVgz+NHgUkjM61YOuPq5fr4I7
 HaCh2yc0cUzyV7qCywJ2IGwiGk0YIL6zrFLQmqQYb36e773afBTIVqWUA8sr7XR6oq8+JA28uTl
 FytwGMZ25qOxHkagc3yWVYHxZhkCLw82Td6x6DEwDg==
X-Google-Smtp-Source: AGHT+IHY7+gjculE3f/SuycnSpmByQoPET/H6dtt9sOP8whnJBVEMbS64fQcvoK9onY/KGiNMIR6I/avM/Nl
X-Received: by 2002:a05:6870:1596:b0:29e:3c8d:61a0 with SMTP id
 586e51a60fabf-2b32ef6fe60mr606481fac.8.1738105809358; 
 Tue, 28 Jan 2025 15:10:09 -0800 (PST)
Received: from postal.iol.unh.edu (postal.iol.unh.edu.
 [2606:4100:3880:1234::84]) by smtp-relay.gmail.com with ESMTPS id
 586e51a60fabf-2b28f53650dsm658523fac.40.2025.01.28.15.10.09
 (version=TLS1_2 cipher=ECDHE-ECDSA-AES128-GCM-SHA256 bits=128/128);
 Tue, 28 Jan 2025 15:10:09 -0800 (PST)
X-Relaying-Domain: iol.unh.edu
Date: Tue, 28 Jan 2025 15:10:09 -0800 (PST)
Message-ID: <679963d1.050a0220.16c38e.5ea1SMTPIN_ADDED_MISSING@mx.google.com>
Received: from [172.17.0.4] (unknown [172.18.0.217])
 by postal.iol.unh.edu (Postfix) with ESMTP id EA1276052471;
 Tue, 28 Jan 2025 18:10:08 -0500 (EST)
Subject: |SUCCESS| pw150587-150588 [PATCH] [v2,2/2] stack: enable build with 
From: dpdklab@iol.unh.edu
To: Test Report <test-report@dpdk.org>
Cc: dpdk-test-reports@iol.unh.edu
In-Reply-To: <1738099014-16629-3-git-send-email-andremue@linux.microsoft.com>
References: <1738099014-16629-3-git-send-email-andremue@linux.microsoft.com>
Content-Type: text/plain
X-BeenThere: test-report@dpdk.org
X-Mailman-Version: 2.1.29
Precedence: list
List-Id: automatic DPDK test reports <test-report.dpdk.org>
List-Unsubscribe: <https://mails.dpdk.org/options/test-report>,
 <mailto:test-report-request@dpdk.org?subject=unsubscribe>
List-Archive: <http://mails.dpdk.org/archives/test-report/>
List-Post: <mailto:test-report@dpdk.org>
List-Help: <mailto:test-report-request@dpdk.org?subject=help>
List-Subscribe: <https://mails.dpdk.org/listinfo/test-report>,
 <mailto:test-report-request@dpdk.org?subject=subscribe>
Errors-To: test-report-bounces@dpdk.org

Test-Label: iol-abi-testing
Test-Status: SUCCESS
http://dpdk.org/patch/150588

_Testing PASS_

Submitter: Andre Muezerie <andremue@linux.microsoft.com>
Date: Tuesday, January 28 2025 21:16:54 
DPDK git baseline: Repo:dpdk
  Branch: master
  CommitID:3cd695c34528571c378c5f6be7ff81d3cca9a84c

150587-150588 --> testing pass

Upstream job id: Generic-DPDK-Compile-ABI#114047

Test environment and result as below:

+-------------------+----------+
|    Environment    | abi_test |
+===================+==========+
| CentOS Stream 9   | PASS     |
+-------------------+----------+
| Debian Bullseye   | PASS     |
+-------------------+----------+
| Debian 12         | PASS     |
+-------------------+----------+
| Fedora 40 (Clang) | PASS     |
+-------------------+----------+
| Fedora 40         | PASS     |
+-------------------+----------+
| openSUSE Leap 15  | PASS     |
+-------------------+----------+
| Fedora 41 (Clang) | PASS     |
+-------------------+----------+
| Fedora 41         | PASS     |
+-------------------+----------+
| RHEL8             | PASS     |
+-------------------+----------+
| RHEL9             | PASS     |
+-------------------+----------+
| Ubuntu 22.04      | PASS     |
+-------------------+----------+
| Ubuntu 24.04      | PASS     |
+-------------------+----------+


CentOS Stream 9
	Kernel: Depends on container host
	Compiler: gcc 11.5.0 20240719 (Red Hat 11.5.0-2)

Debian Bullseye
	Kernel: Depends on container host
	Compiler: gcc (Debian 10.2.1-6) 10.2.1 20210110

Debian 12
	Kernel: Depends on container host
	Compiler: gcc (Debian 12.2.0-14) 12.2.0

Fedora 40 (Clang)
	Kernel: Depends on container host
	Compiler: clang 18.1.8 (Fedora 18.1.8-1.fc40)

Fedora 40
	Kernel: Depends on container host
	Compiler: gcc 14.2.1 20240912 (Red Hat 14.2.1-3)

openSUSE Leap 15
	Kernel: Depends on container host
	Compiler: gcc (SUSE Linux) 7.5.0

Fedora 41 (Clang)
	Kernel: Depends on container host
	Compiler: clang 19.1.5 (Fedora 19.1.5-1.fc41)

Fedora 41
	Kernel: Depends on container host
	Compiler: gcc 14.2.1 20240912 (Red Hat 14.2.1-3)

RHEL8
	Kernel: Depends on container host
	Compiler: gcc 8.5.0 20210514 (Red Hat 8.5.0-22)

RHEL9
	Kernel: Depends on container host
	Compiler: gcc 11.5.0 20240719 (Red Hat 11.5.0-2)

Ubuntu 22.04
	Kernel: Depends on container host
	Compiler: gcc (Ubuntu 11.4.0-1ubuntu1~22.04) 11.4.0

Ubuntu 24.04
	Kernel: Depends on container host
	Compiler: gcc (Ubuntu 13.3.0-6ubuntu2~24.04) 13.3.0

To view detailed results, visit:
https://lab.dpdk.org/results/dashboard/patchsets/32445/

UNH-IOL DPDK Community Lab

To manage your email subscriptions, visit: 
https://lab.dpdk.org/results/dashboard/preferences/subscriptions/