From mboxrd@z Thu Jan  1 00:00:00 1970
Return-Path: <test-report-bounces@dpdk.org>
Received: from mails.dpdk.org (mails.dpdk.org [217.70.189.124])
	by inbox.dpdk.org (Postfix) with ESMTP id F38E1460FD
	for <public@inbox.dpdk.org>; Wed, 29 Jan 2025 10:34:26 +0100 (CET)
Received: from mails.dpdk.org (localhost [127.0.0.1])
	by mails.dpdk.org (Postfix) with ESMTP id EF83640270;
	Wed, 29 Jan 2025 10:34:26 +0100 (CET)
Received: from mail-io1-f98.google.com (mail-io1-f98.google.com
 [209.85.166.98]) by mails.dpdk.org (Postfix) with ESMTP id C76544026B
 for <test-report@dpdk.org>; Wed, 29 Jan 2025 10:34:15 +0100 (CET)
Received: by mail-io1-f98.google.com with SMTP id
 ca18e2360f4ac-84a1ce51187so176918439f.1
 for <test-report@dpdk.org>; Wed, 29 Jan 2025 01:34:15 -0800 (PST)
DKIM-Signature: v=1; a=rsa-sha256; c=relaxed/relaxed;
 d=iol.unh.edu; s=unh-iol; t=1738143255; x=1738748055; darn=dpdk.org;
 h=cc:to:from:subject:message-id:date:from:to:cc:subject:date
 :message-id:reply-to;
 bh=wd64vi4EljuS2/r37Gu3Nd/AjunaJ/BtBBi3sIcIdBM=;
 b=avvLGqXaH/pfA9kc/soDzwSIwD+9zEIJhOEROW9KCgTboWWihvexxEjg9fK14E1/1q
 Vj3S80kqvikl0hJMiVFe/w1A2H4G5ZmAsXKUE3537tXlDHUeNmmPDZIfaSTrVsZkZUfQ
 hNlyw48uzFmcdJ12Zh8ABd6iD6od0NJS54Hn4=
X-Google-DKIM-Signature: v=1; a=rsa-sha256; c=relaxed/relaxed;
 d=1e100.net; s=20230601; t=1738143255; x=1738748055;
 h=cc:to:from:subject:message-id:date:x-gm-message-state:from:to:cc
 :subject:date:message-id:reply-to;
 bh=wd64vi4EljuS2/r37Gu3Nd/AjunaJ/BtBBi3sIcIdBM=;
 b=guhc8ioNikxBNnqwon1C5/GdrmG3JoOemePK7RtpjgbE7dPzUJRio9cR+c9ZNtSmvY
 nn1a1pWrJRCZh4CJnX7AugXEEd8LvCYHckZKTcqoLprQs5CBqqXqu1noPbInmbSN9KSL
 48Y3L2Lk117WlhGsvLLDytj8/WjsFX49iXbdE2Hxo/lkY36jQZbQn9igPT3a3S+dyUWx
 hzSkLnb/3H58pauMxgQ4xyhCliICgEIZ838TQs9f4EafuFBh96kT0xLhRG1pgsCq0COz
 NQFOBzBVxlpNy18iVFN9JWvsduiaRQfo6DakT2CMD5UNjDXpjfY1grooZc5ROw9KvjkF
 6X0A==
X-Gm-Message-State: AOJu0Ywl9HopLj2oELIfSVfCfsaPzPEZEprO2dwL7SPB7joz1X22+96y
 keieaJjezPYehv7++QDdKV8PvijhY9yg3uiqkxI1g2aE1Ny5ugL1v6c2fq2KM7IkH8SjINHQWJ9
 HEde5yRTYYCGrnA6m2gwvsPuAbzFCQz1k
X-Gm-Gg: ASbGncsr+sHjGmS2OfivnNGJGnH0zg7SfP0oa/QY93bPbIMuvCOYHOMHmTsFtTfLLCQ
 D3lWfYF3lBRYlsqnr+vXiH3L2/MpHCy52QjZbyt11/3vg+2lQmgKtJhKHZtxmmsrPx0aKHzB8QL
 Iy3+Z0Pzfmw/CldoQZAs18p0JjKKNsgquO/kUx4/aPI7CUJZDch1JT2WTdsSGuMGuE4L20zQgz1
 lXnRKEmWvivybxNLUD0nN55u/93/rCoxGJo+OODvpn3FdAb5QtOm+iZC7KWQ+nMW358BGoahr7h
 CDfdrrAEqUYQtKAUfstgbjU3Mhi4qQ==
X-Google-Smtp-Source: AGHT+IGd/1jQvnOR9rrsGIkU9ThVzJHDSUavjUVA8DQjTaBGLDu44ihVKegOs2iKy65aAn6LsWVHiZfbG4WC
X-Received: by 2002:a05:6602:3fcc:b0:851:f0be:965e with SMTP id
 ca18e2360f4ac-85427deb2aemr226090139f.2.1738143255133; 
 Wed, 29 Jan 2025 01:34:15 -0800 (PST)
Received: from postal.iol.unh.edu (postal.iol.unh.edu. [132.177.123.84])
 by smtp-relay.gmail.com with ESMTPS id
 8926c6da1cb9f-4ec1d41908dsm594579173.17.2025.01.29.01.34.15
 (version=TLS1_2 cipher=ECDHE-ECDSA-AES128-GCM-SHA256 bits=128/128);
 Wed, 29 Jan 2025 01:34:15 -0800 (PST)
X-Relaying-Domain: iol.unh.edu
Date: Wed, 29 Jan 2025 01:34:15 -0800 (PST)
Message-ID: <6799f617.050a0220.39a736.27a5SMTPIN_ADDED_MISSING@mx.google.com>
Received: from [172.21.0.5] (unknown [172.18.0.240])
 by postal.iol.unh.edu (Postfix) with ESMTP id 9AF056052471;
 Wed, 29 Jan 2025 04:34:14 -0500 (EST)
Subject: |SUCCESS| [GIT MASTER] 7ce7d3341d7e21c2a81f2fea8e451681d7306d77
From: dpdklab@iol.unh.edu
To: Test Report <test-report@dpdk.org>
Cc: dpdk-test-reports@iol.unh.edu, Xueming Li <xuemingl@nvidia.com>,
 Christian Ehrhardt <christian.ehrhardt@canonical.com>,
 Kevin Traynor <ktraynor@redhat.com>, Luca Boccassi <bluca@debian.org>
Content-Type: text/plain
X-BeenThere: test-report@dpdk.org
X-Mailman-Version: 2.1.29
Precedence: list
List-Id: automatic DPDK test reports <test-report.dpdk.org>
List-Unsubscribe: <https://mails.dpdk.org/options/test-report>,
 <mailto:test-report-request@dpdk.org?subject=unsubscribe>
List-Archive: <http://mails.dpdk.org/archives/test-report/>
List-Post: <mailto:test-report@dpdk.org>
List-Help: <mailto:test-report-request@dpdk.org?subject=help>
List-Subscribe: <https://mails.dpdk.org/listinfo/test-report>,
 <mailto:test-report-request@dpdk.org?subject=subscribe>
Errors-To: test-report-bounces@dpdk.org

_Testing PASS_

Branch: tags/v22.11

7ce7d3341d7e21c2a81f2fea8e451681d7306d77 --> testing pass

Upstream job id: Generic-DPDK-Compile-Meson#355973

Test environment and result as below:

+------------------------------------+--------------------+
|            Environment             | dpdk_meson_compile |
+====================================+====================+
| RHEL9 (ARM)                        | PASS               |
+------------------------------------+--------------------+
| Ubuntu 20.04 ARM GCC Cross Compile | PASS               |
+------------------------------------+--------------------+
| Ubuntu 20.04 ARM SVE               | PASS               |
+------------------------------------+--------------------+
| Fedora 41 (ARM Clang)              | PASS               |
+------------------------------------+--------------------+
| Fedora 41 (ARM)                    | PASS               |
+------------------------------------+--------------------+
| Ubuntu 20.04 (ARM)                 | PASS               |
+------------------------------------+--------------------+
| Debian 12 with MUSDK               | PASS               |
+------------------------------------+--------------------+
| Fedora 40 (ARM Clang)              | PASS               |
+------------------------------------+--------------------+
| Fedora 40 (ARM)                    | PASS               |
+------------------------------------+--------------------+
| Ubuntu 24.04 (ARM)                 | PASS               |
+------------------------------------+--------------------+
| CentOS Stream 9 (ARM)              | PASS               |
+------------------------------------+--------------------+
| Ubuntu 22.04 (ARM)                 | PASS               |
+------------------------------------+--------------------+
| Debian 12 (arm)                    | PASS               |
+------------------------------------+--------------------+
| Debian 11 (Buster) (ARM)           | PASS               |
+------------------------------------+--------------------+


RHEL9 (ARM)
	Kernel: Depends on container host
	Compiler: gcc 11.5.0 20240719 (Red Hat 11.5.0-2)

Ubuntu 20.04 ARM GCC Cross Compile
	Kernel: Depends on container host
	Compiler: aarch64-linux-gnu-gcc (Ubuntu 9.4.0-1ubuntu1~20.04.2) 9.4.0

Ubuntu 20.04 ARM SVE
	Kernel: Depends on container host
	Compiler: gcc (Ubuntu 10.5.0-1ubuntu1~20.04) 10.5.0

Fedora 41 (ARM Clang)
	Kernel: Depends on container host
	Compiler: clang 19.1.5 (Fedora 19.1.5-1.fc41)

Fedora 41 (ARM)
	Kernel: Depends on container host
	Compiler: gcc 14.2.1 20240912 (Red Hat 14.2.1-3)

Ubuntu 20.04 (ARM)
	Kernel: Depends on container host
	Compiler: gcc (Ubuntu 9.4.0-1ubuntu1~20.04.2) 9.4.0

Debian 12 with MUSDK
	Kernel: Depends on container host
	Compiler: gcc (Debian 12.2.0-14) 12.2.0

Fedora 40 (ARM Clang)
	Kernel: Depends on container host
	Compiler: clang 18.1.8 (Fedora 18.1.8-1.fc40)

Fedora 40 (ARM)
	Kernel: Depends on container host
	Compiler: gcc 14.2.1 20240912 (Red Hat 14.2.1-3)

Ubuntu 24.04 (ARM)
	Kernel: Depends on container host
	Compiler: gcc (Ubuntu 13.3.0-6ubuntu2~24.04) 13.3.0

CentOS Stream 9 (ARM)
	Kernel: Depends on container host
	Compiler: gcc 11.5.0 20240719 (Red Hat 11.5.0-2)

Ubuntu 22.04 (ARM)
	Kernel: Depends on container host
	Compiler: gcc (Ubuntu 11.4.0-1ubuntu1~22.04) 11.4.0

Debian 12 (arm)
	Kernel: Depends on container host
	Compiler: gcc (Debian 12.2.0-14) 12.2.0

Debian 11 (Buster) (ARM)
	Kernel: Depends on container host
	Compiler: gcc (Debian 10.2.1-6) 10.2.1 20210110

To view detailed results, visit:
https://lab.dpdk.org/results/dashboard/tarballs/32377/

UNH-IOL DPDK Community Lab

To manage your email subscriptions, visit: 
https://lab.dpdk.org/results/dashboard/preferences/subscriptions/