From mboxrd@z Thu Jan  1 00:00:00 1970
Return-Path: <test-report-bounces@dpdk.org>
Received: from mails.dpdk.org (mails.dpdk.org [217.70.189.124])
	by inbox.dpdk.org (Postfix) with ESMTP id 5D98F4611D
	for <public@inbox.dpdk.org>; Wed, 29 Jan 2025 17:48:30 +0100 (CET)
Received: from mails.dpdk.org (localhost [127.0.0.1])
	by mails.dpdk.org (Postfix) with ESMTP id 3E86F402AE;
	Wed, 29 Jan 2025 17:48:30 +0100 (CET)
Received: from mail-yb1-f226.google.com (mail-yb1-f226.google.com
 [209.85.219.226])
 by mails.dpdk.org (Postfix) with ESMTP id 25F5F40274
 for <test-report@dpdk.org>; Wed, 29 Jan 2025 17:48:29 +0100 (CET)
Received: by mail-yb1-f226.google.com with SMTP id
 3f1490d57ef6-e573136107bso11963519276.3
 for <test-report@dpdk.org>; Wed, 29 Jan 2025 08:48:29 -0800 (PST)
DKIM-Signature: v=1; a=rsa-sha256; c=relaxed/relaxed;
 d=iol.unh.edu; s=unh-iol; t=1738169308; x=1738774108; darn=dpdk.org;
 h=references:in-reply-to:cc:to:from:subject:message-id:date:from:to
 :cc:subject:date:message-id:reply-to;
 bh=b2sFdIV/IETXh6XwHX/ymT7NhZFyNg9wC6RV8IQeFZc=;
 b=joXxQQ5jAinHpAkU3EQ1pq1V3xCGg73s6QlDKlsPCOLjy4GP33fa3dxzWGNIjAPkyY
 oX1hP0zhU5n2KphZ0EfelPS3ILSXIBKnFToYf3jk/odN2CUuarjYVRQefwAK7QYrl6GD
 hkDCvXlmdbv3F+EjW/L77mboyc3nxMhQgxw+k=
X-Google-DKIM-Signature: v=1; a=rsa-sha256; c=relaxed/relaxed;
 d=1e100.net; s=20230601; t=1738169308; x=1738774108;
 h=references:in-reply-to:cc:to:from:subject:message-id:date
 :x-gm-message-state:from:to:cc:subject:date:message-id:reply-to;
 bh=b2sFdIV/IETXh6XwHX/ymT7NhZFyNg9wC6RV8IQeFZc=;
 b=RKnxXCDQmzhNBlwPX877t0ccmpCUG6gPUrIsWvH7yAHaVlnh34zyHnezEfii1C0KCe
 Q9bNU+kUnsH6dn+QZIcgE4Ylv0+5dLFsgRLcUWm3KsgiXfNQYTvTTg3vyG92/cYyUpf7
 lPa4yqWbzH1AJk3ycvAOXNsUnaW84Pn7WvJQkmV4AOchg8KH24nL7luVvy53yg2puj1C
 FPrdPq5TLAmtv/EgyMcMDdMQhPvnKWKmCQegZgC6EQpNBVsSUTmmo60uyqG/BK/GBHbu
 DTFNVBM4X7pAZWhwhDyGQtMoRrE84xo4YdDfio7h7ILIdvsBSKepr8lbksiJkgmR1pin
 d/yg==
X-Gm-Message-State: AOJu0Yx3lye9zRJZZKMY57GIx1GNOOdblDJdK6M7BXkQq6JZkQ9eNvb7
 xWCmkYQjVUbimsB9CCXALDOEzmkGWEJeLicGbIUwGK0lQQvvDO37qMIRGPaR+7xytZZ10MKHkhi
 XLsGJG8YlPaFvCLKULmujREQRc/Po/Ob4VwqqEKakjhxdZwhQlFb7CpQD
X-Gm-Gg: ASbGncuTdOK3h4+lfaCaKPATxlwo+/CKhBDiOQcuw0izw1ukpjdox22kz5HKdIrP8IN
 aN5XwNoHsycsU1dQOJIkRvPdps9owGSVxjvC6Y3kmX1p8z6zmY2Qz15c/7GV7sN1IL73tmcLBWc
 tPtYWn83aPxQjSk03gnZUzhTBtKyG0C6LZSAxhS6WkKcO7+WAFw9A63/s5KHSyZysFcwAlt7SJh
 aUzsgr+s7rimBw9DCuYNBTvaJ05WEs459pjF27I5p39egmRIVk2GKqdreD+rpmjCji7BKURBWtB
 3XAKD7YR3zc0BoRq2QXTI6r4bOIm3gPxyEynwURBnA==
X-Google-Smtp-Source: AGHT+IEyhyOcK1ff2ZiwwVVDXKWkHq3Mt4oTrbgjEIFjk3rE02v0eExKsj8ILVG3uRFPT1bI1CCMLlizORrZ
X-Received: by 2002:a05:690c:b84:b0:6f7:598d:34a3 with SMTP id
 00721157ae682-6f7a81272d4mr30430787b3.0.1738169308395; 
 Wed, 29 Jan 2025 08:48:28 -0800 (PST)
Received: from postal.iol.unh.edu (postal.iol.unh.edu.
 [2606:4100:3880:1234::84]) by smtp-relay.gmail.com with ESMTPS id
 00721157ae682-6f7adce9d78sm454327b3.28.2025.01.29.08.48.28
 (version=TLS1_2 cipher=ECDHE-ECDSA-AES128-GCM-SHA256 bits=128/128);
 Wed, 29 Jan 2025 08:48:28 -0800 (PST)
X-Relaying-Domain: iol.unh.edu
Date: Wed, 29 Jan 2025 08:48:28 -0800 (PST)
Message-ID: <679a5bdc.050a0220.1ae6d8.300dSMTPIN_ADDED_MISSING@mx.google.com>
Received: from [172.17.0.5] (unknown [172.18.0.217])
 by postal.iol.unh.edu (Postfix) with ESMTP id DB4A56052471;
 Wed, 29 Jan 2025 11:48:27 -0500 (EST)
Subject: |SUCCESS| pw150591-150592 [PATCH] [v3,2/2] net/af_xdp: Refactor af_x
From: dpdklab@iol.unh.edu
To: Test Report <test-report@dpdk.org>
Cc: dpdk-test-reports@iol.unh.edu
In-Reply-To: <20250128231152.249497-3-ariel.otilibili@6wind.com>
References: <20250128231152.249497-3-ariel.otilibili@6wind.com>
Content-Type: text/plain
X-BeenThere: test-report@dpdk.org
X-Mailman-Version: 2.1.29
Precedence: list
List-Id: automatic DPDK test reports <test-report.dpdk.org>
List-Unsubscribe: <https://mails.dpdk.org/options/test-report>,
 <mailto:test-report-request@dpdk.org?subject=unsubscribe>
List-Archive: <http://mails.dpdk.org/archives/test-report/>
List-Post: <mailto:test-report@dpdk.org>
List-Help: <mailto:test-report-request@dpdk.org?subject=help>
List-Subscribe: <https://mails.dpdk.org/listinfo/test-report>,
 <mailto:test-report-request@dpdk.org?subject=subscribe>
Errors-To: test-report-bounces@dpdk.org

Test-Label: iol-unit-arm64-testing
Test-Status: SUCCESS
http://dpdk.org/patch/150592

_Testing PASS_

Submitter: Ariel Otilibili <ariel.otilibili@6wind.com>
Date: Tuesday, January 28 2025 23:11:52 
DPDK git baseline: Repo:dpdk
  Branch: master
  CommitID:7e08e8fc439f37f9b0dfbfbba9d1877cd8546fde

150591-150592 --> testing pass

Upstream job id: Generic-Unit-Test-DPDK#310144

Test environment and result as below:

+-----------------------------+----------------+--------------+------------------------------+---------------------------+
|         Environment         | dpdk_unit_test | lpm_autotest | cryptodev_sw_snow3g_autotest | cryptodev_sw_zuc_autotest |
+=============================+================+==============+==============================+===========================+
| Debian 11 (Buster) (ARM)    | PASS           | SKIPPED      | SKIPPED                      | SKIPPED                   |
+-----------------------------+----------------+--------------+------------------------------+---------------------------+
| Debian 12 (arm)             | PASS           | SKIPPED      | PASS                         | PASS                      |
+-----------------------------+----------------+--------------+------------------------------+---------------------------+
| CentOS Stream 9 (ARM)       | PASS           | SKIPPED      | SKIPPED                      | SKIPPED                   |
+-----------------------------+----------------+--------------+------------------------------+---------------------------+
| Fedora 40 (ARM)             | PASS           | SKIPPED      | SKIPPED                      | SKIPPED                   |
+-----------------------------+----------------+--------------+------------------------------+---------------------------+
| Fedora 40 (ARM Clang)       | PASS           | SKIPPED      | SKIPPED                      | SKIPPED                   |
+-----------------------------+----------------+--------------+------------------------------+---------------------------+
| Fedora 41 (ARM)             | PASS           | SKIPPED      | SKIPPED                      | SKIPPED                   |
+-----------------------------+----------------+--------------+------------------------------+---------------------------+
| Fedora 41 (ARM Clang)       | PASS           | SKIPPED      | SKIPPED                      | SKIPPED                   |
+-----------------------------+----------------+--------------+------------------------------+---------------------------+
| Ubuntu 20.04 (ARM)          | PASS           | SKIPPED      | SKIPPED                      | SKIPPED                   |
+-----------------------------+----------------+--------------+------------------------------+---------------------------+
| Ubuntu 22.04 (ARM)          | PASS           | SKIPPED      | SKIPPED                      | SKIPPED                   |
+-----------------------------+----------------+--------------+------------------------------+---------------------------+
| RHEL9 (ARM)                 | PASS           | SKIPPED      | SKIPPED                      | SKIPPED                   |
+-----------------------------+----------------+--------------+------------------------------+---------------------------+
| Ubuntu 24.04 (ARM)          | PASS           | SKIPPED      | SKIPPED                      | SKIPPED                   |
+-----------------------------+----------------+--------------+------------------------------+---------------------------+
| 32-bit Ubuntu 22.04.4 (ARM) | PASS           | SKIPPED      | SKIPPED                      | SKIPPED                   |
+-----------------------------+----------------+--------------+------------------------------+---------------------------+
| Ubuntu 20.04 ARM SVE        | SKIPPED        | PASS         | SKIPPED                      | SKIPPED                   |
+-----------------------------+----------------+--------------+------------------------------+---------------------------+


Debian 11 (Buster) (ARM)
	Kernel: Depends on container host
	Compiler: gcc (Debian 10.2.1-6) 10.2.1 20210110

Debian 12 (arm)
	Kernel: Depends on container host
	Compiler: gcc (Debian 12.2.0-14) 12.2.0

CentOS Stream 9 (ARM)
	Kernel: Depends on container host
	Compiler: gcc 11.5.0 20240719 (Red Hat 11.5.0-2)

Fedora 40 (ARM)
	Kernel: Depends on container host
	Compiler: gcc 14.2.1 20240912 (Red Hat 14.2.1-3)

Fedora 40 (ARM Clang)
	Kernel: Depends on container host
	Compiler: clang 18.1.8 (Fedora 18.1.8-1.fc40)

Fedora 41 (ARM)
	Kernel: Depends on container host
	Compiler: gcc 14.2.1 20240912 (Red Hat 14.2.1-3)

Fedora 41 (ARM Clang)
	Kernel: Depends on container host
	Compiler: clang 19.1.5 (Fedora 19.1.5-1.fc41)

Ubuntu 20.04 (ARM)
	Kernel: Depends on container host
	Compiler: gcc (Ubuntu 9.4.0-1ubuntu1~20.04.2) 9.4.0

Ubuntu 22.04 (ARM)
	Kernel: Depends on container host
	Compiler: gcc (Ubuntu 11.4.0-1ubuntu1~22.04) 11.4.0

RHEL9 (ARM)
	Kernel: Depends on container host
	Compiler: gcc 11.5.0 20240719 (Red Hat 11.5.0-2)

Ubuntu 24.04 (ARM)
	Kernel: Depends on container host
	Compiler: gcc (Ubuntu 13.3.0-6ubuntu2~24.04) 13.3.0

32-bit Ubuntu 22.04.4 (ARM)
	Kernel: 5.15.83+ aarch64
	Compiler: gcc (Ubuntu 11.4.0-1ubuntu1~22.04) 11.4.0

Ubuntu 20.04 ARM SVE
	Kernel: Depends on container host
	Compiler: gcc (Ubuntu 10.5.0-1ubuntu1~20.04) 10.5.0

To view detailed results, visit:
https://lab.dpdk.org/results/dashboard/patchsets/32447/

UNH-IOL DPDK Community Lab

To manage your email subscriptions, visit: 
https://lab.dpdk.org/results/dashboard/preferences/subscriptions/