From mboxrd@z Thu Jan  1 00:00:00 1970
Return-Path: <test-report-bounces@dpdk.org>
Received: from mails.dpdk.org (mails.dpdk.org [217.70.189.124])
	by inbox.dpdk.org (Postfix) with ESMTP id C8B614614A
	for <public@inbox.dpdk.org>; Thu, 30 Jan 2025 11:16:39 +0100 (CET)
Received: from mails.dpdk.org (localhost [127.0.0.1])
	by mails.dpdk.org (Postfix) with ESMTP id 97B7D40275;
	Thu, 30 Jan 2025 11:16:39 +0100 (CET)
Received: from mail-pl1-f225.google.com (mail-pl1-f225.google.com
 [209.85.214.225])
 by mails.dpdk.org (Postfix) with ESMTP id 8413840156
 for <test-report@dpdk.org>; Thu, 30 Jan 2025 11:16:38 +0100 (CET)
Received: by mail-pl1-f225.google.com with SMTP id
 d9443c01a7336-21ddb406f32so9145965ad.2
 for <test-report@dpdk.org>; Thu, 30 Jan 2025 02:16:38 -0800 (PST)
DKIM-Signature: v=1; a=rsa-sha256; c=relaxed/relaxed;
 d=iol.unh.edu; s=unh-iol; t=1738232197; x=1738836997; darn=dpdk.org;
 h=references:in-reply-to:cc:to:from:subject:message-id:date:from:to
 :cc:subject:date:message-id:reply-to;
 bh=JOahhT6sE7fYbhdBPtgBUBgCIS21d5iurq/rbP1nATg=;
 b=OWSAngR8znpxqazXYUJ/cnca915lDGnaZlSn5qCKioBge4jHanVAR01tRSxE1OCZbR
 Fqa/TubCfX4NYGxZThpaOL5t4GxpNR/seuLuFA518fjkewhdc0+w4q1OekoCoCstb3se
 Cweab0HDVZpPEKfCTjcQf4y971ch6jZeqGsJY=
X-Google-DKIM-Signature: v=1; a=rsa-sha256; c=relaxed/relaxed;
 d=1e100.net; s=20230601; t=1738232197; x=1738836997;
 h=references:in-reply-to:cc:to:from:subject:message-id:date
 :x-gm-message-state:from:to:cc:subject:date:message-id:reply-to;
 bh=JOahhT6sE7fYbhdBPtgBUBgCIS21d5iurq/rbP1nATg=;
 b=K7b6E2nakDTpqSVoN0JPgPZJDN5cz256NPS/gi9QKtv2Z3f1B1Jw800BX6uZwFpOf6
 CmPTG+ei9C8EH61jRRT9RTiVZfex/FJKa0wJfW0p5B+N3kPvbIYCp3JAVXA/+4quIHd/
 n4iv4UgpflbEpE2uOx+BzTAi9QMj2u5nKY+7T+D7My7hHZDDvklET6US29juoHXBcpDa
 rEwiSA8anXazzPwf/YwCCrCROj0OhvSm7eonWMqmmuecQndDq8aoTw0oNIkFCqkELxqO
 tsVkmxa2zm2HS89bLx2/dlbZrwl2r7q/mshu9yiRzEMcQ/r5BK3KXhnNsgdy+LDoPnp3
 RAdg==
X-Gm-Message-State: AOJu0Yxd2ExqiZQZc+BW7JZg6eRAO5cnXCvT7ynaLdKN6Jt4aANYmg3v
 7N+fx48UR18EuoImH3zTLqwelzOXJuC++C7goxNxD2o4Ypee4LgZRAjS63KNDzAGfm1f8Z0m0qa
 33vhPXKA4YinwnuNvcRbjlxmbF7GUC7n/HPJ2t8AKBcoIW5qT9Orjs+vQ
X-Gm-Gg: ASbGncsewEzGPsnEiUUmjeSMTnNZUPB+da7WjPBo3G6LT9pLi94Urw5mTvJgY5+I4uq
 8+/k2C0Hl7BKSck+NRskOG4NTCzDlJJJiAgR5GN4pOVhV0HYGSmX56w3uIJNe/dovtVSuD1fkuI
 /lR6nW+CiGjBxxBtPFuwbMcxMJ0MJSbIvHyXNF0+wwOleWbff1IwW9nsA4mmqvFL8ZyF8UNPub8
 pgU2k93oG9PQFMxY6JHsJDn5lIuPyNeiz4+tvF5gRLUTNQpML1yVm20HNMNcO2GeBJCUCOjTadU
 Y6ENIklTOzLdwEgt+lLf1PVGfv3EE4JP8FgBXxDFLw==
X-Google-Smtp-Source: AGHT+IH65Umi4qLnlt7VdFJK6qtm1skirlV7fD1jroefFMglmfNXXCzGMDiGpse/dZ0Gag+5lKTt4UlfSWKv
X-Received: by 2002:a05:6a00:2350:b0:72a:a7a4:b4cd with SMTP id
 d2e1a72fcca58-72fd0c728ffmr9477423b3a.21.1738232197500; 
 Thu, 30 Jan 2025 02:16:37 -0800 (PST)
Received: from postal.iol.unh.edu (postal.iol.unh.edu.
 [2606:4100:3880:1234::84]) by smtp-relay.gmail.com with ESMTPS id
 d2e1a72fcca58-72fe6a27e5fsm61273b3a.21.2025.01.30.02.16.37
 (version=TLS1_2 cipher=ECDHE-ECDSA-AES128-GCM-SHA256 bits=128/128);
 Thu, 30 Jan 2025 02:16:37 -0800 (PST)
X-Relaying-Domain: iol.unh.edu
Date: Thu, 30 Jan 2025 02:16:37 -0800 (PST)
Message-ID: <679b5185.050a0220.390470.3f26SMTPIN_ADDED_MISSING@mx.google.com>
Received: from [172.17.0.5] (unknown [172.18.0.217])
 by postal.iol.unh.edu (Postfix) with ESMTP id A21226052471;
 Thu, 30 Jan 2025 05:16:36 -0500 (EST)
Subject: |SUCCESS| pw150603-150604 [PATCH] [v3,2/2] common/idpf: enable AVX2 
From: dpdklab@iol.unh.edu
To: Test Report <test-report@dpdk.org>
Cc: dpdk-test-reports@iol.unh.edu
In-Reply-To: <20250130082445.1112043-3-shaiq.wani@intel.com>
References: <20250130082445.1112043-3-shaiq.wani@intel.com>
Content-Type: text/plain
X-BeenThere: test-report@dpdk.org
X-Mailman-Version: 2.1.29
Precedence: list
List-Id: automatic DPDK test reports <test-report.dpdk.org>
List-Unsubscribe: <https://mails.dpdk.org/options/test-report>,
 <mailto:test-report-request@dpdk.org?subject=unsubscribe>
List-Archive: <http://mails.dpdk.org/archives/test-report/>
List-Post: <mailto:test-report@dpdk.org>
List-Help: <mailto:test-report-request@dpdk.org?subject=help>
List-Subscribe: <https://mails.dpdk.org/listinfo/test-report>,
 <mailto:test-report-request@dpdk.org?subject=subscribe>
Errors-To: test-report-bounces@dpdk.org

Test-Label: iol-unit-amd64-testing
Test-Status: SUCCESS
http://dpdk.org/patch/150604

_Testing PASS_

Submitter: Shaiq Wani <shaiq.wani@intel.com>
Date: Thursday, January 30 2025 08:24:45 
DPDK git baseline: Repo:dpdk
  Branch: master
  CommitID:9eb60580d155f5e3a36927dbb1e59ef9623231ce

150603-150604 --> testing pass

Upstream job id: Generic-Unit-Test-DPDK#310368

Test environment and result as below:

+---------------------+----------------+
|     Environment     | dpdk_unit_test |
+=====================+================+
| Debian Bullseye     | PASS           |
+---------------------+----------------+
| CentOS Stream 9     | PASS           |
+---------------------+----------------+
| Debian 12           | PASS           |
+---------------------+----------------+
| Fedora 40           | PASS           |
+---------------------+----------------+
| Fedora 41 (Clang)   | PASS           |
+---------------------+----------------+
| Fedora 41           | PASS           |
+---------------------+----------------+
| Fedora 40 (Clang)   | PASS           |
+---------------------+----------------+
| RHEL8               | PASS           |
+---------------------+----------------+
| Ubuntu 20.04        | PASS           |
+---------------------+----------------+
| Ubuntu 22.04        | PASS           |
+---------------------+----------------+
| Ubuntu 24.04        | PASS           |
+---------------------+----------------+
| RHEL9               | PASS           |
+---------------------+----------------+
| Windows Server 2022 | PASS           |
+---------------------+----------------+


Debian Bullseye
	Kernel: Depends on container host
	Compiler: gcc (Debian 10.2.1-6) 10.2.1 20210110

CentOS Stream 9
	Kernel: Depends on container host
	Compiler: gcc 11.5.0 20240719 (Red Hat 11.5.0-2)

Debian 12
	Kernel: Depends on container host
	Compiler: gcc (Debian 12.2.0-14) 12.2.0

Fedora 40
	Kernel: Depends on container host
	Compiler: gcc 14.2.1 20240912 (Red Hat 14.2.1-3)

Fedora 41 (Clang)
	Kernel: Depends on container host
	Compiler: clang 19.1.5 (Fedora 19.1.5-1.fc41)

Fedora 41
	Kernel: Depends on container host
	Compiler: gcc 14.2.1 20240912 (Red Hat 14.2.1-3)

Fedora 40 (Clang)
	Kernel: Depends on container host
	Compiler: clang 18.1.8 (Fedora 18.1.8-1.fc40)

RHEL8
	Kernel: Depends on container host
	Compiler: gcc 8.5.0 20210514 (Red Hat 8.5.0-22)

Ubuntu 20.04
	Kernel: Depends on container host
	Compiler: gcc (Ubuntu 9.4.0-1ubuntu1~20.04.2) 9.4.0

Ubuntu 22.04
	Kernel: Depends on container host
	Compiler: gcc (Ubuntu 11.4.0-1ubuntu1~22.04) 11.4.0

Ubuntu 24.04
	Kernel: Depends on container host
	Compiler: gcc (Ubuntu 13.3.0-6ubuntu2~24.04) 13.3.0

RHEL9
	Kernel: Depends on container host
	Compiler: gcc 11.5.0 20240719 (Red Hat 11.5.0-2)

Windows Server 2022
	Kernel: 10.0.20348.2031
	Compiler: clang 15.0.7, gcc 14.1.0 (MinGW), and MSVC VS 19.39.33521

To view detailed results, visit:
https://lab.dpdk.org/results/dashboard/patchsets/32453/

UNH-IOL DPDK Community Lab

To manage your email subscriptions, visit: 
https://lab.dpdk.org/results/dashboard/preferences/subscriptions/