From mboxrd@z Thu Jan  1 00:00:00 1970
Return-Path: <test-report-bounces@dpdk.org>
Received: from mails.dpdk.org (mails.dpdk.org [217.70.189.124])
	by inbox.dpdk.org (Postfix) with ESMTP id 9065C4614D
	for <public@inbox.dpdk.org>; Thu, 30 Jan 2025 21:46:41 +0100 (CET)
Received: from mails.dpdk.org (localhost [127.0.0.1])
	by mails.dpdk.org (Postfix) with ESMTP id 6985C40275;
	Thu, 30 Jan 2025 21:46:41 +0100 (CET)
Received: from mail-il1-f225.google.com (mail-il1-f225.google.com
 [209.85.166.225])
 by mails.dpdk.org (Postfix) with ESMTP id 330CE4025A
 for <test-report@dpdk.org>; Thu, 30 Jan 2025 21:46:40 +0100 (CET)
Received: by mail-il1-f225.google.com with SMTP id
 e9e14a558f8ab-3cf8e017abcso3969725ab.1
 for <test-report@dpdk.org>; Thu, 30 Jan 2025 12:46:40 -0800 (PST)
DKIM-Signature: v=1; a=rsa-sha256; c=relaxed/relaxed;
 d=iol.unh.edu; s=unh-iol; t=1738269999; x=1738874799; darn=dpdk.org;
 h=references:in-reply-to:cc:to:from:subject:message-id:date:from:to
 :cc:subject:date:message-id:reply-to;
 bh=ykUQ5OnonE4YfdZ3kwCshOb4bJYm+vqkS4obUvguO1U=;
 b=arNDyoc/x+s0r6VpTwzCG23FGSM+tyVMBLLVadIdD8vmoPQaT6mJFLY9hqagVKtDcG
 dGD+LmP6FsnQIrbFLHn3sq56/zFcWaU75PC4pHBDn+zpwASTIyxZw2KonUZrsNTGblip
 4O1mDsjk94KqxA9hDKW2rqKIKzgnhVtBs9jCE=
X-Google-DKIM-Signature: v=1; a=rsa-sha256; c=relaxed/relaxed;
 d=1e100.net; s=20230601; t=1738269999; x=1738874799;
 h=references:in-reply-to:cc:to:from:subject:message-id:date
 :x-gm-message-state:from:to:cc:subject:date:message-id:reply-to;
 bh=ykUQ5OnonE4YfdZ3kwCshOb4bJYm+vqkS4obUvguO1U=;
 b=t4vb0n4wM/cjEaW8thHTx94q18zS38w/jXdFgyQJ2o9yLubsOEUqDztgq5YNZQZllj
 r0zMJrg74V7vkvILRxxrGm1aaJEErgefqrsZOHfVuT58wFTFz9uUKG7wY2EN9MN4oezg
 dDbn6XCAnZQ6TP6fKO+/ffHqyHogoEsNIutP0BgFHbhkqkaiHmGJ8OL+bl6t/49X+o3S
 AnqrMnaGyVGzjR+YnL/loRBjM+501KmU62fLDy4c0K7oka2o/Ef5OKBsjBfrWekWL2tP
 96ASxMRWFU7ApofJFb6BRz9J8mhNSpbnA6iPQt+Kg9XdAA5+Ejw/mU5LI8A85jv4rcSy
 cb2g==
X-Gm-Message-State: AOJu0Yy1xLZ4bdOovUKHKogomvf2nwat3g/mQ1bSjPydYWEqmqM42e0J
 7VltxKs9HMOYppFkeurZG5hgc2Mgz41SxjKSwlrp4cU2s0X4cVe18ZytI0OlVEM5N2l8uTWD5Rv
 eO5PPHcsZS0qdPPQlNYzkqKNIoriZHlDaQJ+rP0UShaoU8QNso2v6ZlzC
X-Gm-Gg: ASbGncurR5mEQi+gajcP8KFLN6bSsZCJfzzq6T5nuSmHg4g+AA5ZNARHzuy6t3Rjsth
 4Opi4ND7/H3ZFYBJttVbi3hkbeV/Efpb7lGnJoDKcuuj54FBjZlRoul+/DFRLv8C9roeisAo7Ge
 SLZbbV79qHEP6kDPzEn2r0XhH+QLDtpatMJBY5NJbdTgijl1jTYoMFmipKuOGHX/CTZlk7vsKL6
 9jxr1huuipk3eTa/OYAm+XB9ki58ZdtnpH/0kjuoO+1gn2CtfbLjk0oyRTx0EtDvbZraEA4Tcga
 xLimiyqZ6zHum7hwhPLkxImeJj6l6WYPYDP5kFkzZQ==
X-Google-Smtp-Source: AGHT+IF6IDqRg74jn21LE2e8VvJFDy3wYQq1dKJhm+Xc/ojN+Z5+qCWGsS8xrGrAfRwXBxs3Fgv5rTy1OAlB
X-Received: by 2002:a05:6e02:1d88:b0:3cf:cdb8:78fe with SMTP id
 e9e14a558f8ab-3cffe4745d8mr73198635ab.22.1738269999293; 
 Thu, 30 Jan 2025 12:46:39 -0800 (PST)
Received: from postal.iol.unh.edu (postal.iol.unh.edu.
 [2606:4100:3880:1234::84]) by smtp-relay.gmail.com with ESMTPS id
 8926c6da1cb9f-4ec745b750dsm121557173.24.2025.01.30.12.46.39
 (version=TLS1_2 cipher=ECDHE-ECDSA-AES128-GCM-SHA256 bits=128/128);
 Thu, 30 Jan 2025 12:46:39 -0800 (PST)
X-Relaying-Domain: iol.unh.edu
Date: Thu, 30 Jan 2025 12:46:39 -0800 (PST)
Message-ID: <679be52f.050a0220.221f8e.701bSMTPIN_ADDED_MISSING@mx.google.com>
Received: from [172.21.0.5] (unknown [172.18.0.240])
 by postal.iol.unh.edu (Postfix) with ESMTP id CE9F66052471;
 Thu, 30 Jan 2025 15:46:38 -0500 (EST)
Subject: |SUCCESS| pw150645 [PATCH] net/ice: fix how ice driver handles flows
From: dpdklab@iol.unh.edu
To: Test Report <test-report@dpdk.org>
Cc: dpdk-test-reports@iol.unh.edu
In-Reply-To: <20250130155011.2658800-1-vladimir.medvedkin@intel.com>
References: <20250130155011.2658800-1-vladimir.medvedkin@intel.com>
Content-Type: text/plain
X-BeenThere: test-report@dpdk.org
X-Mailman-Version: 2.1.29
Precedence: list
List-Id: automatic DPDK test reports <test-report.dpdk.org>
List-Unsubscribe: <https://mails.dpdk.org/options/test-report>,
 <mailto:test-report-request@dpdk.org?subject=unsubscribe>
List-Archive: <http://mails.dpdk.org/archives/test-report/>
List-Post: <mailto:test-report@dpdk.org>
List-Help: <mailto:test-report-request@dpdk.org?subject=help>
List-Subscribe: <https://mails.dpdk.org/listinfo/test-report>,
 <mailto:test-report-request@dpdk.org?subject=subscribe>
Errors-To: test-report-bounces@dpdk.org

Test-Label: iol-unit-amd64-testing
Test-Status: SUCCESS
http://dpdk.org/patch/150645

_Testing PASS_

Submitter: Medvedkin, Vladimir <vladimir.medvedkin@intel.com>
Date: Thursday, January 30 2025 15:50:11 
DPDK git baseline: Repo:dpdk
  Branch: master
  CommitID:212bfb5c4cbd1a2dc3a12f6f52f0b0299a67ff98

150645 --> testing pass

Upstream job id: Generic-Unit-Test-DPDK#310508

Test environment and result as below:

+---------------------+----------------+
|     Environment     | dpdk_unit_test |
+=====================+================+
| Debian Bullseye     | PASS           |
+---------------------+----------------+
| CentOS Stream 9     | PASS           |
+---------------------+----------------+
| Fedora 41           | PASS           |
+---------------------+----------------+
| Fedora 40           | PASS           |
+---------------------+----------------+
| Fedora 40 (Clang)   | PASS           |
+---------------------+----------------+
| Debian 12           | PASS           |
+---------------------+----------------+
| RHEL8               | PASS           |
+---------------------+----------------+
| Fedora 41 (Clang)   | PASS           |
+---------------------+----------------+
| Ubuntu 22.04        | PASS           |
+---------------------+----------------+
| Ubuntu 20.04        | PASS           |
+---------------------+----------------+
| RHEL9               | PASS           |
+---------------------+----------------+
| Ubuntu 24.04        | PASS           |
+---------------------+----------------+
| Windows Server 2022 | PASS           |
+---------------------+----------------+


Debian Bullseye
	Kernel: Depends on container host
	Compiler: gcc (Debian 10.2.1-6) 10.2.1 20210110

CentOS Stream 9
	Kernel: Depends on container host
	Compiler: gcc 11.5.0 20240719 (Red Hat 11.5.0-2)

Fedora 41
	Kernel: Depends on container host
	Compiler: gcc 14.2.1 20240912 (Red Hat 14.2.1-3)

Fedora 40
	Kernel: Depends on container host
	Compiler: gcc 14.2.1 20240912 (Red Hat 14.2.1-3)

Fedora 40 (Clang)
	Kernel: Depends on container host
	Compiler: clang 18.1.8 (Fedora 18.1.8-1.fc40)

Debian 12
	Kernel: Depends on container host
	Compiler: gcc (Debian 12.2.0-14) 12.2.0

RHEL8
	Kernel: Depends on container host
	Compiler: gcc 8.5.0 20210514 (Red Hat 8.5.0-22)

Fedora 41 (Clang)
	Kernel: Depends on container host
	Compiler: clang 19.1.5 (Fedora 19.1.5-1.fc41)

Ubuntu 22.04
	Kernel: Depends on container host
	Compiler: gcc (Ubuntu 11.4.0-1ubuntu1~22.04) 11.4.0

Ubuntu 20.04
	Kernel: Depends on container host
	Compiler: gcc (Ubuntu 9.4.0-1ubuntu1~20.04.2) 9.4.0

RHEL9
	Kernel: Depends on container host
	Compiler: gcc 11.5.0 20240719 (Red Hat 11.5.0-2)

Ubuntu 24.04
	Kernel: Depends on container host
	Compiler: gcc (Ubuntu 13.3.0-6ubuntu2~24.04) 13.3.0

Windows Server 2022
	Kernel: 10.0.20348.2031
	Compiler: clang 15.0.7, gcc 14.1.0 (MinGW), and MSVC VS 19.39.33521

To view detailed results, visit:
https://lab.dpdk.org/results/dashboard/patchsets/32462/

UNH-IOL DPDK Community Lab

To manage your email subscriptions, visit: 
https://lab.dpdk.org/results/dashboard/preferences/subscriptions/