From mboxrd@z Thu Jan  1 00:00:00 1970
Return-Path: <test-report-bounces@dpdk.org>
Received: from mails.dpdk.org (mails.dpdk.org [217.70.189.124])
	by inbox.dpdk.org (Postfix) with ESMTP id E7A4646145
	for <public@inbox.dpdk.org>; Fri, 31 Jan 2025 00:24:29 +0100 (CET)
Received: from mails.dpdk.org (localhost [127.0.0.1])
	by mails.dpdk.org (Postfix) with ESMTP id E3CEE40281;
	Fri, 31 Jan 2025 00:24:29 +0100 (CET)
Received: from mail-pl1-f228.google.com (mail-pl1-f228.google.com
 [209.85.214.228])
 by mails.dpdk.org (Postfix) with ESMTP id 83C684027C
 for <test-report@dpdk.org>; Fri, 31 Jan 2025 00:24:29 +0100 (CET)
Received: by mail-pl1-f228.google.com with SMTP id
 d9443c01a7336-215770613dbso18080525ad.2
 for <test-report@dpdk.org>; Thu, 30 Jan 2025 15:24:29 -0800 (PST)
DKIM-Signature: v=1; a=rsa-sha256; c=relaxed/relaxed;
 d=iol.unh.edu; s=unh-iol; t=1738279468; x=1738884268; darn=dpdk.org;
 h=references:in-reply-to:cc:to:from:subject:message-id:date:from:to
 :cc:subject:date:message-id:reply-to;
 bh=xSvShtGZ6XUhevEVHlgeSzEib6XmLCJyFkeFSDqj3gU=;
 b=QUCsdE5kDKi6MEKWwWAC2qbIbPbIxYLdk+OoqfEZXBkoaAtpSbRZhyQB+UeSNZX9+5
 12RRQ97D0lixjSBQ+zMpuZaS5WmECO3fApYXNR9/orfGryWZQFXKbGeTd1aLq8u7ycvj
 dUwZC+9bgphwrQNGkOv7z7qV64VX4zK4viTXo=
X-Google-DKIM-Signature: v=1; a=rsa-sha256; c=relaxed/relaxed;
 d=1e100.net; s=20230601; t=1738279468; x=1738884268;
 h=references:in-reply-to:cc:to:from:subject:message-id:date
 :x-gm-message-state:from:to:cc:subject:date:message-id:reply-to;
 bh=xSvShtGZ6XUhevEVHlgeSzEib6XmLCJyFkeFSDqj3gU=;
 b=W87NBVAkJHeoAUPuwZegIfb3+7DRwEBBGGmWhmfIXc8kRGgJmdJqzo189aLJxk+3AI
 t920zieUkIgomLNrhZITU7g4kC192O8iQOWnIv6JUTLYPHZNqCzu4hzdQNr6V+OslUIv
 5gmCtuBOLokKr5fq4/tlhGJcOhPJ9xZw3bcEEiW4CqBA4eobFU1wluKI6WBOAO5NJYyy
 sFQDSffc+Eh65OpRetymmhy00ro0y8Ibpy3wz6CIQxtPwUxxyn9VY+uV3AwA0lR/MAED
 Cg52jV2ashVMcY15mbtYMJYs9fqRFU9oS4p3N2dYIzSiLhPkNVMfJ8IehbV29fWvNXIv
 JXoQ==
X-Gm-Message-State: AOJu0Yx/TpRysXLHLCOFa7P8VvK7D6A4hMMoBkQPMzszccxIeAZcJQVM
 hpR9CFpGbrER7SAXFneHrpE1WtQDrezC4FSrBOooC/s2Rgm44mcJyVKAqBLPjUz0w6IOUS0kv6C
 C8Dsvn8S3ud3TMF6zJ7QvQVb/+Dkqw/kL1k2nFQuTReTrpmCSvJckNwRp
X-Gm-Gg: ASbGncuTd0qB6GvVEO5ph9ndQ/jLaaK2sahp/b98tUB90fd9MsezvwXdIR5UfaxhptE
 d3FqbmmAxfQllW0djQCXhG1DoIRo4XAuD/n/AjoUa0w6UtgR+UppglBOS7bcTlmi7mjN5foHGPJ
 uE/+qkkEuKKGD502p5TObEbxbhuRBEJbs3zRaIvVFTluCADul4DRfqLbxJmz+ekWyor2H3bkMZX
 0gotIJmNJNAr0eUAXkuR0h9WspEwUvQlyX+v/ERjvbNzvdmv+Vf+z4X8soVOOAISxs7hJF/j18P
 m44BBU+rWvuI2An7PsjrrFOpXT/7CT3N4lCiBftdpA==
X-Google-Smtp-Source: AGHT+IGsqXZXrZdtApVnb9sijwd/i4F6pCsgEQ83ffRc6zSPmow+ecem7Zc+oZXK10sTAcJv7ASnvoHEMv/P
X-Received: by 2002:a17:902:d582:b0:215:19ae:77bf with SMTP id
 d9443c01a7336-21dd7c66949mr145802945ad.19.1738279468671; 
 Thu, 30 Jan 2025 15:24:28 -0800 (PST)
Received: from postal.iol.unh.edu (postal.iol.unh.edu.
 [2606:4100:3880:1234::84]) by smtp-relay.gmail.com with ESMTPS id
 d9443c01a7336-21de321a758sm554115ad.12.2025.01.30.15.24.28
 (version=TLS1_2 cipher=ECDHE-ECDSA-AES128-GCM-SHA256 bits=128/128);
 Thu, 30 Jan 2025 15:24:28 -0800 (PST)
X-Relaying-Domain: iol.unh.edu
Date: Thu, 30 Jan 2025 15:24:28 -0800 (PST)
Message-ID: <679c0a2c.170a0220.3a07d7.28f8SMTPIN_ADDED_MISSING@mx.google.com>
Received: from [172.21.0.5] (unknown [172.18.0.240])
 by postal.iol.unh.edu (Postfix) with ESMTP id C8B7C6052471;
 Thu, 30 Jan 2025 18:24:27 -0500 (EST)
Subject: |WARNING| pw150647 [PATCH] dma/idxd: add device ids for new HW versi
From: dpdklab@iol.unh.edu
To: Test Report <test-report@dpdk.org>
Cc: dpdk-test-reports@iol.unh.edu
In-Reply-To: <20250130172624.1450975-2-bruce.richardson@intel.com>
References: <20250130172624.1450975-2-bruce.richardson@intel.com>
Content-Type: text/plain
X-BeenThere: test-report@dpdk.org
X-Mailman-Version: 2.1.29
Precedence: list
List-Id: automatic DPDK test reports <test-report.dpdk.org>
List-Unsubscribe: <https://mails.dpdk.org/options/test-report>,
 <mailto:test-report-request@dpdk.org?subject=unsubscribe>
List-Archive: <http://mails.dpdk.org/archives/test-report/>
List-Post: <mailto:test-report@dpdk.org>
List-Help: <mailto:test-report-request@dpdk.org?subject=help>
List-Subscribe: <https://mails.dpdk.org/listinfo/test-report>,
 <mailto:test-report-request@dpdk.org?subject=subscribe>
Errors-To: test-report-bounces@dpdk.org

Test-Label: iol-compile-amd64-testing
Test-Status: WARNING
http://dpdk.org/patch/150647

_Testing issues_

Submitter: Bruce Richardson <bruce.richardson@intel.com>
Date: Thursday, January 30 2025 17:26:25 
DPDK git baseline: Repo:dpdk
  Branch: master
  CommitID:8c565bbebb8f72decbc4af6a69cb76f07bffc472

150647 --> testing issues

Upstream job id: Generic-DPDK-Compile-Meson#356546

Test environment and result as below:

+---------------------+--------------------+-------------------+----------------------+------------------+-------------------+
|     Environment     | dpdk_meson_compile | dpdk_msvc_compile | dpdk_mingw64_compile | dpdk_compile_ovs | dpdk_compile_spdk |
+=====================+====================+===================+======================+==================+===================+
| FreeBSD 13.4        | PASS               | SKIPPED           | SKIPPED              | SKIPPED          | SKIPPED           |
+---------------------+--------------------+-------------------+----------------------+------------------+-------------------+
| FreeBSD 14.2        | PASS               | SKIPPED           | SKIPPED              | SKIPPED          | SKIPPED           |
+---------------------+--------------------+-------------------+----------------------+------------------+-------------------+
| CentOS Stream 9     | PASS               | SKIPPED           | SKIPPED              | PASS             | PASS              |
+---------------------+--------------------+-------------------+----------------------+------------------+-------------------+
| Debian Bullseye     | PASS               | SKIPPED           | SKIPPED              | PASS             | PASS              |
+---------------------+--------------------+-------------------+----------------------+------------------+-------------------+
| Debian 12           | PASS               | SKIPPED           | SKIPPED              | PASS             | PASS              |
+---------------------+--------------------+-------------------+----------------------+------------------+-------------------+
| Fedora 40 (Clang)   | PASS               | SKIPPED           | SKIPPED              | PASS             | PASS              |
+---------------------+--------------------+-------------------+----------------------+------------------+-------------------+
| Fedora 40           | PASS               | SKIPPED           | SKIPPED              | PASS             | PASS              |
+---------------------+--------------------+-------------------+----------------------+------------------+-------------------+
| Fedora 41 (Clang)   | PEND               | SKIPPED           | SKIPPED              | PEND             | PEND              |
+---------------------+--------------------+-------------------+----------------------+------------------+-------------------+
| Fedora 41           | PASS               | SKIPPED           | SKIPPED              | PASS             | PASS              |
+---------------------+--------------------+-------------------+----------------------+------------------+-------------------+
| openSUSE Leap 15    | PASS               | SKIPPED           | SKIPPED              | SKIPPED          | SKIPPED           |
+---------------------+--------------------+-------------------+----------------------+------------------+-------------------+
| RHEL8               | PASS               | SKIPPED           | SKIPPED              | PASS             | SKIPPED           |
+---------------------+--------------------+-------------------+----------------------+------------------+-------------------+
| RHEL9               | PEND               | SKIPPED           | SKIPPED              | PEND             | SKIPPED           |
+---------------------+--------------------+-------------------+----------------------+------------------+-------------------+
| Ubuntu 20.04        | PASS               | SKIPPED           | SKIPPED              | WARN             | SKIPPED           |
+---------------------+--------------------+-------------------+----------------------+------------------+-------------------+
| Ubuntu 22.04        | PEND               | SKIPPED           | SKIPPED              | PEND             | PEND              |
+---------------------+--------------------+-------------------+----------------------+------------------+-------------------+
| Ubuntu 24.04        | PEND               | SKIPPED           | SKIPPED              | PEND             | PEND              |
+---------------------+--------------------+-------------------+----------------------+------------------+-------------------+
| Alpine              | PEND               | SKIPPED           | SKIPPED              | PEND             | SKIPPED           |
+---------------------+--------------------+-------------------+----------------------+------------------+-------------------+
| Windows Server 2022 | SKIPPED            | PASS              | PASS                 | SKIPPED          | SKIPPED           |
+---------------------+--------------------+-------------------+----------------------+------------------+-------------------+

==== 20 line log output for Ubuntu 20.04 (dpdk_compile_ovs): ====
 --- Failed to get log output --- 
==== End log output ====

FreeBSD 13.4
	Kernel: 13.4-RELEASE-p1
	Compiler: clang 18.1.6

FreeBSD 14.2
	Kernel: 14.2-RELEASE
	Compiler: clang 18.1.6

CentOS Stream 9
	Kernel: Depends on container host
	Compiler: gcc 11.5.0 20240719 (Red Hat 11.5.0-2)

Debian Bullseye
	Kernel: Depends on container host
	Compiler: gcc (Debian 10.2.1-6) 10.2.1 20210110

Debian 12
	Kernel: Depends on container host
	Compiler: gcc (Debian 12.2.0-14) 12.2.0

Fedora 40 (Clang)
	Kernel: Depends on container host
	Compiler: clang 18.1.8 (Fedora 18.1.8-1.fc40)

Fedora 40
	Kernel: Depends on container host
	Compiler: gcc 14.2.1 20240912 (Red Hat 14.2.1-3)

Fedora 41 (Clang)
	Kernel: Depends on container host
	Compiler: clang 19.1.5 (Fedora 19.1.5-1.fc41)

Fedora 41
	Kernel: Depends on container host
	Compiler: gcc 14.2.1 20240912 (Red Hat 14.2.1-3)

openSUSE Leap 15
	Kernel: Depends on container host
	Compiler: gcc (SUSE Linux) 7.5.0

RHEL8
	Kernel: Depends on container host
	Compiler: gcc 8.5.0 20210514 (Red Hat 8.5.0-22)

RHEL9
	Kernel: Depends on container host
	Compiler: gcc 11.5.0 20240719 (Red Hat 11.5.0-2)

Ubuntu 20.04
	Kernel: Depends on container host
	Compiler: gcc (Ubuntu 9.4.0-1ubuntu1~20.04.2) 9.4.0

Ubuntu 22.04
	Kernel: Depends on container host
	Compiler: gcc (Ubuntu 11.4.0-1ubuntu1~22.04) 11.4.0

Ubuntu 24.04
	Kernel: Depends on container host
	Compiler: gcc (Ubuntu 13.3.0-6ubuntu2~24.04) 13.3.0

Alpine
	Kernel: Depends on container host
	Compiler: gcc (Alpine 14.2.0) 14.2.0

Windows Server 2022
	Kernel: 10.0.20348.2031
	Compiler: clang 15.0.7, gcc 14.1.0 (MinGW), and MSVC VS 19.39.33521

To view detailed results, visit:
https://lab.dpdk.org/results/dashboard/patchsets/32464/

UNH-IOL DPDK Community Lab

To manage your email subscriptions, visit: 
https://lab.dpdk.org/results/dashboard/preferences/subscriptions/