From mboxrd@z Thu Jan  1 00:00:00 1970
Return-Path: <test-report-bounces@dpdk.org>
Received: from mails.dpdk.org (mails.dpdk.org [217.70.189.124])
	by inbox.dpdk.org (Postfix) with ESMTP id 821B446151
	for <public@inbox.dpdk.org>; Fri, 31 Jan 2025 06:19:58 +0100 (CET)
Received: from mails.dpdk.org (localhost [127.0.0.1])
	by mails.dpdk.org (Postfix) with ESMTP id 7CEAE402DC;
	Fri, 31 Jan 2025 06:19:58 +0100 (CET)
Received: from mail-pl1-f227.google.com (mail-pl1-f227.google.com
 [209.85.214.227])
 by mails.dpdk.org (Postfix) with ESMTP id 654454026E
 for <test-report@dpdk.org>; Fri, 31 Jan 2025 06:19:57 +0100 (CET)
Received: by mail-pl1-f227.google.com with SMTP id
 d9443c01a7336-21ddab8800bso21597465ad.3
 for <test-report@dpdk.org>; Thu, 30 Jan 2025 21:19:57 -0800 (PST)
DKIM-Signature: v=1; a=rsa-sha256; c=relaxed/relaxed;
 d=iol.unh.edu; s=unh-iol; t=1738300796; x=1738905596; darn=dpdk.org;
 h=references:in-reply-to:cc:to:from:subject:message-id:date:from:to
 :cc:subject:date:message-id:reply-to;
 bh=LxqWr2HlH3CfbIeBw0zI2uA6aPcSxPzlsrSOmO5l1yY=;
 b=aTJyLp8xjlEVkQDrCkynCl1Qdq5IBywL8aJVyxmVW1Cbvl0c6GSkT6J1yf3H1CPQJY
 caf6/4Vg+25eIKbbrK+E6FbarrUTk9UjFIs6xCacyNZpr/lZQvoICEib2k1+c5Ef/RUf
 UQFO9vWDgiOJnCNhJ2Da5ATXpR8+g9FX6ZSjY=
X-Google-DKIM-Signature: v=1; a=rsa-sha256; c=relaxed/relaxed;
 d=1e100.net; s=20230601; t=1738300796; x=1738905596;
 h=references:in-reply-to:cc:to:from:subject:message-id:date
 :x-gm-message-state:from:to:cc:subject:date:message-id:reply-to;
 bh=LxqWr2HlH3CfbIeBw0zI2uA6aPcSxPzlsrSOmO5l1yY=;
 b=OqWathBcq75Uu8vlUXVVjFqyMpoxFNnAn3A+0LdDDv4hMdK6oFlD3HTmc45tawRJyY
 KI/EvS+wouIL/PI4Nva67zMnpKo9R34iglZ9Clocs9RZNB4sBVl1FpBr0o9Pyqtt/xOw
 aUucL0ppmmBxAnTI3CGsXv1Xo/0tfewm0PrXMvHGZGGhmj+0/+8zLNOvyLzEo/TXdeFs
 JP+0rbdb2oDvZT8xdh2q+9HNex3wnK5A88YASPIx8Gwz5mMsumFoyr1va5/Hg0V7B9KV
 3YWETrqoR94NWWRy6hNLGkMy3HNxUGD/OLe/J+AVSAqndMhw9o366NZD1umX36JuzJTI
 lrqA==
X-Gm-Message-State: AOJu0Yx+1FIjq+j3V3p6jSdS1S7EzT4fxzbaFuBNHmR7F+24ETvpJ2R2
 XMc36bD91yF3CG1nab3nTm5Yig6Ag5FFf2cnNXAa0OFP5K5YaJC4Nv6flUCl2P9acfhzzU/3DOf
 En9HMyFjo8UIuaZvnEl5TUkqQ0/8J5Srsb4m5DhMM
X-Gm-Gg: ASbGncstixtTZav7I0v1BKIOvj1rG0fngZNfL7MVPQZYPUOxrXQRESgqywi3Y6feOsW
 gMxxyvH9WmJ9sUP3lfyRjsdoDdpNnHbeAHvJQY9clBFjy3Mb7LoJ5SvfuvcY1K4I4iSta+bX25X
 W/Fqq5epDlBU8mesguOi8YVknf9Eq57L1aWSHwgPgEUrIsLcrH5/9kkCXIgG/LtgSgJ87Sm569h
 OqliKdBJQppBAaBDl3SlLQ5NOtapn+jR9ZklD4YhX2Lkrb2Z5fwE28tPmi27ZkVTUwwxqOM/yo4
 tTETHLWbacv0Rh3yM34BYna4DI0y/w==
X-Google-Smtp-Source: AGHT+IF6HeTFAvA4LJusfeNJhKvZKMEu+2JiVBTUzvK8VrpPlcWzTB3GF5EuYCPCv+vJTP0OgFQLuCeQRw8J
X-Received: by 2002:a17:902:ecce:b0:216:386e:dd8 with SMTP id
 d9443c01a7336-21dd7c65abamr146385915ad.17.1738300796562; 
 Thu, 30 Jan 2025 21:19:56 -0800 (PST)
Received: from postal.iol.unh.edu (postal.iol.unh.edu. [132.177.123.84])
 by smtp-relay.gmail.com with ESMTPS id
 d9443c01a7336-21de3346c7bsm782725ad.108.2025.01.30.21.19.56
 (version=TLS1_2 cipher=ECDHE-ECDSA-AES128-GCM-SHA256 bits=128/128);
 Thu, 30 Jan 2025 21:19:56 -0800 (PST)
X-Relaying-Domain: iol.unh.edu
Date: Thu, 30 Jan 2025 21:19:56 -0800 (PST)
Message-ID: <679c5d7c.170a0220.b5b87.3c6aSMTPIN_ADDED_MISSING@mx.google.com>
Received: from [172.21.0.7] (unknown [172.18.0.240])
 by postal.iol.unh.edu (Postfix) with ESMTP id B7B716052471;
 Fri, 31 Jan 2025 00:19:55 -0500 (EST)
Subject: |SUCCESS| pw150645 [PATCH] net/ice: fix how ice driver handles flows
From: dpdklab@iol.unh.edu
To: Test Report <test-report@dpdk.org>
Cc: dpdk-test-reports@iol.unh.edu
In-Reply-To: <20250130155011.2658800-1-vladimir.medvedkin@intel.com>
References: <20250130155011.2658800-1-vladimir.medvedkin@intel.com>
Content-Type: text/plain
X-BeenThere: test-report@dpdk.org
X-Mailman-Version: 2.1.29
Precedence: list
List-Id: automatic DPDK test reports <test-report.dpdk.org>
List-Unsubscribe: <https://mails.dpdk.org/options/test-report>,
 <mailto:test-report-request@dpdk.org?subject=unsubscribe>
List-Archive: <http://mails.dpdk.org/archives/test-report/>
List-Post: <mailto:test-report@dpdk.org>
List-Help: <mailto:test-report-request@dpdk.org?subject=help>
List-Subscribe: <https://mails.dpdk.org/listinfo/test-report>,
 <mailto:test-report-request@dpdk.org?subject=subscribe>
Errors-To: test-report-bounces@dpdk.org

Test-Label: iol-compile-arm64-testing
Test-Status: SUCCESS
http://dpdk.org/patch/150645

_Testing PASS_

Submitter: Medvedkin, Vladimir <vladimir.medvedkin@intel.com>
Date: Thursday, January 30 2025 15:50:11 
DPDK git baseline: Repo:dpdk
  Branch: master
  CommitID:212bfb5c4cbd1a2dc3a12f6f52f0b0299a67ff98

150645 --> testing pass

Upstream job id: Generic-DPDK-Compile-Meson#356539

Test environment and result as below:

+----------------------------------------+--------------------+
|              Environment               | dpdk_meson_compile |
+========================================+====================+
| RHEL9 (ARM)                            | PASS               |
+----------------------------------------+--------------------+
| Ubuntu 20.04 ARM GCC Cross Compile     | PASS               |
+----------------------------------------+--------------------+
| Ubuntu 20.04 ARM SVE                   | PASS               |
+----------------------------------------+--------------------+
| Debian 12 with MUSDK                   | PASS               |
+----------------------------------------+--------------------+
| Fedora 40 (ARM)                        | PASS               |
+----------------------------------------+--------------------+
| Fedora 40 (ARM Clang)                  | PASS               |
+----------------------------------------+--------------------+
| Fedora 41 (ARM)                        | PASS               |
+----------------------------------------+--------------------+
| Fedora 41 (ARM Clang)                  | PASS               |
+----------------------------------------+--------------------+
| Ubuntu 20.04 (ARM)                     | PASS               |
+----------------------------------------+--------------------+
| Ubuntu 22.04 (ARM)                     | PASS               |
+----------------------------------------+--------------------+
| Ubuntu 24.04 (ARM)                     | PASS               |
+----------------------------------------+--------------------+
| CentOS Stream 9 (ARM)                  | PASS               |
+----------------------------------------+--------------------+
| Debian 11 (Buster) (ARM)               | PASS               |
+----------------------------------------+--------------------+
| Debian 12 (arm)                        | PASS               |
+----------------------------------------+--------------------+
| Ubuntu 20.04 ARM Clang Cross Compile   | PASS               |
+----------------------------------------+--------------------+
| Ubuntu 20.04 aarch32 GCC Cross Compile | PASS               |
+----------------------------------------+--------------------+


RHEL9 (ARM)
	Kernel: Depends on container host
	Compiler: gcc 11.5.0 20240719 (Red Hat 11.5.0-2)

Ubuntu 20.04 ARM GCC Cross Compile
	Kernel: Depends on container host
	Compiler: aarch64-linux-gnu-gcc (Ubuntu 9.4.0-1ubuntu1~20.04.2) 9.4.0

Ubuntu 20.04 ARM SVE
	Kernel: Depends on container host
	Compiler: gcc (Ubuntu 10.5.0-1ubuntu1~20.04) 10.5.0

Debian 12 with MUSDK
	Kernel: Depends on container host
	Compiler: gcc (Debian 12.2.0-14) 12.2.0

Fedora 40 (ARM)
	Kernel: Depends on container host
	Compiler: gcc 14.2.1 20240912 (Red Hat 14.2.1-3)

Fedora 40 (ARM Clang)
	Kernel: Depends on container host
	Compiler: clang 18.1.8 (Fedora 18.1.8-1.fc40)

Fedora 41 (ARM)
	Kernel: Depends on container host
	Compiler: gcc 14.2.1 20240912 (Red Hat 14.2.1-3)

Fedora 41 (ARM Clang)
	Kernel: Depends on container host
	Compiler: clang 19.1.5 (Fedora 19.1.5-1.fc41)

Ubuntu 20.04 (ARM)
	Kernel: Depends on container host
	Compiler: gcc (Ubuntu 9.4.0-1ubuntu1~20.04.2) 9.4.0

Ubuntu 22.04 (ARM)
	Kernel: Depends on container host
	Compiler: gcc (Ubuntu 11.4.0-1ubuntu1~22.04) 11.4.0

Ubuntu 24.04 (ARM)
	Kernel: Depends on container host
	Compiler: gcc (Ubuntu 13.3.0-6ubuntu2~24.04) 13.3.0

CentOS Stream 9 (ARM)
	Kernel: Depends on container host
	Compiler: gcc 11.5.0 20240719 (Red Hat 11.5.0-2)

Debian 11 (Buster) (ARM)
	Kernel: Depends on container host
	Compiler: gcc (Debian 10.2.1-6) 10.2.1 20210110

Debian 12 (arm)
	Kernel: Depends on container host
	Compiler: gcc (Debian 12.2.0-14) 12.2.0

Ubuntu 20.04 ARM Clang Cross Compile
	Kernel: Depends on container host
	Compiler: clang 10.0.0-4ubuntu1

Ubuntu 20.04 aarch32 GCC Cross Compile
	Kernel: Depends on container host
	Compiler: gcc 9.4.0

To view detailed results, visit:
https://lab.dpdk.org/results/dashboard/patchsets/32462/

UNH-IOL DPDK Community Lab

To manage your email subscriptions, visit: 
https://lab.dpdk.org/results/dashboard/preferences/subscriptions/