From mboxrd@z Thu Jan 1 00:00:00 1970 Return-Path: Received: from mails.dpdk.org (mails.dpdk.org [217.70.189.124]) by inbox.dpdk.org (Postfix) with ESMTP id 57C0946158 for ; Fri, 31 Jan 2025 21:05:16 +0100 (CET) Received: from mails.dpdk.org (localhost [127.0.0.1]) by mails.dpdk.org (Postfix) with ESMTP id 1C8A9400EF; Fri, 31 Jan 2025 21:05:16 +0100 (CET) Received: from mail-il1-f226.google.com (mail-il1-f226.google.com [209.85.166.226]) by mails.dpdk.org (Postfix) with ESMTP id 91F04400D7 for ; Fri, 31 Jan 2025 21:05:14 +0100 (CET) Received: by mail-il1-f226.google.com with SMTP id e9e14a558f8ab-3cffbcd520aso9312205ab.0 for ; Fri, 31 Jan 2025 12:05:14 -0800 (PST) DKIM-Signature: v=1; a=rsa-sha256; c=relaxed/relaxed; d=iol.unh.edu; s=unh-iol; t=1738353914; x=1738958714; darn=dpdk.org; h=cc:to:from:subject:message-id:date:from:to:cc:subject:date :message-id:reply-to; bh=AZkFsEGyj4Yo3VzWNREDbEfDWdNtO094fuN2V9xhGsE=; b=cFZI3eOuVMj1VTOfqgtcwXoSuOhsbkfIJv35s+kSohRxVaLqCkiBU/h6DDysTQaQlR QvcGHPIlBIxqoRjlLD1GHLxuKtQqPnV03u+zV7HuzjY1zbhjYRNiYbuvyggQ4PCovl8W FUILl2GlU3CUXu2h/nFBZa1uukqrhiBdnL/gY= X-Google-DKIM-Signature: v=1; a=rsa-sha256; c=relaxed/relaxed; d=1e100.net; s=20230601; t=1738353914; x=1738958714; h=cc:to:from:subject:message-id:date:x-gm-message-state:from:to:cc :subject:date:message-id:reply-to; bh=AZkFsEGyj4Yo3VzWNREDbEfDWdNtO094fuN2V9xhGsE=; b=I2umq5wzDY2JOy1R7OwxFnLC9QWeUaOhmt+RX/zOCA8FEz5OgnxtyI/uXNvIf5hEEf 7AdRI8IklajIFZoVhqaycBCcuRGIt1kXDbpa74Tl7Z2t1xYkOPlOHR5Qd9X3VEoI5CZM rAYN2Xp/9WDUYvJVEEgotibvojXrHk8IO7C86UHAnSZnf9JMoJqTGbCpeNw6ahVzQDBU JAaSmZxzA88+XZEK4iFSdAMDuuItCkiULkFzg16Qi8OgWXDtNJZi9Jgd4xyWcG18ZCie DgHqI3uuWVnKfQzdwRUTTD9YDgSc7QNXvovsA1ZzDmyN7nF/TNrSgKM5dNFB7xFrA2n1 rw+g== X-Gm-Message-State: AOJu0YypKLJRDcNO2dwO843M2Q75e25BZh4SPrPZWgIH0XVFYTNu1aiK sNp2fQ3uxBUOXYk9TvluMvH4ZV3E8q4ShJHsbMfQLg3CWdxIdtGTO6ncxIX8s+xvKWSPEEqzN1e SLH6fEArsYuHrgc+cH5/ITTKRUcUZC7KZMofS8bxfjk8nARA7ku2guDVA X-Gm-Gg: ASbGncuzsmT8wV2x3mblMxYFV1h0wJdNfwbExf73zE4wuC2iCwV7jAd2/OuYYXT/zT1 tIpzs07+Jj1JB6PCMMp2kzj7Y+sz6ODmhC6Tq/HScmvma8cTXELWghKCapVJ6z78L7ROr5k5TpP sI5tj+u1KtPE9SpBCnk5JgeRrcGBUaT9mTNFPO7MMQdqCk6w2SfSV7flRc5/EvBCZ0eCaA569tN +F9XociqXdEB4qbY2krfXmbkPveVQUFnoeLafekiqyzKvKH4JwS2HZyJVe3Vq9ESRiBT7NM6Wli uYf7fwi/Qol6ER72W7vf0xVgtnHw0+UqyRl51TCsVg== X-Google-Smtp-Source: AGHT+IGW2a1e8XdU6wVBUtczDParLjomvhVoTtLPwtAqgFticeuEB3TYxrYErKcNHkd/TFd0VKUTJam//VlQ X-Received: by 2002:a92:ca0a:0:b0:3cd:d14c:be69 with SMTP id e9e14a558f8ab-3d008fd1749mr67845005ab.11.1738353913899; Fri, 31 Jan 2025 12:05:13 -0800 (PST) Received: from postal.iol.unh.edu (postal.iol.unh.edu. [2606:4100:3880:1234::84]) by smtp-relay.gmail.com with ESMTPS id e9e14a558f8ab-3d00a5ec47asm2747445ab.54.2025.01.31.12.05.13 (version=TLS1_2 cipher=ECDHE-ECDSA-AES128-GCM-SHA256 bits=128/128); Fri, 31 Jan 2025 12:05:13 -0800 (PST) X-Relaying-Domain: iol.unh.edu Date: Fri, 31 Jan 2025 12:05:13 -0800 (PST) Message-ID: <679d2cf9.920a0220.71099.ecd2SMTPIN_ADDED_MISSING@mx.google.com> Received: from [172.21.0.5] (unknown [172.18.0.240]) by postal.iol.unh.edu (Postfix) with ESMTP id 5896E6052471; Fri, 31 Jan 2025 15:05:13 -0500 (EST) Subject: |SUCCESS| [GIT MASTER] 4a377fd5d560cfdece42b0d87b31c87efb7938d2 From: dpdklab@iol.unh.edu To: Test Report Cc: dpdk-test-reports@iol.unh.edu, Stephen Hemminger Content-Type: text/plain X-BeenThere: test-report@dpdk.org X-Mailman-Version: 2.1.29 Precedence: list List-Id: automatic DPDK test reports List-Unsubscribe: , List-Archive: List-Post: List-Help: List-Subscribe: , Errors-To: test-report-bounces@dpdk.org _Testing PASS_ Branch: dpdk-next-net 4a377fd5d560cfdece42b0d87b31c87efb7938d2 --> testing pass Upstream job id: Generic-DPDK-Compile-Meson#356696 Test environment and result as below: +----------------------------------------+--------------------+ | Environment | dpdk_meson_compile | +========================================+====================+ | RHEL9 (ARM) | PASS | +----------------------------------------+--------------------+ | Ubuntu 20.04 ARM GCC Cross Compile | PASS | +----------------------------------------+--------------------+ | Ubuntu 20.04 ARM SVE | PASS | +----------------------------------------+--------------------+ | Debian 12 with MUSDK | PASS | +----------------------------------------+--------------------+ | Fedora 40 (ARM) | PASS | +----------------------------------------+--------------------+ | Fedora 40 (ARM Clang) | PASS | +----------------------------------------+--------------------+ | Fedora 41 (ARM) | PASS | +----------------------------------------+--------------------+ | Fedora 41 (ARM Clang) | PASS | +----------------------------------------+--------------------+ | Ubuntu 20.04 (ARM) | PASS | +----------------------------------------+--------------------+ | Ubuntu 22.04 (ARM) | PASS | +----------------------------------------+--------------------+ | Ubuntu 24.04 (ARM) | PASS | +----------------------------------------+--------------------+ | CentOS Stream 9 (ARM) | PASS | +----------------------------------------+--------------------+ | Debian 11 (Buster) (ARM) | PASS | +----------------------------------------+--------------------+ | Debian 12 (arm) | PASS | +----------------------------------------+--------------------+ | Ubuntu 20.04 ARM Clang Cross Compile | PASS | +----------------------------------------+--------------------+ | Ubuntu 20.04 aarch32 GCC Cross Compile | PASS | +----------------------------------------+--------------------+ RHEL9 (ARM) Kernel: Depends on container host Compiler: gcc 11.5.0 20240719 (Red Hat 11.5.0-2) Ubuntu 20.04 ARM GCC Cross Compile Kernel: Depends on container host Compiler: aarch64-linux-gnu-gcc (Ubuntu 9.4.0-1ubuntu1~20.04.2) 9.4.0 Ubuntu 20.04 ARM SVE Kernel: Depends on container host Compiler: gcc (Ubuntu 10.5.0-1ubuntu1~20.04) 10.5.0 Debian 12 with MUSDK Kernel: Depends on container host Compiler: gcc (Debian 12.2.0-14) 12.2.0 Fedora 40 (ARM) Kernel: Depends on container host Compiler: gcc 14.2.1 20240912 (Red Hat 14.2.1-3) Fedora 40 (ARM Clang) Kernel: Depends on container host Compiler: clang 18.1.8 (Fedora 18.1.8-1.fc40) Fedora 41 (ARM) Kernel: Depends on container host Compiler: gcc 14.2.1 20240912 (Red Hat 14.2.1-3) Fedora 41 (ARM Clang) Kernel: Depends on container host Compiler: clang 19.1.5 (Fedora 19.1.5-1.fc41) Ubuntu 20.04 (ARM) Kernel: Depends on container host Compiler: gcc (Ubuntu 9.4.0-1ubuntu1~20.04.2) 9.4.0 Ubuntu 22.04 (ARM) Kernel: Depends on container host Compiler: gcc (Ubuntu 11.4.0-1ubuntu1~22.04) 11.4.0 Ubuntu 24.04 (ARM) Kernel: Depends on container host Compiler: gcc (Ubuntu 13.3.0-6ubuntu2~24.04) 13.3.0 CentOS Stream 9 (ARM) Kernel: Depends on container host Compiler: gcc 11.5.0 20240719 (Red Hat 11.5.0-2) Debian 11 (Buster) (ARM) Kernel: Depends on container host Compiler: gcc (Debian 10.2.1-6) 10.2.1 20210110 Debian 12 (arm) Kernel: Depends on container host Compiler: gcc (Debian 12.2.0-14) 12.2.0 Ubuntu 20.04 ARM Clang Cross Compile Kernel: Depends on container host Compiler: clang 10.0.0-4ubuntu1 Ubuntu 20.04 aarch32 GCC Cross Compile Kernel: Depends on container host Compiler: gcc 9.4.0 To view detailed results, visit: https://lab.dpdk.org/results/dashboard/tarballs/32402/ UNH-IOL DPDK Community Lab To manage your email subscriptions, visit: https://lab.dpdk.org/results/dashboard/preferences/subscriptions/