From mboxrd@z Thu Jan 1 00:00:00 1970 Return-Path: Received: from mails.dpdk.org (mails.dpdk.org [217.70.189.124]) by inbox.dpdk.org (Postfix) with ESMTP id EF80C46158 for ; Fri, 31 Jan 2025 21:11:45 +0100 (CET) Received: from mails.dpdk.org (localhost [127.0.0.1]) by mails.dpdk.org (Postfix) with ESMTP id CE92F400EF; Fri, 31 Jan 2025 21:11:45 +0100 (CET) Received: from mail-qv1-f97.google.com (mail-qv1-f97.google.com [209.85.219.97]) by mails.dpdk.org (Postfix) with ESMTP id 95814400D7 for ; Fri, 31 Jan 2025 21:11:44 +0100 (CET) Received: by mail-qv1-f97.google.com with SMTP id 6a1803df08f44-6e2362ea655so19018406d6.3 for ; Fri, 31 Jan 2025 12:11:44 -0800 (PST) DKIM-Signature: v=1; a=rsa-sha256; c=relaxed/relaxed; d=iol.unh.edu; s=unh-iol; t=1738354304; x=1738959104; darn=dpdk.org; h=references:in-reply-to:cc:to:from:subject:message-id:date:from:to :cc:subject:date:message-id:reply-to; bh=00XwXVVWbsx9FBf7gN6Ei8a/zgfsLO4DFPC6Du0U/pM=; b=cnTsTU/OL3BanHIl8+Ilx7F9ls/KFd6M6ubWMp5mMPfsqGaU5pcvrCgK1Ly7H5Xjqs a68bO5ZCJRrzTDfoztf9qUOkb4e1gCy6LADDLku2pY4t2QxaOFGtYng30ky7nnha15JZ dKR5KO2Fpbzo5DwmDCBRA4V4PjbGPhDMFq1D4= X-Google-DKIM-Signature: v=1; a=rsa-sha256; c=relaxed/relaxed; d=1e100.net; s=20230601; t=1738354304; x=1738959104; h=references:in-reply-to:cc:to:from:subject:message-id:date :x-gm-message-state:from:to:cc:subject:date:message-id:reply-to; bh=00XwXVVWbsx9FBf7gN6Ei8a/zgfsLO4DFPC6Du0U/pM=; b=U7kzALJ5y0EukqAB/kwzm319Z12B+pCVNsaWsZjd2xM16gynPfHQB7UztV7BHQy3Il /jeg97f+ozJ5jnSo66MGxMsebl1HU8ymMsSde8kx+2ki/4pLegJbGJD7PMqQv7pyFons IvOGTJEiGJi7sTWFmUas1HBlECw3/q2TrqV4hSfjwjXJFkBJ/7UP6We149/nZS8VsfE8 +jM6mW/E7Zs9/8yqdLEmKHEGfY5+2dX0wbc3tdHvRyLyZ/oShNBEMPRW06d31mBk8muj XZAPLFunPu7cBlhbH/d5lFyLGkMPC+1BmapoBoaCghhNSiGQpy1RSKBTAXaNUjRc40rn gqJg== X-Gm-Message-State: AOJu0Yxnps1S0ft/CTUS3rk5Q9oI7NmkJ/oAJDfMOOsznElSX48We8bo Tpv3bsER4qVxeIolWwqTjx+Aw1gguJ2eNoR1f6a6X4q92PuLotc/vRCi9AEmmSaSqAZFLCSH/19 6ZZ/IFgWwbjskX3fqxM/ogv1fKAdOl7iBCQSoWMgAUDts+NEZVODD/i/z X-Gm-Gg: ASbGncu9RCtUzi22Rp5Mgu/wcFRSJ8dtNm6zG/EX0AslYjdPo3unEvDID5O4xt17x44 RgG0w6Y+bUy6D6+eYCb0zyjfvv4jDbGPu6qbp6IJxMnaM5/pOPPUvGoZ1AbV1WHwzXSslcCrCqD LADX/7qIFyxpiEYmFk8FBK1WNVb1Mn3Vj0+AkNwkFWINQLekKQwOQE1GAg/IQ8zK9wavtOfgWxC /tY61ulNMuEU6UTDtgWSWBuyfC1iS3p7NiGIf4O4p9nehBf2r+TTzDRt5UQ+9MMhrP9V86CfLsf l0q7rGMzqb/cVinp/jaG9QEJ56proKiZiuTcmNs6lw== X-Google-Smtp-Source: AGHT+IFBVv+NLZgXG9fSjIzk4uipMLw/7IoI7NXU8653KuBtu6Qnt1Vv25Uf4/ydkgyOszWTKhLwcVyOB05D X-Received: by 2002:a05:6214:194e:b0:6d8:8390:15db with SMTP id 6a1803df08f44-6e243b8ff7cmr134078186d6.6.1738354303904; Fri, 31 Jan 2025 12:11:43 -0800 (PST) Received: from postal.iol.unh.edu (postal.iol.unh.edu. [2606:4100:3880:1234::84]) by smtp-relay.gmail.com with ESMTPS id 6a1803df08f44-6e2548301e8sm2487456d6.37.2025.01.31.12.11.43 (version=TLS1_2 cipher=ECDHE-ECDSA-AES128-GCM-SHA256 bits=128/128); Fri, 31 Jan 2025 12:11:43 -0800 (PST) X-Relaying-Domain: iol.unh.edu Date: Fri, 31 Jan 2025 12:11:43 -0800 (PST) Message-ID: <679d2e7f.050a0220.1319b7.d250SMTPIN_ADDED_MISSING@mx.google.com> Received: from [172.21.0.7] (unknown [172.18.0.240]) by postal.iol.unh.edu (Postfix) with ESMTP id 981876052471; Fri, 31 Jan 2025 15:11:43 -0500 (EST) Subject: |SUCCESS| pw150675 [PATCH] [v2] dts: add SUT cleanup to framework From: dpdklab@iol.unh.edu To: Test Report Cc: dpdk-test-reports@iol.unh.edu In-Reply-To: <20250130221324.75711-1-dmarx@iol.unh.edu> References: <20250130221324.75711-1-dmarx@iol.unh.edu> Content-Type: text/plain X-BeenThere: test-report@dpdk.org X-Mailman-Version: 2.1.29 Precedence: list List-Id: automatic DPDK test reports List-Unsubscribe: , List-Archive: List-Post: List-Help: List-Subscribe: , Errors-To: test-report-bounces@dpdk.org Test-Label: iol-unit-arm64-testing Test-Status: SUCCESS http://dpdk.org/patch/150675 _Testing PASS_ Submitter: Dean Marx Date: Thursday, January 30 2025 22:13:24 DPDK git baseline: Repo:dpdk Branch: master CommitID:d748916b207173c7f57a2b04c4f5c8f7fbb3cfd4 150675 --> testing pass Upstream job id: Generic-Unit-Test-DPDK#310704 Test environment and result as below: +-----------------------------+----------------+---------------------------+--------------+------------------------------+ | Environment | dpdk_unit_test | cryptodev_sw_zuc_autotest | lpm_autotest | cryptodev_sw_snow3g_autotest | +=============================+================+===========================+==============+==============================+ | Debian 11 (Buster) (ARM) | PASS | SKIPPED | SKIPPED | SKIPPED | +-----------------------------+----------------+---------------------------+--------------+------------------------------+ | CentOS Stream 9 (ARM) | PASS | SKIPPED | SKIPPED | SKIPPED | +-----------------------------+----------------+---------------------------+--------------+------------------------------+ | 32-bit Ubuntu 22.04.4 (ARM) | PASS | SKIPPED | SKIPPED | SKIPPED | +-----------------------------+----------------+---------------------------+--------------+------------------------------+ | RHEL9 (ARM) | PASS | SKIPPED | SKIPPED | SKIPPED | +-----------------------------+----------------+---------------------------+--------------+------------------------------+ | Fedora 40 (ARM Clang) | PASS | SKIPPED | SKIPPED | SKIPPED | +-----------------------------+----------------+---------------------------+--------------+------------------------------+ | Fedora 41 (ARM) | PASS | SKIPPED | SKIPPED | SKIPPED | +-----------------------------+----------------+---------------------------+--------------+------------------------------+ | Ubuntu 20.04 (ARM) | PASS | SKIPPED | SKIPPED | SKIPPED | +-----------------------------+----------------+---------------------------+--------------+------------------------------+ | Fedora 40 (ARM) | PASS | SKIPPED | SKIPPED | SKIPPED | +-----------------------------+----------------+---------------------------+--------------+------------------------------+ | Debian 12 (arm) | PASS | PASS | SKIPPED | PASS | +-----------------------------+----------------+---------------------------+--------------+------------------------------+ | Fedora 41 (ARM Clang) | PASS | SKIPPED | SKIPPED | SKIPPED | +-----------------------------+----------------+---------------------------+--------------+------------------------------+ | Ubuntu 24.04 (ARM) | PASS | SKIPPED | SKIPPED | SKIPPED | +-----------------------------+----------------+---------------------------+--------------+------------------------------+ | Ubuntu 22.04 (ARM) | PASS | SKIPPED | SKIPPED | SKIPPED | +-----------------------------+----------------+---------------------------+--------------+------------------------------+ | Ubuntu 20.04 ARM SVE | SKIPPED | SKIPPED | PASS | SKIPPED | +-----------------------------+----------------+---------------------------+--------------+------------------------------+ Debian 11 (Buster) (ARM) Kernel: Depends on container host Compiler: gcc (Debian 10.2.1-6) 10.2.1 20210110 CentOS Stream 9 (ARM) Kernel: Depends on container host Compiler: gcc 11.5.0 20240719 (Red Hat 11.5.0-2) 32-bit Ubuntu 22.04.4 (ARM) Kernel: 5.15.83+ aarch64 Compiler: gcc (Ubuntu 11.4.0-1ubuntu1~22.04) 11.4.0 RHEL9 (ARM) Kernel: Depends on container host Compiler: gcc 11.5.0 20240719 (Red Hat 11.5.0-2) Fedora 40 (ARM Clang) Kernel: Depends on container host Compiler: clang 18.1.8 (Fedora 18.1.8-1.fc40) Fedora 41 (ARM) Kernel: Depends on container host Compiler: gcc 14.2.1 20240912 (Red Hat 14.2.1-3) Ubuntu 20.04 (ARM) Kernel: Depends on container host Compiler: gcc (Ubuntu 9.4.0-1ubuntu1~20.04.2) 9.4.0 Fedora 40 (ARM) Kernel: Depends on container host Compiler: gcc 14.2.1 20240912 (Red Hat 14.2.1-3) Debian 12 (arm) Kernel: Depends on container host Compiler: gcc (Debian 12.2.0-14) 12.2.0 Fedora 41 (ARM Clang) Kernel: Depends on container host Compiler: clang 19.1.5 (Fedora 19.1.5-1.fc41) Ubuntu 24.04 (ARM) Kernel: Depends on container host Compiler: gcc (Ubuntu 13.3.0-6ubuntu2~24.04) 13.3.0 Ubuntu 22.04 (ARM) Kernel: Depends on container host Compiler: gcc (Ubuntu 11.4.0-1ubuntu1~22.04) 11.4.0 Ubuntu 20.04 ARM SVE Kernel: Depends on container host Compiler: gcc (Ubuntu 10.5.0-1ubuntu1~20.04) 10.5.0 To view detailed results, visit: https://lab.dpdk.org/results/dashboard/patchsets/32467/ UNH-IOL DPDK Community Lab To manage your email subscriptions, visit: https://lab.dpdk.org/results/dashboard/preferences/subscriptions/