From mboxrd@z Thu Jan 1 00:00:00 1970 Return-Path: Received: from mails.dpdk.org (mails.dpdk.org [217.70.189.124]) by inbox.dpdk.org (Postfix) with ESMTP id B7C8C46158 for ; Fri, 31 Jan 2025 21:21:14 +0100 (CET) Received: from mails.dpdk.org (localhost [127.0.0.1]) by mails.dpdk.org (Postfix) with ESMTP id 8E24A400EF; Fri, 31 Jan 2025 21:21:14 +0100 (CET) Received: from mail-yw1-f226.google.com (mail-yw1-f226.google.com [209.85.128.226]) by mails.dpdk.org (Postfix) with ESMTP id B6292400D7 for ; Fri, 31 Jan 2025 21:21:12 +0100 (CET) Received: by mail-yw1-f226.google.com with SMTP id 00721157ae682-6f8c58229f1so13371967b3.0 for ; Fri, 31 Jan 2025 12:21:12 -0800 (PST) DKIM-Signature: v=1; a=rsa-sha256; c=relaxed/relaxed; d=iol.unh.edu; s=unh-iol; t=1738354872; x=1738959672; darn=dpdk.org; h=references:in-reply-to:cc:to:from:subject:message-id:date:from:to :cc:subject:date:message-id:reply-to; bh=ePiZrHS0OSSoAoECkr2iC9zRfCZlyM77ZiO8Ri5EedE=; b=ONccgA9nnxU/IP3R+bHRMwvwpi7iWU8v/pv4mYWU2ge6lDPvB5Pt9fcJ9s1lPlztcY s6RUQ/VgFzYqPtc1pqHZuJ9ba1Yqxa0nQ3P7W5vETYgMw8+ga2jeKygHYsFJkDuZZetx qCRDkWKfRV91a+YotgM58MIAEEziJ42Nn3Gsw= X-Google-DKIM-Signature: v=1; a=rsa-sha256; c=relaxed/relaxed; d=1e100.net; s=20230601; t=1738354872; x=1738959672; h=references:in-reply-to:cc:to:from:subject:message-id:date :x-gm-message-state:from:to:cc:subject:date:message-id:reply-to; bh=ePiZrHS0OSSoAoECkr2iC9zRfCZlyM77ZiO8Ri5EedE=; b=cpj/9VD8yy77+vsYV/NxXptKB3rHUiez0IWalFsxQWpiot0YLlEWzbcgSxbIFRV43F vyHggGsc3ym0S7SDQOd6VVCV975INXrIXKcl345DI52qHB6Ms1y8wgUiQkBqyEaZz0jn YVAePAJrN9JFNYJSBNODoEvJgk6XwXAoGtk6OWw78zIurJTRVzcJ21sC4f4Fvr5NUdn+ +/VVRhDdooZ0bc1JVlfsjPC/DQU//vI4VRpLquXUI6YrT+HV/FynOqoLgaJm40PFfF2z 8rdZj8G5EmwFUeLgElEbLTTUHOfblf7gcpMXId0Gc2q2BQyhkWt0o8o9JyWzWs6JN1Bq Ebhg== X-Gm-Message-State: AOJu0YyXZWA0o75xokpUga0ylHlsFlS5jsm64RID3rcGJ3um/jX8y9F3 X3AJG4MpPzfWHzCvUY4r6eTv6pLEWFFZ9u+6dQrXL1GNI/NwZCtugTbJb4QydOBDtFLWUXCfwya GCW9xGHtT8hdXtIrCdn1cgeAup4uWFAnKAl/dEm/E X-Gm-Gg: ASbGnct6azOnnY8cV83NqT6sTXFbczlEZ/0vuTphFHZ7y3rLYGuzU7UASSCQxIUIho8 SAATMGBKmnKGlSreRWSRHUHkkq5r1bwQypDHEcfCWGtCNTFvHgwsqGWoc/h0jxGXYd714j+XkhC 9GgfA1dcgbum9Ww0dl+VD54qpQ4VKJ7+MpfgTszWDIUr5YryCGvvEtpZgbqjJHKfabGPpxJSt6s icWrV/Rh7dE1S/HzMW2mhicqSdpLbxf9N6E4jFBwEsVfMd0vXpu8Sld6BbvJtS6ip/1qIm+Fqb0 GYqbI7v9rKTJWk7wWZGhU+2XL/QUGw== X-Google-Smtp-Source: AGHT+IEp0pZ5bfKtVwDVX8cKc6sYhrsMUkFHGe+x8nGEJ/R5UrG7/ZK8d4yHt4yBd9OFf9J/TcyR2mEypBXt X-Received: by 2002:a05:690c:62c5:b0:6f6:d640:33c6 with SMTP id 00721157ae682-6f8c196ad55mr75096207b3.4.1738354871943; Fri, 31 Jan 2025 12:21:11 -0800 (PST) Received: from postal.iol.unh.edu (postal.iol.unh.edu. [132.177.123.84]) by smtp-relay.gmail.com with ESMTPS id 00721157ae682-6f8c460be78sm1855997b3.13.2025.01.31.12.21.11 (version=TLS1_2 cipher=ECDHE-ECDSA-AES128-GCM-SHA256 bits=128/128); Fri, 31 Jan 2025 12:21:11 -0800 (PST) X-Relaying-Domain: iol.unh.edu Date: Fri, 31 Jan 2025 12:21:11 -0800 (PST) Message-ID: <679d30b7.050a0220.a25c4.a83bSMTPIN_ADDED_MISSING@mx.google.com> Received: from [172.21.0.5] (unknown [172.18.0.240]) by postal.iol.unh.edu (Postfix) with ESMTP id A151E6052471; Fri, 31 Jan 2025 15:21:11 -0500 (EST) Subject: |SUCCESS| pw150756-150757 [PATCH] [v5,2/2] net/af_xdp: Refactor af_x From: dpdklab@iol.unh.edu To: Test Report Cc: dpdk-test-reports@iol.unh.edu In-Reply-To: <20250131183439.909831-3-ariel.otilibili@6wind.com> References: <20250131183439.909831-3-ariel.otilibili@6wind.com> Content-Type: text/plain X-BeenThere: test-report@dpdk.org X-Mailman-Version: 2.1.29 Precedence: list List-Id: automatic DPDK test reports List-Unsubscribe: , List-Archive: List-Post: List-Help: List-Subscribe: , Errors-To: test-report-bounces@dpdk.org Test-Label: iol-abi-testing Test-Status: SUCCESS http://dpdk.org/patch/150757 _Testing PASS_ Submitter: Ariel Otilibili Date: Friday, January 31 2025 18:34:39 DPDK git baseline: Repo:dpdk Branch: master CommitID:4a377fd5d560cfdece42b0d87b31c87efb7938d2 150756-150757 --> testing pass Upstream job id: Generic-DPDK-Compile-ABI#114384 Test environment and result as below: +-------------------+----------+ | Environment | abi_test | +===================+==========+ | Debian 12 | PASS | +-------------------+----------+ | CentOS Stream 9 | PASS | +-------------------+----------+ | Fedora 41 | PASS | +-------------------+----------+ | Fedora 40 (Clang) | PASS | +-------------------+----------+ | Fedora 41 (Clang) | PASS | +-------------------+----------+ | Fedora 40 | PASS | +-------------------+----------+ | Debian Bullseye | PASS | +-------------------+----------+ | openSUSE Leap 15 | PASS | +-------------------+----------+ | RHEL8 | PASS | +-------------------+----------+ | RHEL9 | PASS | +-------------------+----------+ | Ubuntu 22.04 | PASS | +-------------------+----------+ | Ubuntu 24.04 | PASS | +-------------------+----------+ Debian 12 Kernel: Depends on container host Compiler: gcc (Debian 12.2.0-14) 12.2.0 CentOS Stream 9 Kernel: Depends on container host Compiler: gcc 11.5.0 20240719 (Red Hat 11.5.0-2) Fedora 41 Kernel: Depends on container host Compiler: gcc 14.2.1 20240912 (Red Hat 14.2.1-3) Fedora 40 (Clang) Kernel: Depends on container host Compiler: clang 18.1.8 (Fedora 18.1.8-1.fc40) Fedora 41 (Clang) Kernel: Depends on container host Compiler: clang 19.1.5 (Fedora 19.1.5-1.fc41) Fedora 40 Kernel: Depends on container host Compiler: gcc 14.2.1 20240912 (Red Hat 14.2.1-3) Debian Bullseye Kernel: Depends on container host Compiler: gcc (Debian 10.2.1-6) 10.2.1 20210110 openSUSE Leap 15 Kernel: Depends on container host Compiler: gcc (SUSE Linux) 7.5.0 RHEL8 Kernel: Depends on container host Compiler: gcc 8.5.0 20210514 (Red Hat 8.5.0-22) RHEL9 Kernel: Depends on container host Compiler: gcc 11.5.0 20240719 (Red Hat 11.5.0-2) Ubuntu 22.04 Kernel: Depends on container host Compiler: gcc (Ubuntu 11.4.0-1ubuntu1~22.04) 11.4.0 Ubuntu 24.04 Kernel: Depends on container host Compiler: gcc (Ubuntu 13.3.0-6ubuntu2~24.04) 13.3.0 To view detailed results, visit: https://lab.dpdk.org/results/dashboard/patchsets/32473/ UNH-IOL DPDK Community Lab To manage your email subscriptions, visit: https://lab.dpdk.org/results/dashboard/preferences/subscriptions/