From mboxrd@z Thu Jan 1 00:00:00 1970 Return-Path: Received: from mails.dpdk.org (mails.dpdk.org [217.70.189.124]) by inbox.dpdk.org (Postfix) with ESMTP id 37E7746158 for ; Fri, 31 Jan 2025 21:37:17 +0100 (CET) Received: from mails.dpdk.org (localhost [127.0.0.1]) by mails.dpdk.org (Postfix) with ESMTP id 30ACA400EF; Fri, 31 Jan 2025 21:37:17 +0100 (CET) Received: from mail-yw1-f225.google.com (mail-yw1-f225.google.com [209.85.128.225]) by mails.dpdk.org (Postfix) with ESMTP id F23A9400D7 for ; Fri, 31 Jan 2025 21:37:15 +0100 (CET) Received: by mail-yw1-f225.google.com with SMTP id 00721157ae682-6f7031ea11cso12799717b3.2 for ; Fri, 31 Jan 2025 12:37:15 -0800 (PST) DKIM-Signature: v=1; a=rsa-sha256; c=relaxed/relaxed; d=iol.unh.edu; s=unh-iol; t=1738355835; x=1738960635; darn=dpdk.org; h=references:in-reply-to:cc:to:from:subject:message-id:date:from:to :cc:subject:date:message-id:reply-to; bh=Fu8xty97O3nWRsDZIrru6YcKpxdiK7W4MHapsb07OQY=; b=TUP1d/o1VVMq79mXHgxBmA2tDlk560qtGtp5EsQekPL5v8rmRNgTUp3Q34OviL+KAX 4643QX87dh2dqevuDTk1Un6JXxlRmx416QH1tIzI1RC8ggYpDDQHq6MJ024COYloSWUo 0+0VsN46tFEauIpNzfhvb+qA1ulgvSX3UxSBE= X-Google-DKIM-Signature: v=1; a=rsa-sha256; c=relaxed/relaxed; d=1e100.net; s=20230601; t=1738355835; x=1738960635; h=references:in-reply-to:cc:to:from:subject:message-id:date :x-gm-message-state:from:to:cc:subject:date:message-id:reply-to; bh=Fu8xty97O3nWRsDZIrru6YcKpxdiK7W4MHapsb07OQY=; b=GXacqymLq0QL6L9qNYKX7iRNdpjl7KCm7+CxbBLeAPFBVCd1pP9uTvjxdPCdZ7+vNn TaU06HfB45pZgvRJXwQM+x4xYdJyXysjd1jVUUUKpl9IOHKzpYXNOPxLnr7RPyJvu8BX mr/wxulcoxlKHaexYo+sk6nT6hPCIU0i2T8J3cEPxxcFmrrEO2j9PwqYA9CYW6DBur/A ZnyZ/vRiNlQbzct/bJyRQKVc44TI5+kGrh8n1zzKqFZuihqMg++pxHZSgriOa0xFd6Z9 mXQOkW1Sb//W+jN4nJKq5nQQq9YB+bTwNtz2NP75Igi4PW+Tia1qwdZP+DtPaguxEzn7 86jA== X-Gm-Message-State: AOJu0YypzBpICLwavfT2wJ4kVM3NOclW5/lglgzBOtjnxS6ko4btb2cD CQAaKysWZQmqxtCqjzLj1NzHAIIZVS3W9PxUZPSxBfABpwUqLJka20MwVDGM9xawd8BhDX+2wIc Eez0jPpYrE5SYotmddATDaXz77H3mpsKe/c4K6gfBCYsucIWaWRzODRtN X-Gm-Gg: ASbGnctP3tHJa+XXt8KQrj6DoK1fYTncBehhcdA/XTL+D/LLAvBoboi0GfuqwK258tQ 88m94oKwQqnlLqGUXNGcc75RUW+zfNxQ4oCGqWDw0Gz9dd/tmfnkxGx4K+hkIfWh/O6UO4q01pL wYqEwFVnJn+T1zP3bqUymsubIaAUbQ/UgfQa5JUP1k6URjtWPEJqxjQpIz/j+LszG/l8lTGPEDP 1MvyMwewLCLpjKU9Gr1fEU/zmHnZ6DRjNfsUTt2VNk/PKpJGwPIs276srTFfYb31dxkduYy18gb BPIW9SgiVuV0YRsjcH78e+4x6cZMRgAWdVjjbFlFww== X-Google-Smtp-Source: AGHT+IFnE0tDyOJ/aWG17yZ8tLreilznwSv8bvj5iwC94f4vtUAVqvTc5wUIy6LgtXerwLyhBpuovCEMQxHu X-Received: by 2002:a05:690c:6189:b0:6f7:406e:48d with SMTP id 00721157ae682-6f7a842496bmr111935497b3.35.1738355835299; Fri, 31 Jan 2025 12:37:15 -0800 (PST) Received: from postal.iol.unh.edu (postal.iol.unh.edu. [2606:4100:3880:1234::84]) by smtp-relay.gmail.com with ESMTPS id 00721157ae682-6f8c4b9433dsm1955807b3.63.2025.01.31.12.37.15 (version=TLS1_2 cipher=ECDHE-ECDSA-AES128-GCM-SHA256 bits=128/128); Fri, 31 Jan 2025 12:37:15 -0800 (PST) X-Relaying-Domain: iol.unh.edu Date: Fri, 31 Jan 2025 12:37:15 -0800 (PST) Message-ID: <679d347b.050a0220.1e9340.a2baSMTPIN_ADDED_MISSING@mx.google.com> Received: from [172.17.0.6] (unknown [172.18.0.217]) by postal.iol.unh.edu (Postfix) with ESMTP id E966C6052471; Fri, 31 Jan 2025 15:37:14 -0500 (EST) Subject: |WARNING| pw150756-150757 [PATCH] [v5,2/2] net/af_xdp: Refactor af_x From: dpdklab@iol.unh.edu To: Test Report Cc: dpdk-test-reports@iol.unh.edu In-Reply-To: <20250131183439.909831-3-ariel.otilibili@6wind.com> References: <20250131183439.909831-3-ariel.otilibili@6wind.com> Content-Type: text/plain X-BeenThere: test-report@dpdk.org X-Mailman-Version: 2.1.29 Precedence: list List-Id: automatic DPDK test reports List-Unsubscribe: , List-Archive: List-Post: List-Help: List-Subscribe: , Errors-To: test-report-bounces@dpdk.org Test-Label: iol-compile-amd64-testing Test-Status: WARNING http://dpdk.org/patch/150757 _Testing issues_ Submitter: Ariel Otilibili Date: Friday, January 31 2025 18:34:39 DPDK git baseline: Repo:dpdk Branch: master CommitID:4a377fd5d560cfdece42b0d87b31c87efb7938d2 150756-150757 --> testing issues Upstream job id: Generic-DPDK-Compile-Meson#356857 Test environment and result as below: +---------------------+--------------------+------------------+-------------------+-------------------+----------------------+ | Environment | dpdk_meson_compile | dpdk_compile_ovs | dpdk_compile_spdk | dpdk_msvc_compile | dpdk_mingw64_compile | +=====================+====================+==================+===================+===================+======================+ | CentOS Stream 9 | PASS | PASS | PASS | SKIPPED | SKIPPED | +---------------------+--------------------+------------------+-------------------+-------------------+----------------------+ | Debian 12 | PASS | PASS | PASS | SKIPPED | SKIPPED | +---------------------+--------------------+------------------+-------------------+-------------------+----------------------+ | Fedora 40 | PASS | PASS | PASS | SKIPPED | SKIPPED | +---------------------+--------------------+------------------+-------------------+-------------------+----------------------+ | Fedora 41 (Clang) | PASS | PASS | PASS | SKIPPED | SKIPPED | +---------------------+--------------------+------------------+-------------------+-------------------+----------------------+ | Fedora 40 (Clang) | PASS | PASS | PASS | SKIPPED | SKIPPED | +---------------------+--------------------+------------------+-------------------+-------------------+----------------------+ | Fedora 41 | PASS | PASS | PASS | SKIPPED | SKIPPED | +---------------------+--------------------+------------------+-------------------+-------------------+----------------------+ | RHEL8 | PASS | PASS | SKIPPED | SKIPPED | SKIPPED | +---------------------+--------------------+------------------+-------------------+-------------------+----------------------+ | openSUSE Leap 15 | PASS | SKIPPED | SKIPPED | SKIPPED | SKIPPED | +---------------------+--------------------+------------------+-------------------+-------------------+----------------------+ | RHEL9 | PASS | PASS | SKIPPED | SKIPPED | SKIPPED | +---------------------+--------------------+------------------+-------------------+-------------------+----------------------+ | Ubuntu 20.04 | PASS | WARN | SKIPPED | SKIPPED | SKIPPED | +---------------------+--------------------+------------------+-------------------+-------------------+----------------------+ | Ubuntu 22.04 | PASS | PASS | PASS | SKIPPED | SKIPPED | +---------------------+--------------------+------------------+-------------------+-------------------+----------------------+ | Ubuntu 24.04 | PASS | PASS | PASS | SKIPPED | SKIPPED | +---------------------+--------------------+------------------+-------------------+-------------------+----------------------+ | Alpine | PASS | PASS | SKIPPED | SKIPPED | SKIPPED | +---------------------+--------------------+------------------+-------------------+-------------------+----------------------+ | FreeBSD 13.4 | PASS | SKIPPED | SKIPPED | SKIPPED | SKIPPED | +---------------------+--------------------+------------------+-------------------+-------------------+----------------------+ | FreeBSD 14.2 | PASS | SKIPPED | SKIPPED | SKIPPED | SKIPPED | +---------------------+--------------------+------------------+-------------------+-------------------+----------------------+ | Debian Bullseye | PASS | PASS | PASS | SKIPPED | SKIPPED | +---------------------+--------------------+------------------+-------------------+-------------------+----------------------+ | Windows Server 2022 | SKIPPED | SKIPPED | SKIPPED | PASS | PASS | +---------------------+--------------------+------------------+-------------------+-------------------+----------------------+ ==== 20 line log output for Ubuntu 20.04 (dpdk_compile_ovs): ==== --- Failed to get log output --- ==== End log output ==== CentOS Stream 9 Kernel: Depends on container host Compiler: gcc 11.5.0 20240719 (Red Hat 11.5.0-2) Debian 12 Kernel: Depends on container host Compiler: gcc (Debian 12.2.0-14) 12.2.0 Fedora 40 Kernel: Depends on container host Compiler: gcc 14.2.1 20240912 (Red Hat 14.2.1-3) Fedora 41 (Clang) Kernel: Depends on container host Compiler: clang 19.1.5 (Fedora 19.1.5-1.fc41) Fedora 40 (Clang) Kernel: Depends on container host Compiler: clang 18.1.8 (Fedora 18.1.8-1.fc40) Fedora 41 Kernel: Depends on container host Compiler: gcc 14.2.1 20240912 (Red Hat 14.2.1-3) RHEL8 Kernel: Depends on container host Compiler: gcc 8.5.0 20210514 (Red Hat 8.5.0-22) openSUSE Leap 15 Kernel: Depends on container host Compiler: gcc (SUSE Linux) 7.5.0 RHEL9 Kernel: Depends on container host Compiler: gcc 11.5.0 20240719 (Red Hat 11.5.0-2) Ubuntu 20.04 Kernel: Depends on container host Compiler: gcc (Ubuntu 9.4.0-1ubuntu1~20.04.2) 9.4.0 Ubuntu 22.04 Kernel: Depends on container host Compiler: gcc (Ubuntu 11.4.0-1ubuntu1~22.04) 11.4.0 Ubuntu 24.04 Kernel: Depends on container host Compiler: gcc (Ubuntu 13.3.0-6ubuntu2~24.04) 13.3.0 Alpine Kernel: Depends on container host Compiler: gcc (Alpine 14.2.0) 14.2.0 FreeBSD 13.4 Kernel: 13.4-RELEASE-p1 Compiler: clang 18.1.6 FreeBSD 14.2 Kernel: 14.2-RELEASE Compiler: clang 18.1.6 Debian Bullseye Kernel: Depends on container host Compiler: gcc (Debian 10.2.1-6) 10.2.1 20210110 Windows Server 2022 Kernel: 10.0.20348.2031 Compiler: clang 15.0.7, gcc 14.1.0 (MinGW), and MSVC VS 19.39.33521 To view detailed results, visit: https://lab.dpdk.org/results/dashboard/patchsets/32473/ UNH-IOL DPDK Community Lab To manage your email subscriptions, visit: https://lab.dpdk.org/results/dashboard/preferences/subscriptions/