From mboxrd@z Thu Jan 1 00:00:00 1970 Return-Path: Received: from mails.dpdk.org (mails.dpdk.org [217.70.189.124]) by inbox.dpdk.org (Postfix) with ESMTP id F2CAD4615A for ; Fri, 31 Jan 2025 22:20:14 +0100 (CET) Received: from mails.dpdk.org (localhost [127.0.0.1]) by mails.dpdk.org (Postfix) with ESMTP id D0FB4400EF; Fri, 31 Jan 2025 22:20:14 +0100 (CET) Received: from mail-pj1-f98.google.com (mail-pj1-f98.google.com [209.85.216.98]) by mails.dpdk.org (Postfix) with ESMTP id 78BC5400D7 for ; Fri, 31 Jan 2025 22:20:13 +0100 (CET) Received: by mail-pj1-f98.google.com with SMTP id 98e67ed59e1d1-2ee86a1a92dso3407174a91.1 for ; Fri, 31 Jan 2025 13:20:13 -0800 (PST) DKIM-Signature: v=1; a=rsa-sha256; c=relaxed/relaxed; d=iol.unh.edu; s=unh-iol; t=1738358412; x=1738963212; darn=dpdk.org; h=cc:to:from:subject:message-id:date:from:to:cc:subject:date :message-id:reply-to; bh=HnNKaoBUd4hcIm2yN/UcBXhQetY8TbOyCNAiD6F//IM=; b=IHoZNtwyoeYlNO1nYz3cKp3fUMqzqNsRvO+kqvggjmIf4Q2S0PNAUDBnmDGu1eV+mg SfNN4qDdLCKDy4IlSNgNkBo9GTHuhSirpGnhF4GvYt7JSNx5kWV3zkrn/UknUX3Vl7zt do4/g8Tu5I5YajdQubEBkNHW7gGILDF+DF79U= X-Google-DKIM-Signature: v=1; a=rsa-sha256; c=relaxed/relaxed; d=1e100.net; s=20230601; t=1738358412; x=1738963212; h=cc:to:from:subject:message-id:date:x-gm-message-state:from:to:cc :subject:date:message-id:reply-to; bh=HnNKaoBUd4hcIm2yN/UcBXhQetY8TbOyCNAiD6F//IM=; b=ByEeKU+j5M4wCZtX7ktBvZ4dHKHcIHIQ74qmqNymZNGA8EuhVRlFMtOWSBTWVIWkIC coP5DhmnT1yHgpOk8jjwco04u15OSZUVnYNts2Z8nXjRFm/7UAaZwlC2iTS9DsR5OTPk ffmeSowW4crrzGzTY3O30Lj/vDL31LjomFSscFatiw3IaBqxulzf/qnFnK76gvncqQ09 zGdn0taeXQV61NLmpXyaNGJ34e1HpSvgt1QqDDOQuWIxD0mHH/NnY1smv3NY6OJLNGKV H0ni+YAe/T5/AmxeVg0GAYZFD1mcWVEYHRZ1fUgDzH3RvMjz8o2ob/iP2Th65to1b6Yi 2vlg== X-Gm-Message-State: AOJu0YzzcSj/QHlHRa84ep8XOnjFZY/MDd4vFf7FRURU5N4L9DzilGdb EteHjc7m0eJ5McjCWQqb8e7AaoR03s/J3EYUquxZB7R+UL5FdnRi0EX448PuB4GEWQLeXxYJh8b VLyM/ofONy+vMd+3e5IHVZWCq29a6ToqWMhQP1q1a X-Gm-Gg: ASbGncvyOJ2WEZDMxE3yRbHIj0NHIE3V3m0oAsdV6EiA8FZ1uykeW2gaCywlEp18Pme kcrIIp2NjVcBsig87vjn13JdUedf2bXzALjrJbDvf2h5DpfDr0nYZOLIfPNUzwbwUTtblE6hqaK MIwYzbELSf5t6AngEYSqqV2On96M5tphZK/PePEJG+KW/EFcVWGj0kn64BQPLa/ASWxHWiDIyD/ raMeVJK5CewoC92HW60H6p/Y9xpAneEO3oEISy8GRUOwFP1RFUtCMY626UdsbiKByTbtHoHa+Pn hFcYvQRfCR2rpIi/DF6L6OE/n/um+Q== X-Google-Smtp-Source: AGHT+IFM4kS4Hmt7tBAAfHDxT9wfUERv7VnEHCtApEWgWt8IZl26H5zzdBdJu9VbdyNHmRs6nlGtEu6CtpfJ X-Received: by 2002:a17:90b:280b:b0:2ee:8e75:4aeb with SMTP id 98e67ed59e1d1-2f83ac09cdfmr21125342a91.17.1738358412601; Fri, 31 Jan 2025 13:20:12 -0800 (PST) Received: from postal.iol.unh.edu (postal.iol.unh.edu. [132.177.123.84]) by smtp-relay.gmail.com with ESMTPS id 98e67ed59e1d1-2f84896b559sm330870a91.3.2025.01.31.13.20.12 (version=TLS1_2 cipher=ECDHE-ECDSA-AES128-GCM-SHA256 bits=128/128); Fri, 31 Jan 2025 13:20:12 -0800 (PST) X-Relaying-Domain: iol.unh.edu Date: Fri, 31 Jan 2025 13:20:12 -0800 (PST) Message-ID: <679d3e8c.170a0220.32e647.16c4SMTPIN_ADDED_MISSING@mx.google.com> Received: from [172.21.0.5] (unknown [172.18.0.240]) by postal.iol.unh.edu (Postfix) with ESMTP id AC1836052471; Fri, 31 Jan 2025 16:20:11 -0500 (EST) Subject: |SUCCESS| [GIT MASTER] abf3b7b7b361f8aa8d75ae00d449b588a0cdcda3 From: dpdklab@iol.unh.edu To: Test Report Cc: dpdk-test-reports@iol.unh.edu, Bruce Richardson Content-Type: text/plain X-BeenThere: test-report@dpdk.org X-Mailman-Version: 2.1.29 Precedence: list List-Id: automatic DPDK test reports List-Unsubscribe: , List-Archive: List-Post: List-Help: List-Subscribe: , Errors-To: test-report-bounces@dpdk.org _Testing PASS_ Branch: dpdk-next-net-intel abf3b7b7b361f8aa8d75ae00d449b588a0cdcda3 --> testing pass Upstream job id: Generic-Unit-Test-DPDK#310734 Test environment and result as below: +-----------------------------+----------------+---------------------------+------------------------------+--------------+ | Environment | dpdk_unit_test | cryptodev_sw_zuc_autotest | cryptodev_sw_snow3g_autotest | lpm_autotest | +=============================+================+===========================+==============================+==============+ | CentOS Stream 9 (ARM) | PASS | SKIPPED | SKIPPED | SKIPPED | +-----------------------------+----------------+---------------------------+------------------------------+--------------+ | 32-bit Ubuntu 22.04.4 (ARM) | PASS | SKIPPED | SKIPPED | SKIPPED | +-----------------------------+----------------+---------------------------+------------------------------+--------------+ | Fedora 41 (ARM) | PASS | SKIPPED | SKIPPED | SKIPPED | +-----------------------------+----------------+---------------------------+------------------------------+--------------+ | Fedora 41 (ARM Clang) | PASS | SKIPPED | SKIPPED | SKIPPED | +-----------------------------+----------------+---------------------------+------------------------------+--------------+ | Fedora 40 (ARM) | PASS | SKIPPED | SKIPPED | SKIPPED | +-----------------------------+----------------+---------------------------+------------------------------+--------------+ | Debian 11 (Buster) (ARM) | PASS | SKIPPED | SKIPPED | SKIPPED | +-----------------------------+----------------+---------------------------+------------------------------+--------------+ | Fedora 40 (ARM Clang) | PASS | SKIPPED | SKIPPED | SKIPPED | +-----------------------------+----------------+---------------------------+------------------------------+--------------+ | Ubuntu 20.04 (ARM) | PASS | SKIPPED | SKIPPED | SKIPPED | +-----------------------------+----------------+---------------------------+------------------------------+--------------+ | RHEL9 (ARM) | PASS | SKIPPED | SKIPPED | SKIPPED | +-----------------------------+----------------+---------------------------+------------------------------+--------------+ | Debian 12 (arm) | PASS | PASS | PASS | SKIPPED | +-----------------------------+----------------+---------------------------+------------------------------+--------------+ | Ubuntu 24.04 (ARM) | PASS | SKIPPED | SKIPPED | SKIPPED | +-----------------------------+----------------+---------------------------+------------------------------+--------------+ | Ubuntu 22.04 (ARM) | PASS | SKIPPED | SKIPPED | SKIPPED | +-----------------------------+----------------+---------------------------+------------------------------+--------------+ | Ubuntu 20.04 ARM SVE | SKIPPED | SKIPPED | SKIPPED | PASS | +-----------------------------+----------------+---------------------------+------------------------------+--------------+ CentOS Stream 9 (ARM) Kernel: Depends on container host Compiler: gcc 11.5.0 20240719 (Red Hat 11.5.0-2) 32-bit Ubuntu 22.04.4 (ARM) Kernel: 5.15.83+ aarch64 Compiler: gcc (Ubuntu 11.4.0-1ubuntu1~22.04) 11.4.0 Fedora 41 (ARM) Kernel: Depends on container host Compiler: gcc 14.2.1 20240912 (Red Hat 14.2.1-3) Fedora 41 (ARM Clang) Kernel: Depends on container host Compiler: clang 19.1.5 (Fedora 19.1.5-1.fc41) Fedora 40 (ARM) Kernel: Depends on container host Compiler: gcc 14.2.1 20240912 (Red Hat 14.2.1-3) Debian 11 (Buster) (ARM) Kernel: Depends on container host Compiler: gcc (Debian 10.2.1-6) 10.2.1 20210110 Fedora 40 (ARM Clang) Kernel: Depends on container host Compiler: clang 18.1.8 (Fedora 18.1.8-1.fc40) Ubuntu 20.04 (ARM) Kernel: Depends on container host Compiler: gcc (Ubuntu 9.4.0-1ubuntu1~20.04.2) 9.4.0 RHEL9 (ARM) Kernel: Depends on container host Compiler: gcc 11.5.0 20240719 (Red Hat 11.5.0-2) Debian 12 (arm) Kernel: Depends on container host Compiler: gcc (Debian 12.2.0-14) 12.2.0 Ubuntu 24.04 (ARM) Kernel: Depends on container host Compiler: gcc (Ubuntu 13.3.0-6ubuntu2~24.04) 13.3.0 Ubuntu 22.04 (ARM) Kernel: Depends on container host Compiler: gcc (Ubuntu 11.4.0-1ubuntu1~22.04) 11.4.0 Ubuntu 20.04 ARM SVE Kernel: Depends on container host Compiler: gcc (Ubuntu 10.5.0-1ubuntu1~20.04) 10.5.0 To view detailed results, visit: https://lab.dpdk.org/results/dashboard/tarballs/32405/ UNH-IOL DPDK Community Lab To manage your email subscriptions, visit: https://lab.dpdk.org/results/dashboard/preferences/subscriptions/