From mboxrd@z Thu Jan 1 00:00:00 1970 Return-Path: Received: from mails.dpdk.org (mails.dpdk.org [217.70.189.124]) by inbox.dpdk.org (Postfix) with ESMTP id 9722A4615A for ; Fri, 31 Jan 2025 22:37:33 +0100 (CET) Received: from mails.dpdk.org (localhost [127.0.0.1]) by mails.dpdk.org (Postfix) with ESMTP id 742CB400EF; Fri, 31 Jan 2025 22:37:33 +0100 (CET) Received: from mail-vs1-f98.google.com (mail-vs1-f98.google.com [209.85.217.98]) by mails.dpdk.org (Postfix) with ESMTP id 61B54400EF for ; Fri, 31 Jan 2025 22:37:32 +0100 (CET) Received: by mail-vs1-f98.google.com with SMTP id ada2fe7eead31-4b9486a15a0so1767787137.0 for ; Fri, 31 Jan 2025 13:37:32 -0800 (PST) DKIM-Signature: v=1; a=rsa-sha256; c=relaxed/relaxed; d=iol.unh.edu; s=unh-iol; t=1738359451; x=1738964251; darn=dpdk.org; h=references:in-reply-to:cc:to:from:subject:message-id:date:from:to :cc:subject:date:message-id:reply-to; bh=TMUEYV2SR/ZS6JNXUavyZNNpLSlaRvzxhCDd9iXrPEs=; b=Hycwo1tJ2LmzyrVeTGPgIA6C56lDqPli3TH/pARiJ5uw/R+6/1LgypsKvn3EcNr5un 9q3q/4yFbNooSfNv6roCyYsmGEPZFmi7wkgDBZt1zc+XX3J/fcJDdwyIHCpeCDctn3sY m4dCossEhJGK8VzvL86Z8SBTA+hZk5GxTVZUg= X-Google-DKIM-Signature: v=1; a=rsa-sha256; c=relaxed/relaxed; d=1e100.net; s=20230601; t=1738359451; x=1738964251; h=references:in-reply-to:cc:to:from:subject:message-id:date :x-gm-message-state:from:to:cc:subject:date:message-id:reply-to; bh=TMUEYV2SR/ZS6JNXUavyZNNpLSlaRvzxhCDd9iXrPEs=; b=cvJK1bpV3GIlUAeKe4LcFRhXOGC3lVDOrZmcR7Blb4jCkCIlo2p+OjgAWK4f6BoS09 r6CHF5rlhWZ0TejwKjb8UJ1koeKfrm5AcEHHT8gIj/lQtgwR+yVdq6zBa+9DIv+KYBz0 Pp8JqsE3iroY2r4WWJVEb/TqDHi5lmgaXHLnqWbUTg8W6Rr1/duBGWjha7f9jae9nmJI EiVhGHaniHXrmyZ3JEtpjcRl5JodhP5tzLvVfjtXPVG2F6RFWQNSuQBc4sauNDN5+qRN rnvzlVTUYG4PJ5UghIhN4KJ8s1DcANgyUSVQDH0KfH5+BLJ8XmFP71K2og3+WKaRiCZN ot7w== X-Gm-Message-State: AOJu0Yx17URaXq+BuWmMxq+kcWQsK1Rs2Mm3lX4iyuD7hDyxTeE0NwEo rMEQFqcswUA53Pea/EcKBaY5EuAdMpZesnbEt2sGFdJUGOptOQIELnHTe2iqWEdpWb2xyYTIZ6L twfd2jBwebRtmJG/FcHCcUiSky7dzWDn4YQg30d1H X-Gm-Gg: ASbGnctqtoJ9GTNOnY1aPR4JN4u4Zd+GbrQJWQ+qEEz9nQ0TfsU5LZJPXcZjyCi31bQ 7u4Sqpfp/PaoO6jqyYBV7a27J83fR/PGxnuc5BjYGsrKBpvBLEJ/K6J/geS5mPrzm8N6CpZ8TcU zRD5OODruSu9Gdz/XlQ/P7r7Xcc8MTzP/b7SG/0MxiCQ1QzyxbTZkHNr6fcla6glRqpp2FmpeX1 UDo4pgXOsnkDJxcqBE4r2Ouv/GWxVlarnwA0Lg9KQFTh3WHnTdFYZQMhQjUCjP5RXFew/Nvqz0H JmrUzxuOsPmdylvyovJGoaVV/knpkw== X-Google-Smtp-Source: AGHT+IEV/OaL+NnXAQZYDYbhkKEOrHn6tUl2EJ1jXp3V4v8XsYdK8FbsKBTIwWHtzUET1DSGwUQXVL1ssHHz X-Received: by 2002:a05:6102:1527:b0:4b9:bf96:562a with SMTP id ada2fe7eead31-4b9bf9657b0mr6269610137.2.1738359451630; Fri, 31 Jan 2025 13:37:31 -0800 (PST) Received: from postal.iol.unh.edu (postal.iol.unh.edu. [132.177.123.84]) by smtp-relay.gmail.com with ESMTPS id ada2fe7eead31-4b9baa6694csm76099137.1.2025.01.31.13.37.31 (version=TLS1_2 cipher=ECDHE-ECDSA-AES128-GCM-SHA256 bits=128/128); Fri, 31 Jan 2025 13:37:31 -0800 (PST) X-Relaying-Domain: iol.unh.edu Date: Fri, 31 Jan 2025 13:37:31 -0800 (PST) Message-ID: <679d429b.050a0220.182b13.48e8SMTPIN_ADDED_MISSING@mx.google.com> Received: from [172.21.0.6] (unknown [172.18.0.240]) by postal.iol.unh.edu (Postfix) with ESMTP id 1ED836052471; Fri, 31 Jan 2025 16:37:31 -0500 (EST) Subject: |SUCCESS| pw150758-150760 [PATCH] [3/3] dts: bump up fabric version From: dpdklab@iol.unh.edu To: Test Report Cc: dpdk-test-reports@iol.unh.edu In-Reply-To: <20250131191924.1936157-4-luca.vizzarro@arm.com> References: <20250131191924.1936157-4-luca.vizzarro@arm.com> Content-Type: text/plain X-BeenThere: test-report@dpdk.org X-Mailman-Version: 2.1.29 Precedence: list List-Id: automatic DPDK test reports List-Unsubscribe: , List-Archive: List-Post: List-Help: List-Subscribe: , Errors-To: test-report-bounces@dpdk.org Test-Label: iol-compile-amd64-testing Test-Status: SUCCESS http://dpdk.org/patch/150760 _Testing PASS_ Submitter: Luca Vizzarro Date: Friday, January 31 2025 19:19:24 DPDK git baseline: Repo:dpdk Branch: master CommitID:75fb46c7ade4a7efaaa02743c4aa450f75ba9468 150758-150760 --> testing pass Upstream job id: Windows-Compile-DPDK-VS#4785 Test environment and result as below: +---------------------+-------------------+--------------------+ | Environment | dpdk_msvc_compile | dpdk_meson_compile | +=====================+===================+====================+ | Windows Server 2022 | PASS | SKIPPED | +---------------------+-------------------+--------------------+ | FreeBSD 13.4 | SKIPPED | PASS | +---------------------+-------------------+--------------------+ | FreeBSD 14.2 | SKIPPED | PASS | +---------------------+-------------------+--------------------+ Windows Server 2022 Kernel: 10.0.20348.2031 Compiler: clang 15.0.7, gcc 14.1.0 (MinGW), and MSVC VS 19.39.33521 FreeBSD 13.4 Kernel: 13.4-RELEASE-p1 Compiler: clang 18.1.6 FreeBSD 14.2 Kernel: 14.2-RELEASE Compiler: clang 18.1.6 To view detailed results, visit: https://lab.dpdk.org/results/dashboard/patchsets/32474/ UNH-IOL DPDK Community Lab To manage your email subscriptions, visit: https://lab.dpdk.org/results/dashboard/preferences/subscriptions/