automatic DPDK test reports
 help / color / mirror / Atom feed
From: dpdklab@iol.unh.edu
To: Test Report <test-report@dpdk.org>
Cc: dpdk-test-reports@iol.unh.edu
Subject: |SUCCESS| pw150758-150760 [PATCH] [3/3] dts: bump up fabric version
Date: Fri, 31 Jan 2025 13:38:29 -0800 (PST)	[thread overview]
Message-ID: <679d42d5.050a0220.325ecc.02e9SMTPIN_ADDED_MISSING@mx.google.com> (raw)
In-Reply-To: <20250131191924.1936157-4-luca.vizzarro@arm.com>

Test-Label: iol-compile-amd64-testing
Test-Status: SUCCESS
http://dpdk.org/patch/150760

_Testing PASS_

Submitter: Luca Vizzarro <luca.vizzarro@arm.com>
Date: Friday, January 31 2025 19:19:24 
DPDK git baseline: Repo:dpdk
  Branch: master
  CommitID:75fb46c7ade4a7efaaa02743c4aa450f75ba9468

150758-150760 --> testing pass

Upstream job id: Generic-VM-DPDK-Compile-Meson#32980

Test environment and result as below:

+---------------------+-------------------+--------------------+
|     Environment     | dpdk_msvc_compile | dpdk_meson_compile |
+=====================+===================+====================+
| Windows Server 2022 | PASS              | SKIPPED            |
+---------------------+-------------------+--------------------+
| FreeBSD 13.4        | SKIPPED           | PASS               |
+---------------------+-------------------+--------------------+
| FreeBSD 14.2        | SKIPPED           | PASS               |
+---------------------+-------------------+--------------------+


Windows Server 2022
	Kernel: 10.0.20348.2031
	Compiler: clang 15.0.7, gcc 14.1.0 (MinGW), and MSVC VS 19.39.33521

FreeBSD 13.4
	Kernel: 13.4-RELEASE-p1
	Compiler: clang 18.1.6

FreeBSD 14.2
	Kernel: 14.2-RELEASE
	Compiler: clang 18.1.6

To view detailed results, visit:
https://lab.dpdk.org/results/dashboard/patchsets/32474/

UNH-IOL DPDK Community Lab

To manage your email subscriptions, visit: 
https://lab.dpdk.org/results/dashboard/preferences/subscriptions/

  parent reply	other threads:[~2025-01-31 21:38 UTC|newest]

Thread overview: 18+ messages / expand[flat|nested]  mbox.gz  Atom feed  top
     [not found] <20250131191924.1936157-4-luca.vizzarro@arm.com>
2025-01-31 19:20 ` |WARNING| pw150760 [PATCH 3/3] " checkpatch
2025-01-31 21:00 ` |SUCCESS| pw150758-150760 [PATCH] [3/3] " dpdklab
2025-01-31 21:13 ` dpdklab
2025-01-31 21:15 ` |PENDING| " dpdklab
2025-01-31 21:35 ` dpdklab
2025-01-31 21:37 ` |SUCCESS| " dpdklab
2025-01-31 21:38 ` dpdklab [this message]
2025-01-31 21:46 ` |PENDING| " dpdklab
2025-01-31 21:46 ` dpdklab
2025-01-31 21:48 ` |SUCCESS| " dpdklab
2025-01-31 21:51 ` dpdklab
2025-01-31 22:25 ` dpdklab
2025-01-31 22:43 ` |PENDING| " dpdklab
2025-01-31 22:44 ` |WARNING| " dpdklab
2025-01-31 22:44 ` dpdklab
2025-01-31 22:54 ` |SUCCESS| " dpdklab
2025-01-31 23:20 ` |WARNING| " dpdklab
2025-01-31 23:22 ` |SUCCESS| " dpdklab

Reply instructions:

You may reply publicly to this message via plain-text email
using any one of the following methods:

* Save the following mbox file, import it into your mail client,
  and reply-to-all from there: mbox

  Avoid top-posting and favor interleaved quoting:
  https://en.wikipedia.org/wiki/Posting_style#Interleaved_style

* Reply using the --to, --cc, and --in-reply-to
  switches of git-send-email(1):

  git send-email \
    --in-reply-to=679d42d5.050a0220.325ecc.02e9SMTPIN_ADDED_MISSING@mx.google.com \
    --to=dpdklab@iol.unh.edu \
    --cc=dpdk-test-reports@iol.unh.edu \
    --cc=test-report@dpdk.org \
    /path/to/YOUR_REPLY

  https://kernel.org/pub/software/scm/git/docs/git-send-email.html

* If your mail client supports setting the In-Reply-To header
  via mailto: links, try the mailto: link
Be sure your reply has a Subject: header at the top and a blank line before the message body.
This is a public inbox, see mirroring instructions
for how to clone and mirror all data and code used for this inbox;
as well as URLs for NNTP newsgroup(s).