From mboxrd@z Thu Jan 1 00:00:00 1970 Return-Path: Received: from mails.dpdk.org (mails.dpdk.org [217.70.189.124]) by inbox.dpdk.org (Postfix) with ESMTP id 3FEEB4615A for ; Fri, 31 Jan 2025 22:42:59 +0100 (CET) Received: from mails.dpdk.org (localhost [127.0.0.1]) by mails.dpdk.org (Postfix) with ESMTP id 1046F400EF; Fri, 31 Jan 2025 22:42:59 +0100 (CET) Received: from mail-qt1-f228.google.com (mail-qt1-f228.google.com [209.85.160.228]) by mails.dpdk.org (Postfix) with ESMTP id 70D84400D7 for ; Fri, 31 Jan 2025 22:42:57 +0100 (CET) Received: by mail-qt1-f228.google.com with SMTP id d75a77b69052e-467725245a2so23352751cf.3 for ; Fri, 31 Jan 2025 13:42:57 -0800 (PST) DKIM-Signature: v=1; a=rsa-sha256; c=relaxed/relaxed; d=iol.unh.edu; s=unh-iol; t=1738359777; x=1738964577; darn=dpdk.org; h=references:in-reply-to:cc:to:from:subject:message-id:date:from:to :cc:subject:date:message-id:reply-to; bh=k3b3ChEgW9aoKqOHRgYw+uepJqks2PQv1YvG7TacSW0=; b=EIKlBVsuilZWBhkSx0ZmeH8kFJihZo7m6Ov++2gJoWSGJTKEibPaq4SazRP6ghnYi6 /07tpDi4hiRqocLbYyKjukon/JJ5i8v4dRrmpKsyNOQuKiVW/x5PyZLHaGe/cQcmhuTW qk6xtCFuphCb4u18dKLKNKSpcMPQnss4t7Hp0= X-Google-DKIM-Signature: v=1; a=rsa-sha256; c=relaxed/relaxed; d=1e100.net; s=20230601; t=1738359777; x=1738964577; h=references:in-reply-to:cc:to:from:subject:message-id:date :x-gm-message-state:from:to:cc:subject:date:message-id:reply-to; bh=k3b3ChEgW9aoKqOHRgYw+uepJqks2PQv1YvG7TacSW0=; b=to0BdeAw18FIfUFL+qSiRAQlrSpkxGsFEjVe3pk0Ug8wDYfw3QOpm6OA+2ZBXtQsG3 pjst5MgHV5hiv+VFMOeKEYkCPr+FfG7yC5xRS62ovXq/tAzvSkOSiQpLVW0FB/AS9sD5 r2IoBvLNkXexb0OOGE7ati+6Hhy9cFgdBbd2ROKmZkTGPlByDO8sck9VOzA4llktg1Mc 444sqIJ21Ky3exDoVoih/ohiSkwLmrtYVgA5iTNuNVcgaDxJ0hSujrqYRcR9p2xhOMGp S0qWd7X7H1xNtyQwoKOWR0rbCySQ9pyLM0YXyBvHOY8t4y4Jnayad6HQ2IU37I+o+tR/ AIpg== X-Gm-Message-State: AOJu0YxQez+SArAmEuYv5txF0t9d4J0bJCDiO34LQeDrpfIQz9z3IK/9 tV76AfI4e6U4sXIgn4p9Urzszz2WlBU8eBMIp27iUymmn3i9upqMpJiUAVrjG4MofG2L/sd8GHw 6HkxMIo5eqnyU+y5fDsSSm0lHThXZq++mO76IGcsW X-Gm-Gg: ASbGnctChT07iqXFY6EspDmWAM0PBV66wLdzw+n+X3hQQZjE76Qmw9/PSuqAhOB+f7A h2ynDbZzJKt5PL0SJlGyatSwNlGHERlKBHojBSiAaGr8KL5Tdrm+9XAJhkmMiJtWtcEPxWzYK0d q4kERcNs46cvQ1zRg8ulC7HjJW1V/VjTlh8q3fkbAqEFW1yEcVuqP9vV4nTox+j1dqTzWfpGQ2h QoGzxFcEfH/cgLhnnfar3ZDKN2bw+dDRy8IYxm0nvK3oNxu7jRFCrRKj+vpw/px+KF/bn1I2jl9 5PxlBNknQXVEM0TIdFoSe41wKVaeAQ== X-Google-Smtp-Source: AGHT+IEoDtLzxHLu2260irDlvjQxPaLY7o5iRZL1WgkwrJ6cFhycHPEuj3Wibf4DhUtS4tz5b2fIJtGuKHh4 X-Received: by 2002:ac8:5fd6:0:b0:466:b395:fe with SMTP id d75a77b69052e-46fd0ae1b2cmr218328831cf.35.1738359776846; Fri, 31 Jan 2025 13:42:56 -0800 (PST) Received: from postal.iol.unh.edu (postal.iol.unh.edu. [132.177.123.84]) by smtp-relay.gmail.com with ESMTPS id d75a77b69052e-46fdf161613sm1269631cf.17.2025.01.31.13.42.56 (version=TLS1_2 cipher=ECDHE-ECDSA-AES128-GCM-SHA256 bits=128/128); Fri, 31 Jan 2025 13:42:56 -0800 (PST) X-Relaying-Domain: iol.unh.edu Date: Fri, 31 Jan 2025 13:42:56 -0800 (PST) Message-ID: <679d43e0.050a0220.3591b6.6b08SMTPIN_ADDED_MISSING@mx.google.com> Received: from [172.21.0.5] (unknown [172.18.0.240]) by postal.iol.unh.edu (Postfix) with ESMTP id 8606D6052471; Fri, 31 Jan 2025 16:42:56 -0500 (EST) Subject: |SUCCESS| pw150761-150762 [PATCH] [2/2] dts: rework run-time MTU adj From: dpdklab@iol.unh.edu To: Test Report Cc: dpdk-test-reports@iol.unh.edu In-Reply-To: <20250131193803.168498-3-npratte@iol.unh.edu> References: <20250131193803.168498-3-npratte@iol.unh.edu> Content-Type: text/plain X-BeenThere: test-report@dpdk.org X-Mailman-Version: 2.1.29 Precedence: list List-Id: automatic DPDK test reports List-Unsubscribe: , List-Archive: List-Post: List-Help: List-Subscribe: , Errors-To: test-report-bounces@dpdk.org Test-Label: iol-abi-testing Test-Status: SUCCESS http://dpdk.org/patch/150762 _Testing PASS_ Submitter: Nicholas Pratte Date: Friday, January 31 2025 19:38:03 DPDK git baseline: Repo:dpdk Branch: master CommitID:75fb46c7ade4a7efaaa02743c4aa450f75ba9468 150761-150762 --> testing pass Upstream job id: Generic-DPDK-Compile-ABI#114398 Test environment and result as below: +-------------------+----------+ | Environment | abi_test | +===================+==========+ | CentOS Stream 9 | PASS | +-------------------+----------+ | Debian Bullseye | PASS | +-------------------+----------+ | Debian 12 | PASS | +-------------------+----------+ | Fedora 40 | PASS | +-------------------+----------+ | Fedora 40 (Clang) | PASS | +-------------------+----------+ | Fedora 41 (Clang) | PASS | +-------------------+----------+ | Fedora 41 | PASS | +-------------------+----------+ | openSUSE Leap 15 | PASS | +-------------------+----------+ | RHEL8 | PASS | +-------------------+----------+ | RHEL9 | PASS | +-------------------+----------+ | Ubuntu 22.04 | PASS | +-------------------+----------+ | Ubuntu 24.04 | PASS | +-------------------+----------+ CentOS Stream 9 Kernel: Depends on container host Compiler: gcc 11.5.0 20240719 (Red Hat 11.5.0-2) Debian Bullseye Kernel: Depends on container host Compiler: gcc (Debian 10.2.1-6) 10.2.1 20210110 Debian 12 Kernel: Depends on container host Compiler: gcc (Debian 12.2.0-14) 12.2.0 Fedora 40 Kernel: Depends on container host Compiler: gcc 14.2.1 20240912 (Red Hat 14.2.1-3) Fedora 40 (Clang) Kernel: Depends on container host Compiler: clang 18.1.8 (Fedora 18.1.8-1.fc40) Fedora 41 (Clang) Kernel: Depends on container host Compiler: clang 19.1.5 (Fedora 19.1.5-1.fc41) Fedora 41 Kernel: Depends on container host Compiler: gcc 14.2.1 20240912 (Red Hat 14.2.1-3) openSUSE Leap 15 Kernel: Depends on container host Compiler: gcc (SUSE Linux) 7.5.0 RHEL8 Kernel: Depends on container host Compiler: gcc 8.5.0 20210514 (Red Hat 8.5.0-22) RHEL9 Kernel: Depends on container host Compiler: gcc 11.5.0 20240719 (Red Hat 11.5.0-2) Ubuntu 22.04 Kernel: Depends on container host Compiler: gcc (Ubuntu 11.4.0-1ubuntu1~22.04) 11.4.0 Ubuntu 24.04 Kernel: Depends on container host Compiler: gcc (Ubuntu 13.3.0-6ubuntu2~24.04) 13.3.0 To view detailed results, visit: https://lab.dpdk.org/results/dashboard/patchsets/32475/ UNH-IOL DPDK Community Lab To manage your email subscriptions, visit: https://lab.dpdk.org/results/dashboard/preferences/subscriptions/