From mboxrd@z Thu Jan 1 00:00:00 1970 Return-Path: Received: from mails.dpdk.org (mails.dpdk.org [217.70.189.124]) by inbox.dpdk.org (Postfix) with ESMTP id 304444615A for ; Fri, 31 Jan 2025 22:43:07 +0100 (CET) Received: from mails.dpdk.org (localhost [127.0.0.1]) by mails.dpdk.org (Postfix) with ESMTP id 2CA01400EF; Fri, 31 Jan 2025 22:43:07 +0100 (CET) Received: from mail-il1-f225.google.com (mail-il1-f225.google.com [209.85.166.225]) by mails.dpdk.org (Postfix) with ESMTP id 1A00A400D7 for ; Fri, 31 Jan 2025 22:43:05 +0100 (CET) Received: by mail-il1-f225.google.com with SMTP id e9e14a558f8ab-3ce76b8d5bcso20231705ab.0 for ; Fri, 31 Jan 2025 13:43:05 -0800 (PST) DKIM-Signature: v=1; a=rsa-sha256; c=relaxed/relaxed; d=iol.unh.edu; s=unh-iol; t=1738359784; x=1738964584; darn=dpdk.org; h=references:in-reply-to:cc:to:from:subject:message-id:date:from:to :cc:subject:date:message-id:reply-to; bh=gEw29w3aC8NO8Jv1Qa/UihBnfiRGqh6xj4ZohtK4Adw=; b=gOtCoLU/VlnPZ29LIGwtb5MbqvHZ3DnVvxqZIq/tRiV8XF69CnKTbtfFfVs28et5iL /a9DtJyDfW5K/768Eq/7pTNuWUn3m/ajwe3P2VYqryhw+NTRVPD9HHfzn+YLMHh/ikS4 mvDM+JWRuymn1UAk4LNd2vHUHicW7DaGEKLxg= X-Google-DKIM-Signature: v=1; a=rsa-sha256; c=relaxed/relaxed; d=1e100.net; s=20230601; t=1738359784; x=1738964584; h=references:in-reply-to:cc:to:from:subject:message-id:date :x-gm-message-state:from:to:cc:subject:date:message-id:reply-to; bh=gEw29w3aC8NO8Jv1Qa/UihBnfiRGqh6xj4ZohtK4Adw=; b=IJqq2mzEPZrf6GzV+KhptbkV0LxDGCwNkEdZlXYH8QCy5ndkQTdrC/g0NKxA5nL8yN ZMuZMPXtwpGkDNrG3/pfafE2Q1/F+1QM/hB+4qtbfzTcvLymiqFQhsdD591b3o7bZd5d vmCjN0E5zBWOm7VMbLNM35x5PzKFx4TzjVxJlikqB0SRwNKkEhDmOXPJotAXuClXuv4H KSQ1FnOTo0iOFAWZQi1z2kiudHULQw8r4h7YoYhknx/wydavdmlQiBCtDZbqgVCyNmXX MfUPOiTpkua1Jto0gMSikRlbHUARaTG7FRsXnapEzhevwylUBN61jOcsgU9VHY7cpZNV LBzA== X-Gm-Message-State: AOJu0Yzmg1nGUMwxT1IHR6s8An4J3hRG1OSFI6JHYlrptvwujzw1DT3Y hl/VkpPCR1nG5TvbSiImpgWDbVuV6cBGLb2f8CqdO6GIoHMYNLosc0DNx6bpvNTdU2b/L2SpBnR i7g3qP/MncQY/q6828b+BJ2SBnGp3nIqV+F9Gt24q X-Gm-Gg: ASbGncvvt5KrbI2zmFrBtJFlJLE3OtC+c318K9vbEGjgkRpVXZOikTQz0ln7Yw3aMxf F2Lav1twCfAlXFkB3b63YUwsuQPZ6pMCekagb/WMJowS4dIdLxrEAbx4QOlc/OII9lXcHYTGR58 Izi/mdvcI0F13/KJLKhVqGKkEY67x/vnREa4zH1baw5Wss223FrmgDE0SJmZcPoUwe3Izd/EaR7 1NKMMyIdukiIJLBg6fr1iwxJfDskPaINtJ+fAna+F/WCIis5ewTtp1P3EBKdITOsEmiGBIz44Nm k/74O2hTaynNt0RpqoUkrjZ573A6RQ== X-Google-Smtp-Source: AGHT+IFgqCCNFx+tmlfe8now349JMzESEyfgi0eqiKC1d8i42voSP4eW9hEUvlWNDPCn3MqnfJ8b1qJHx6uW X-Received: by 2002:a92:cda7:0:b0:3cf:cd79:b24e with SMTP id e9e14a558f8ab-3cffe469ae4mr116838175ab.15.1738359784473; Fri, 31 Jan 2025 13:43:04 -0800 (PST) Received: from postal.iol.unh.edu (postal.iol.unh.edu. [132.177.123.84]) by smtp-relay.gmail.com with ESMTPS id 8926c6da1cb9f-4ec745cfa2fsm260643173.40.2025.01.31.13.43.04 (version=TLS1_2 cipher=ECDHE-ECDSA-AES128-GCM-SHA256 bits=128/128); Fri, 31 Jan 2025 13:43:04 -0800 (PST) X-Relaying-Domain: iol.unh.edu Date: Fri, 31 Jan 2025 13:43:04 -0800 (PST) Message-ID: <679d43e8.050a0220.7e3d6.ed23SMTPIN_ADDED_MISSING@mx.google.com> Received: from [172.21.0.6] (unknown [172.18.0.240]) by postal.iol.unh.edu (Postfix) with ESMTP id F27EE6052471; Fri, 31 Jan 2025 16:43:03 -0500 (EST) Subject: |SUCCESS| pw150761-150762 [PATCH] [2/2] dts: rework run-time MTU adj From: dpdklab@iol.unh.edu To: Test Report Cc: dpdk-test-reports@iol.unh.edu In-Reply-To: <20250131193803.168498-3-npratte@iol.unh.edu> References: <20250131193803.168498-3-npratte@iol.unh.edu> Content-Type: text/plain X-BeenThere: test-report@dpdk.org X-Mailman-Version: 2.1.29 Precedence: list List-Id: automatic DPDK test reports List-Unsubscribe: , List-Archive: List-Post: List-Help: List-Subscribe: , Errors-To: test-report-bounces@dpdk.org Test-Label: iol-unit-amd64-testing Test-Status: SUCCESS http://dpdk.org/patch/150762 _Testing PASS_ Submitter: Nicholas Pratte Date: Friday, January 31 2025 19:38:03 DPDK git baseline: Repo:dpdk Branch: master CommitID:75fb46c7ade4a7efaaa02743c4aa450f75ba9468 150761-150762 --> testing pass Upstream job id: Generic-Unit-Test-DPDK#310820 Test environment and result as below: +---------------------+----------------+ | Environment | dpdk_unit_test | +=====================+================+ | Debian 12 | PASS | +---------------------+----------------+ | Debian Bullseye | PASS | +---------------------+----------------+ | CentOS Stream 9 | PASS | +---------------------+----------------+ | Fedora 40 (Clang) | PASS | +---------------------+----------------+ | Fedora 41 (Clang) | PASS | +---------------------+----------------+ | Fedora 41 | PASS | +---------------------+----------------+ | Fedora 40 | PASS | +---------------------+----------------+ | Ubuntu 20.04 | PASS | +---------------------+----------------+ | Ubuntu 24.04 | PASS | +---------------------+----------------+ | RHEL9 | PASS | +---------------------+----------------+ | RHEL8 | PASS | +---------------------+----------------+ | Ubuntu 22.04 | PASS | +---------------------+----------------+ | Windows Server 2022 | PASS | +---------------------+----------------+ Debian 12 Kernel: Depends on container host Compiler: gcc (Debian 12.2.0-14) 12.2.0 Debian Bullseye Kernel: Depends on container host Compiler: gcc (Debian 10.2.1-6) 10.2.1 20210110 CentOS Stream 9 Kernel: Depends on container host Compiler: gcc 11.5.0 20240719 (Red Hat 11.5.0-2) Fedora 40 (Clang) Kernel: Depends on container host Compiler: clang 18.1.8 (Fedora 18.1.8-1.fc40) Fedora 41 (Clang) Kernel: Depends on container host Compiler: clang 19.1.5 (Fedora 19.1.5-1.fc41) Fedora 41 Kernel: Depends on container host Compiler: gcc 14.2.1 20240912 (Red Hat 14.2.1-3) Fedora 40 Kernel: Depends on container host Compiler: gcc 14.2.1 20240912 (Red Hat 14.2.1-3) Ubuntu 20.04 Kernel: Depends on container host Compiler: gcc (Ubuntu 9.4.0-1ubuntu1~20.04.2) 9.4.0 Ubuntu 24.04 Kernel: Depends on container host Compiler: gcc (Ubuntu 13.3.0-6ubuntu2~24.04) 13.3.0 RHEL9 Kernel: Depends on container host Compiler: gcc 11.5.0 20240719 (Red Hat 11.5.0-2) RHEL8 Kernel: Depends on container host Compiler: gcc 8.5.0 20210514 (Red Hat 8.5.0-22) Ubuntu 22.04 Kernel: Depends on container host Compiler: gcc (Ubuntu 11.4.0-1ubuntu1~22.04) 11.4.0 Windows Server 2022 Kernel: 10.0.20348.2031 Compiler: clang 15.0.7, gcc 14.1.0 (MinGW), and MSVC VS 19.39.33521 To view detailed results, visit: https://lab.dpdk.org/results/dashboard/patchsets/32475/ UNH-IOL DPDK Community Lab To manage your email subscriptions, visit: https://lab.dpdk.org/results/dashboard/preferences/subscriptions/