From: dpdklab@iol.unh.edu
To: Test Report <test-report@dpdk.org>
Cc: dpdk-test-reports@iol.unh.edu
Subject: |SUCCESS| pw150756-150757 [PATCH] [v5,2/2] net/af_xdp: Refactor af_x
Date: Fri, 31 Jan 2025 14:10:15 -0800 (PST) [thread overview]
Message-ID: <679d4a47.630a0220.1acf86.d128SMTPIN_ADDED_MISSING@mx.google.com> (raw)
In-Reply-To: <20250131183439.909831-3-ariel.otilibili@6wind.com>
Test-Label: iol-sample-apps-testing
Test-Status: SUCCESS
http://dpdk.org/patch/150757
_Testing PASS_
Submitter: Ariel Otilibili <ariel.otilibili@6wind.com>
Date: Friday, January 31 2025 18:34:39
DPDK git baseline: Repo:dpdk
Branch: master
CommitID:4a377fd5d560cfdece42b0d87b31c87efb7938d2
150756-150757 --> testing pass
Upstream job id: ACVP-FIPS-testing#8748
Test environment and result as below:
+--------------------+----------------------+----------------------+
| Environment | compressdev_zlib_pmd | dpdk_fips_validation |
+====================+======================+======================+
| Ubuntu 22.04 (ARM) | PASS | SKIPPED |
+--------------------+----------------------+----------------------+
| Ubuntu 22.04 | PASS | SKIPPED |
+--------------------+----------------------+----------------------+
| Ubuntu 20.04 | SKIPPED | PASS |
+--------------------+----------------------+----------------------+
Ubuntu 22.04 (ARM)
Kernel: 5.15.0-97-generic
Compiler: gcc gcc (Ubuntu 11.4.0-1ubuntu1~22.04) 11.4.0
Ubuntu 22.04
Kernel: 5.15.0-100-generic
Compiler: gcc gcc (Ubuntu 11.4.0-1ubuntu1~22.04) 11.4.0
Ubuntu 20.04
Kernel: Depends on container host
Compiler: gcc (Ubuntu 9.4.0-1ubuntu1~20.04.2) 9.4.0
To view detailed results, visit:
https://lab.dpdk.org/results/dashboard/patchsets/32473/
UNH-IOL DPDK Community Lab
To manage your email subscriptions, visit:
https://lab.dpdk.org/results/dashboard/preferences/subscriptions/
next prev parent reply other threads:[~2025-01-31 22:10 UTC|newest]
Thread overview: 14+ messages / expand[flat|nested] mbox.gz Atom feed top
[not found] <20250131183439.909831-3-ariel.otilibili@6wind.com>
2025-01-31 18:01 ` |SUCCESS| pw150756-150757 [PATCH v5 2/2] net/af_xdp: Refactor af_xdp_tx_zc qemudev
2025-01-31 18:05 ` qemudev
2025-01-31 18:35 ` |WARNING| pw150757 " checkpatch
2025-01-31 19:15 ` |PENDING| pw150756-150757 [PATCH] [v5,2/2] net/af_xdp: Refactor af_x dpdklab
2025-01-31 19:21 ` |SUCCESS| " dpdklab
2025-01-31 19:24 ` |SUCCESS| pw150757 [PATCH v5 2/2] net/af_xdp: Refactor af_xdp_tx_zc 0-day Robot
2025-01-31 19:26 ` |PENDING| pw150756-150757 [PATCH] [v5,2/2] net/af_xdp: Refactor af_x dpdklab
2025-01-31 19:38 ` |SUCCESS| " dpdklab
2025-01-31 20:07 ` dpdklab
2025-01-31 20:21 ` dpdklab
2025-01-31 20:37 ` |WARNING| " dpdklab
2025-01-31 20:37 ` dpdklab
2025-01-31 22:10 ` dpdklab [this message]
2025-02-01 0:03 ` |SUCCESS| " dpdklab
Reply instructions:
You may reply publicly to this message via plain-text email
using any one of the following methods:
* Save the following mbox file, import it into your mail client,
and reply-to-all from there: mbox
Avoid top-posting and favor interleaved quoting:
https://en.wikipedia.org/wiki/Posting_style#Interleaved_style
* Reply using the --to, --cc, and --in-reply-to
switches of git-send-email(1):
git send-email \
--in-reply-to=679d4a47.630a0220.1acf86.d128SMTPIN_ADDED_MISSING@mx.google.com \
--to=dpdklab@iol.unh.edu \
--cc=dpdk-test-reports@iol.unh.edu \
--cc=test-report@dpdk.org \
/path/to/YOUR_REPLY
https://kernel.org/pub/software/scm/git/docs/git-send-email.html
* If your mail client supports setting the In-Reply-To header
via mailto: links, try the mailto: link
Be sure your reply has a Subject: header at the top and a blank line
before the message body.
This is a public inbox, see mirroring instructions
for how to clone and mirror all data and code used for this inbox;
as well as URLs for NNTP newsgroup(s).