From mboxrd@z Thu Jan 1 00:00:00 1970 Return-Path: Received: from mails.dpdk.org (mails.dpdk.org [217.70.189.124]) by inbox.dpdk.org (Postfix) with ESMTP id 39EB24615A for ; Fri, 31 Jan 2025 23:10:18 +0100 (CET) Received: from mails.dpdk.org (localhost [127.0.0.1]) by mails.dpdk.org (Postfix) with ESMTP id 15C8F400EF; Fri, 31 Jan 2025 23:10:18 +0100 (CET) Received: from mail-pl1-f226.google.com (mail-pl1-f226.google.com [209.85.214.226]) by mails.dpdk.org (Postfix) with ESMTP id 8D4A4400D7 for ; Fri, 31 Jan 2025 23:10:16 +0100 (CET) Received: by mail-pl1-f226.google.com with SMTP id d9443c01a7336-21634338cfdso60873505ad.2 for ; Fri, 31 Jan 2025 14:10:16 -0800 (PST) DKIM-Signature: v=1; a=rsa-sha256; c=relaxed/relaxed; d=iol.unh.edu; s=unh-iol; t=1738361415; x=1738966215; darn=dpdk.org; h=references:in-reply-to:cc:to:from:subject:message-id:date:from:to :cc:subject:date:message-id:reply-to; bh=wEAA/GsAIVvgLD9ln4JZY/zLkdkg1+f3MyeSNCEtBS0=; b=UXZhj4jJ1/BF6AdMmesya4AJe+OxRDrvkV3jchIZ5LG2IroW/+EduY20/GT/oLX75p p8rN436qBO+7X00zHYYuqfK5OYstOjpDZWNP4CWM3h2Lm5lS4O8PnxMxEM25cb8Gff+y wislyU/2uqu3yBMPVH2EUv9x3Q1vN+1Iz9fpc= X-Google-DKIM-Signature: v=1; a=rsa-sha256; c=relaxed/relaxed; d=1e100.net; s=20230601; t=1738361415; x=1738966215; h=references:in-reply-to:cc:to:from:subject:message-id:date :x-gm-message-state:from:to:cc:subject:date:message-id:reply-to; bh=wEAA/GsAIVvgLD9ln4JZY/zLkdkg1+f3MyeSNCEtBS0=; b=AfJrOTXWnv+5/WLmhyAjDmvy5PCi2l3xqWCv6/JUDIq62Q/OOYXIIs4SL5zYvInhzp dY5uEQVgUbjeSqLzLM+tybdhIjbSfA9ojeY7mkjaKLHdfkdaRP3vtx+m6xE73ewHCm0n zZkuNbz/1bUU1lNciU187HGZZKMZIhcaxaWMBNNaNYWraRQXWTgoveLJTtNG3tUrb07V 4Q1mtDAArBRuZG0L7HhNnaoeRikUhlfXQ8stmF70mO0CBWTfAZwWSpdxWq2iBHPxfOUC 8XzteA9EbM6ZL/SQQVSGl782UqIT43wc2OGLV7UbixC0HlcsIfH1adFjUFjVpch8QkXP RN6Q== X-Gm-Message-State: AOJu0YxzXSd52YjteXREOxYiojZYeDKbCLezLpj3i/h0siLgaviyfEyl wQVBJjwARPJxCgjZKTHna1dt9H2JdIzYZAn2Gwad7jTLkND66nTo1S7muQwcSeSRBZ3LiAle8oh q/uYjstJl8Campo2WPooI1jmfViFlAKW0vEC+aezk2rot/4zJAZxCdxni X-Gm-Gg: ASbGnctR4PQu4Vz8gUey8Oh9tSH8OkaZ2el2NwK8MXVTYvMd+V6spfESXuESpO2x9EB Vd1x4xqU2nfnRfWWFnM5m2Pe00mz0NRwLnUw+fuHA/h87/H/Vl7w+M+jHqBprFE3rrRW9VySkDI +ZWnBzlTcnEiPCNMiaFwM6j9GmrICACw+TShOQQDCVLqLV+XU+C6qhkH4bWw4cCsd0KsxVhJMRe OhjiXJsTLXvL6CuRKBPr0vmPofAt4NW4jyu8MIonD66/YE1PVMNvv7eTq3S4wRf/yRSX7ANEjTe MvK/ShHVXKHLhpwvC/FwTk8FUKHZhAoNgb5Z57/2Fw== X-Google-Smtp-Source: AGHT+IHxMD24Ok+aLtwEm1dTnsHva61WmiWejuHe9T8RGqSU3j+awlCRxT32bIUOtqDCJYjKOaQUw8fAodtf X-Received: by 2002:a05:6a21:692:b0:1e1:a0b6:9872 with SMTP id adf61e73a8af0-1ed7a4c9997mr19286908637.11.1738361415578; Fri, 31 Jan 2025 14:10:15 -0800 (PST) Received: from postal.iol.unh.edu (postal.iol.unh.edu. [2606:4100:3880:1234::84]) by smtp-relay.gmail.com with ESMTPS id 41be03b00d2f7-acebe856459sm242931a12.16.2025.01.31.14.10.15 (version=TLS1_2 cipher=ECDHE-ECDSA-AES128-GCM-SHA256 bits=128/128); Fri, 31 Jan 2025 14:10:15 -0800 (PST) X-Relaying-Domain: iol.unh.edu Date: Fri, 31 Jan 2025 14:10:15 -0800 (PST) Message-ID: <679d4a47.630a0220.1acf86.d128SMTPIN_ADDED_MISSING@mx.google.com> Received: from [172.21.0.7] (unknown [172.18.0.240]) by postal.iol.unh.edu (Postfix) with ESMTP id 97F066052471; Fri, 31 Jan 2025 17:10:14 -0500 (EST) Subject: |SUCCESS| pw150756-150757 [PATCH] [v5,2/2] net/af_xdp: Refactor af_x From: dpdklab@iol.unh.edu To: Test Report Cc: dpdk-test-reports@iol.unh.edu In-Reply-To: <20250131183439.909831-3-ariel.otilibili@6wind.com> References: <20250131183439.909831-3-ariel.otilibili@6wind.com> Content-Type: text/plain X-BeenThere: test-report@dpdk.org X-Mailman-Version: 2.1.29 Precedence: list List-Id: automatic DPDK test reports List-Unsubscribe: , List-Archive: List-Post: List-Help: List-Subscribe: , Errors-To: test-report-bounces@dpdk.org Test-Label: iol-sample-apps-testing Test-Status: SUCCESS http://dpdk.org/patch/150757 _Testing PASS_ Submitter: Ariel Otilibili Date: Friday, January 31 2025 18:34:39 DPDK git baseline: Repo:dpdk Branch: master CommitID:4a377fd5d560cfdece42b0d87b31c87efb7938d2 150756-150757 --> testing pass Upstream job id: ACVP-FIPS-testing#8748 Test environment and result as below: +--------------------+----------------------+----------------------+ | Environment | compressdev_zlib_pmd | dpdk_fips_validation | +====================+======================+======================+ | Ubuntu 22.04 (ARM) | PASS | SKIPPED | +--------------------+----------------------+----------------------+ | Ubuntu 22.04 | PASS | SKIPPED | +--------------------+----------------------+----------------------+ | Ubuntu 20.04 | SKIPPED | PASS | +--------------------+----------------------+----------------------+ Ubuntu 22.04 (ARM) Kernel: 5.15.0-97-generic Compiler: gcc gcc (Ubuntu 11.4.0-1ubuntu1~22.04) 11.4.0 Ubuntu 22.04 Kernel: 5.15.0-100-generic Compiler: gcc gcc (Ubuntu 11.4.0-1ubuntu1~22.04) 11.4.0 Ubuntu 20.04 Kernel: Depends on container host Compiler: gcc (Ubuntu 9.4.0-1ubuntu1~20.04.2) 9.4.0 To view detailed results, visit: https://lab.dpdk.org/results/dashboard/patchsets/32473/ UNH-IOL DPDK Community Lab To manage your email subscriptions, visit: https://lab.dpdk.org/results/dashboard/preferences/subscriptions/