From mboxrd@z Thu Jan 1 00:00:00 1970 Return-Path: Received: from mails.dpdk.org (mails.dpdk.org [217.70.189.124]) by inbox.dpdk.org (Postfix) with ESMTP id 98ED64615A for ; Fri, 31 Jan 2025 23:25:02 +0100 (CET) Received: from mails.dpdk.org (localhost [127.0.0.1]) by mails.dpdk.org (Postfix) with ESMTP id 8951A400EF; Fri, 31 Jan 2025 23:25:02 +0100 (CET) Received: from mail-qt1-f228.google.com (mail-qt1-f228.google.com [209.85.160.228]) by mails.dpdk.org (Postfix) with ESMTP id 7B00F400D7 for ; Fri, 31 Jan 2025 23:25:01 +0100 (CET) Received: by mail-qt1-f228.google.com with SMTP id d75a77b69052e-4678cce3d60so25137111cf.2 for ; Fri, 31 Jan 2025 14:25:01 -0800 (PST) DKIM-Signature: v=1; a=rsa-sha256; c=relaxed/relaxed; d=iol.unh.edu; s=unh-iol; t=1738362301; x=1738967101; darn=dpdk.org; h=references:in-reply-to:cc:to:from:subject:message-id:date:from:to :cc:subject:date:message-id:reply-to; bh=raC7VPyQ8q2hCqyB47HxvTDOkIlFOzEOydb348sOMeY=; b=WSwg4pc1PLJCeLCyPml3ssP+bsvM+A72PzzVJD23va+OB70cgAtOVIHA/zM0yKNlcl M/fs9aZfZmgKpTsZX9Z7lHh5yeYNaUeOX+nywMBK0EMNxj7o+6VCS+BKZ9YR9S7/EJ98 JKmZf2cIkZcYdZugfd1MjBgs1le6x41SpUGH4= X-Google-DKIM-Signature: v=1; a=rsa-sha256; c=relaxed/relaxed; d=1e100.net; s=20230601; t=1738362301; x=1738967101; h=references:in-reply-to:cc:to:from:subject:message-id:date :x-gm-message-state:from:to:cc:subject:date:message-id:reply-to; bh=raC7VPyQ8q2hCqyB47HxvTDOkIlFOzEOydb348sOMeY=; b=WhJiSy5hRkTreQmr5rD3pkfgHcv+chHOTADN23TdMEFl721OQbHa/ox3iJQXSfKZ2I yEWAmuA0fiLCvz1SP0gNByD2SSvS+pRm/OxARTY0hAaxkXbAI8CGzyQffMHuchP/I+I0 1p2tV0Eib5G+8eoWOVZ/wAd5wjCY0P5+o1ztwfYenp2/ri9e0wUUDv8fd8nluHRnWAqa GwONzNmLhT44IQtJf+6zcLXpFJ1BOxpRH4GdyAdBtyDiavzetQGePYL8NG5/3f1vkix8 thpf1aEE52+XLeLuCqEYT81Vygfr6gQ14gPdxDZ4KFcfvI7FAmNP6DwgC9KbZkYa1An6 rsbw== X-Gm-Message-State: AOJu0YyXujn6T+qbN4WORNPEP7YXkvWwt4VnsSDEWsm3r3eqIKkL4Gmj MANhlXhUj1JwsILmgTrOcNDCw5D4YGcijibd9Z+5VuL6ml6dF+2OmY7LwP7wTKH2ApAhxM9v7rZ 6jEWz4w7B3hXgdK6j33WTo7rROl/g3A3XRlKHFi8ix/d7h5B/QHimaEc4 X-Gm-Gg: ASbGnctC9OuU9vj0OMV1jIWS8FjNUxOJqqejLHRDfqMDdqe3wGGaWMpXI7RTt7BBQyB 1puS6R4U0LlhNWpK1eGxGvYuT9OF03Brc7zFGtr9eaXlIJsFePDt3vEjkpGgEJkbIaxNVT8uvAy gIZ4Ip99uT3JZ0k8Gwgs9M5nLCwYu5kmaRE1knOyX9q/NnlSNVYPk+nJxeOBJjr1YlssE/b1Udu 5XjMjNZBM986JZMgdJEdy/nuGFOfXsf/PVt7/bz4b2J01NeK3PaSqlhlZAm7PRpJD9mdpibZ7iD F8SErW5EXo/6uWvESrBIDua2d3qUOwr3Pr7tbCHdIg== X-Google-Smtp-Source: AGHT+IFygCddyMTm4fTek+bYJVz5Dtx69CzNXNZmZWKJhuewxzBAAvrdU8DTaLmRrM8+UHg1gnVKp3eoqcIz X-Received: by 2002:ac8:7d92:0:b0:45d:8513:f29a with SMTP id d75a77b69052e-46fd09e25c1mr132017121cf.9.1738362300871; Fri, 31 Jan 2025 14:25:00 -0800 (PST) Received: from postal.iol.unh.edu (postal.iol.unh.edu. [2606:4100:3880:1234::84]) by smtp-relay.gmail.com with ESMTPS id d75a77b69052e-46fdf0c8f1dsm1603581cf.9.2025.01.31.14.25.00 (version=TLS1_2 cipher=ECDHE-ECDSA-AES128-GCM-SHA256 bits=128/128); Fri, 31 Jan 2025 14:25:00 -0800 (PST) X-Relaying-Domain: iol.unh.edu Date: Fri, 31 Jan 2025 14:25:00 -0800 (PST) Message-ID: <679d4dbc.050a0220.240c67.8747SMTPIN_ADDED_MISSING@mx.google.com> Received: from [172.21.0.6] (unknown [172.18.0.240]) by postal.iol.unh.edu (Postfix) with ESMTP id 80CAE6052471; Fri, 31 Jan 2025 17:25:00 -0500 (EST) Subject: |SUCCESS| pw150758-150760 [PATCH] [3/3] dts: bump up fabric version From: dpdklab@iol.unh.edu To: Test Report Cc: dpdk-test-reports@iol.unh.edu In-Reply-To: <20250131191924.1936157-4-luca.vizzarro@arm.com> References: <20250131191924.1936157-4-luca.vizzarro@arm.com> Content-Type: text/plain X-BeenThere: test-report@dpdk.org X-Mailman-Version: 2.1.29 Precedence: list List-Id: automatic DPDK test reports List-Unsubscribe: , List-Archive: List-Post: List-Help: List-Subscribe: , Errors-To: test-report-bounces@dpdk.org Test-Label: iol-abi-testing Test-Status: SUCCESS http://dpdk.org/patch/150760 _Testing PASS_ Submitter: Luca Vizzarro Date: Friday, January 31 2025 19:19:24 DPDK git baseline: Repo:dpdk Branch: master CommitID:75fb46c7ade4a7efaaa02743c4aa450f75ba9468 150758-150760 --> testing pass Upstream job id: Generic-DPDK-Compile-ABI#114414 Test environment and result as below: +-------------------+----------+ | Environment | abi_test | +===================+==========+ | CentOS Stream 9 | PASS | +-------------------+----------+ | Debian Bullseye | PASS | +-------------------+----------+ | Debian 12 | PASS | +-------------------+----------+ | Fedora 40 | PASS | +-------------------+----------+ | Fedora 40 (Clang) | PASS | +-------------------+----------+ | Fedora 41 (Clang) | PASS | +-------------------+----------+ | Fedora 41 | PASS | +-------------------+----------+ | openSUSE Leap 15 | PASS | +-------------------+----------+ | RHEL8 | PASS | +-------------------+----------+ | RHEL9 | PASS | +-------------------+----------+ | Ubuntu 22.04 | PASS | +-------------------+----------+ | Ubuntu 24.04 | PASS | +-------------------+----------+ CentOS Stream 9 Kernel: Depends on container host Compiler: gcc 11.5.0 20240719 (Red Hat 11.5.0-2) Debian Bullseye Kernel: Depends on container host Compiler: gcc (Debian 10.2.1-6) 10.2.1 20210110 Debian 12 Kernel: Depends on container host Compiler: gcc (Debian 12.2.0-14) 12.2.0 Fedora 40 Kernel: Depends on container host Compiler: gcc 14.2.1 20240912 (Red Hat 14.2.1-3) Fedora 40 (Clang) Kernel: Depends on container host Compiler: clang 18.1.8 (Fedora 18.1.8-1.fc40) Fedora 41 (Clang) Kernel: Depends on container host Compiler: clang 19.1.5 (Fedora 19.1.5-1.fc41) Fedora 41 Kernel: Depends on container host Compiler: gcc 14.2.1 20240912 (Red Hat 14.2.1-3) openSUSE Leap 15 Kernel: Depends on container host Compiler: gcc (SUSE Linux) 7.5.0 RHEL8 Kernel: Depends on container host Compiler: gcc 8.5.0 20210514 (Red Hat 8.5.0-22) RHEL9 Kernel: Depends on container host Compiler: gcc 11.5.0 20240719 (Red Hat 11.5.0-2) Ubuntu 22.04 Kernel: Depends on container host Compiler: gcc (Ubuntu 11.4.0-1ubuntu1~22.04) 11.4.0 Ubuntu 24.04 Kernel: Depends on container host Compiler: gcc (Ubuntu 13.3.0-6ubuntu2~24.04) 13.3.0 To view detailed results, visit: https://lab.dpdk.org/results/dashboard/patchsets/32474/ UNH-IOL DPDK Community Lab To manage your email subscriptions, visit: https://lab.dpdk.org/results/dashboard/preferences/subscriptions/