From mboxrd@z Thu Jan 1 00:00:00 1970 Return-Path: Received: from mails.dpdk.org (mails.dpdk.org [217.70.189.124]) by inbox.dpdk.org (Postfix) with ESMTP id B0E294615A for ; Fri, 31 Jan 2025 23:25:38 +0100 (CET) Received: from mails.dpdk.org (localhost [127.0.0.1]) by mails.dpdk.org (Postfix) with ESMTP id AA255400EF; Fri, 31 Jan 2025 23:25:38 +0100 (CET) Received: from mail-pj1-f99.google.com (mail-pj1-f99.google.com [209.85.216.99]) by mails.dpdk.org (Postfix) with ESMTP id 18564400D7 for ; Fri, 31 Jan 2025 23:25:37 +0100 (CET) Received: by mail-pj1-f99.google.com with SMTP id 98e67ed59e1d1-2ee86a1a92dso3463107a91.1 for ; Fri, 31 Jan 2025 14:25:37 -0800 (PST) DKIM-Signature: v=1; a=rsa-sha256; c=relaxed/relaxed; d=iol.unh.edu; s=unh-iol; t=1738362336; x=1738967136; darn=dpdk.org; h=references:in-reply-to:cc:to:from:subject:message-id:date:from:to :cc:subject:date:message-id:reply-to; bh=FnGwE5th4V07FXC6szb0NOEXbwUZXk3QEOKTaNOGfIM=; b=Oc3IYR0YFpto/k9KB8xBFqDauoUqBFsbs1ieMat5eHwH2JbtVevi2d4a87435we+NF 8XqrnFnuffNrJRvIAhZXVY0OH6jEcOEQMQt9L5OCZGUyWTgiDGZkHIWS/JDqT6IiX/DW YvPX/GlmX2gSQ6lQnyd8mJR6xnogczcd2sTZc= X-Google-DKIM-Signature: v=1; a=rsa-sha256; c=relaxed/relaxed; d=1e100.net; s=20230601; t=1738362336; x=1738967136; h=references:in-reply-to:cc:to:from:subject:message-id:date :x-gm-message-state:from:to:cc:subject:date:message-id:reply-to; bh=FnGwE5th4V07FXC6szb0NOEXbwUZXk3QEOKTaNOGfIM=; b=VpwWoqs150vNwBLKETLFGGWYM5Rysxl1PiAsZtZAHlSxjUB1YOT6+jEIN8z3jubJft kef8bjpNzvfftk2W8qoGn8Xhj/Tl+o4ZV/h2FU7/so8XxQVhUoptXS4MwhzNcQ3F4u2l u6ruwdQ+0CI9uX80BKFfu5fBExKJPj8EqQFkqDt/f2NJNhJhpyqvjFzsxz2vry2rsAl3 t2GmoSdc1Kv2TM6mOBr9kZJay4Y0SQgGKzA3qWu8RoX1IavuJFfqj8JphWYro9w3Xsr4 LfNgp8tcY03x6hCASxZiKjliThFQ9ffPr/bK8u4TYpA59uGvhYRR5Z4PP6WYE1FK7EPU 6hDA== X-Gm-Message-State: AOJu0YylMSXMKQ35k7Xho05mF71Xa2xCtalE8gLdSBP067hZ9VXo308C TBGAiD9loCGEmT8xmPXkMU7OpKhZ2flSx1NBOJy2CreXEcAv/GO5ZN2JnH7AK0bvhNyuIVLXrVf AK3N7Da9jMw9/Xk0umA5wDEfvCAJZMKKTny0gRg2o X-Gm-Gg: ASbGncv7L9DuPxsfiJVsO/l/4gT8WSiyOdwQYZRWszTc3kp1p7avFy/PDhVQh4TfcmN LwJKXdEgJSXvmFwuWKi/z7a++nb1WoYd49IcWeX9853hZu+6hDtAt66uigLtz8VEG0/L/qjtHnk Q/+lJPxlldKGdHfWwpR52ffankVWYmlr0rUn+SVDiILeGF+hSG36DNmAkJ4Ix/MzdnGYqqI3ZvP ZOgsezs/f22qbR7oNlCUOaupHef128BLy0cnjSC/naezWD0eFAf7jVIngVtpORm3sJ+5cfAVM2T eu6YHS3NAOiVIuQjJvHg/7AZwqb3lw== X-Google-Smtp-Source: AGHT+IE4//yarhAXePYDSRX7ES6do3nERiGvkcNp69nyUh29e2KilBb5GlJ/Oi1uWczOjcdp2q6nvv3hmp2t X-Received: by 2002:a17:90b:3a0e:b0:2f6:f107:fae6 with SMTP id 98e67ed59e1d1-2f83ac73b6emr15840259a91.23.1738362336176; Fri, 31 Jan 2025 14:25:36 -0800 (PST) Received: from postal.iol.unh.edu (postal.iol.unh.edu. [132.177.123.84]) by smtp-relay.gmail.com with ESMTPS id d9443c01a7336-21de3245b74sm1574675ad.29.2025.01.31.14.25.36 (version=TLS1_2 cipher=ECDHE-ECDSA-AES128-GCM-SHA256 bits=128/128); Fri, 31 Jan 2025 14:25:36 -0800 (PST) X-Relaying-Domain: iol.unh.edu Date: Fri, 31 Jan 2025 14:25:36 -0800 (PST) Message-ID: <679d4de0.170a0220.eeb4f.7f53SMTPIN_ADDED_MISSING@mx.google.com> Received: from [172.21.0.5] (unknown [172.18.0.240]) by postal.iol.unh.edu (Postfix) with ESMTP id 574716052471; Fri, 31 Jan 2025 17:25:35 -0500 (EST) Subject: |SUCCESS| pw150675 [PATCH] [v2] dts: add SUT cleanup to framework From: dpdklab@iol.unh.edu To: Test Report Cc: dpdk-test-reports@iol.unh.edu In-Reply-To: <20250130221324.75711-1-dmarx@iol.unh.edu> References: <20250130221324.75711-1-dmarx@iol.unh.edu> Content-Type: text/plain X-BeenThere: test-report@dpdk.org X-Mailman-Version: 2.1.29 Precedence: list List-Id: automatic DPDK test reports List-Unsubscribe: , List-Archive: List-Post: List-Help: List-Subscribe: , Errors-To: test-report-bounces@dpdk.org Test-Label: iol-compile-arm64-testing Test-Status: SUCCESS http://dpdk.org/patch/150675 _Testing PASS_ Submitter: Dean Marx Date: Thursday, January 30 2025 22:13:24 DPDK git baseline: Repo:dpdk Branch: master CommitID:d748916b207173c7f57a2b04c4f5c8f7fbb3cfd4 150675 --> testing pass Upstream job id: Generic-DPDK-Compile-Meson#356770 Test environment and result as below: +----------------------------------------+--------------------+ | Environment | dpdk_meson_compile | +========================================+====================+ | RHEL9 (ARM) | PASS | +----------------------------------------+--------------------+ | Ubuntu 20.04 ARM GCC Cross Compile | PASS | +----------------------------------------+--------------------+ | Ubuntu 20.04 ARM SVE | PASS | +----------------------------------------+--------------------+ | Debian 12 with MUSDK | PASS | +----------------------------------------+--------------------+ | Fedora 40 (ARM) | PASS | +----------------------------------------+--------------------+ | Fedora 40 (ARM Clang) | PASS | +----------------------------------------+--------------------+ | Fedora 41 (ARM) | PASS | +----------------------------------------+--------------------+ | Fedora 41 (ARM Clang) | PASS | +----------------------------------------+--------------------+ | Ubuntu 20.04 (ARM) | PASS | +----------------------------------------+--------------------+ | Ubuntu 22.04 (ARM) | PASS | +----------------------------------------+--------------------+ | Ubuntu 24.04 (ARM) | PASS | +----------------------------------------+--------------------+ | CentOS Stream 9 (ARM) | PASS | +----------------------------------------+--------------------+ | Debian 11 (Buster) (ARM) | PASS | +----------------------------------------+--------------------+ | Debian 12 (arm) | PASS | +----------------------------------------+--------------------+ | Ubuntu 20.04 ARM Clang Cross Compile | PASS | +----------------------------------------+--------------------+ | Ubuntu 20.04 aarch32 GCC Cross Compile | PASS | +----------------------------------------+--------------------+ RHEL9 (ARM) Kernel: Depends on container host Compiler: gcc 11.5.0 20240719 (Red Hat 11.5.0-2) Ubuntu 20.04 ARM GCC Cross Compile Kernel: Depends on container host Compiler: aarch64-linux-gnu-gcc (Ubuntu 9.4.0-1ubuntu1~20.04.2) 9.4.0 Ubuntu 20.04 ARM SVE Kernel: Depends on container host Compiler: gcc (Ubuntu 10.5.0-1ubuntu1~20.04) 10.5.0 Debian 12 with MUSDK Kernel: Depends on container host Compiler: gcc (Debian 12.2.0-14) 12.2.0 Fedora 40 (ARM) Kernel: Depends on container host Compiler: gcc 14.2.1 20240912 (Red Hat 14.2.1-3) Fedora 40 (ARM Clang) Kernel: Depends on container host Compiler: clang 18.1.8 (Fedora 18.1.8-1.fc40) Fedora 41 (ARM) Kernel: Depends on container host Compiler: gcc 14.2.1 20240912 (Red Hat 14.2.1-3) Fedora 41 (ARM Clang) Kernel: Depends on container host Compiler: clang 19.1.5 (Fedora 19.1.5-1.fc41) Ubuntu 20.04 (ARM) Kernel: Depends on container host Compiler: gcc (Ubuntu 9.4.0-1ubuntu1~20.04.2) 9.4.0 Ubuntu 22.04 (ARM) Kernel: Depends on container host Compiler: gcc (Ubuntu 11.4.0-1ubuntu1~22.04) 11.4.0 Ubuntu 24.04 (ARM) Kernel: Depends on container host Compiler: gcc (Ubuntu 13.3.0-6ubuntu2~24.04) 13.3.0 CentOS Stream 9 (ARM) Kernel: Depends on container host Compiler: gcc 11.5.0 20240719 (Red Hat 11.5.0-2) Debian 11 (Buster) (ARM) Kernel: Depends on container host Compiler: gcc (Debian 10.2.1-6) 10.2.1 20210110 Debian 12 (arm) Kernel: Depends on container host Compiler: gcc (Debian 12.2.0-14) 12.2.0 Ubuntu 20.04 ARM Clang Cross Compile Kernel: Depends on container host Compiler: clang 10.0.0-4ubuntu1 Ubuntu 20.04 aarch32 GCC Cross Compile Kernel: Depends on container host Compiler: gcc 9.4.0 To view detailed results, visit: https://lab.dpdk.org/results/dashboard/patchsets/32467/ UNH-IOL DPDK Community Lab To manage your email subscriptions, visit: https://lab.dpdk.org/results/dashboard/preferences/subscriptions/