From mboxrd@z Thu Jan 1 00:00:00 1970 Return-Path: Received: from mails.dpdk.org (mails.dpdk.org [217.70.189.124]) by inbox.dpdk.org (Postfix) with ESMTP id 8DB7D4615A for ; Fri, 31 Jan 2025 23:33:51 +0100 (CET) Received: from mails.dpdk.org (localhost [127.0.0.1]) by mails.dpdk.org (Postfix) with ESMTP id 60F59400EF; Fri, 31 Jan 2025 23:33:51 +0100 (CET) Received: from mail-pl1-f226.google.com (mail-pl1-f226.google.com [209.85.214.226]) by mails.dpdk.org (Postfix) with ESMTP id 6ADD2400D7 for ; Fri, 31 Jan 2025 23:33:49 +0100 (CET) Received: by mail-pl1-f226.google.com with SMTP id d9443c01a7336-2166651f752so41785385ad.3 for ; Fri, 31 Jan 2025 14:33:49 -0800 (PST) DKIM-Signature: v=1; a=rsa-sha256; c=relaxed/relaxed; d=iol.unh.edu; s=unh-iol; t=1738362828; x=1738967628; darn=dpdk.org; h=references:in-reply-to:cc:to:from:subject:message-id:date:from:to :cc:subject:date:message-id:reply-to; bh=IEZREQ0/69l7PFzoWVZAeGUmMG/cnP4Rp+FA6oTJvMA=; b=N8ppHzrSZEb/igmdMIp725MKyiopzjfTSSr+cXGCHLE56oo1J5x0NcsigHKIMXZoYm fk2hteD98G2EQxfP9ZWsVJOJnN+nwCcuA3chwQAiTITM4wuqNvXhE4/a3XO28OByir0t e7XxSH0hboIfeBb+bGB5F1GYWzlOkyfWivKys= X-Google-DKIM-Signature: v=1; a=rsa-sha256; c=relaxed/relaxed; d=1e100.net; s=20230601; t=1738362828; x=1738967628; h=references:in-reply-to:cc:to:from:subject:message-id:date :x-gm-message-state:from:to:cc:subject:date:message-id:reply-to; bh=IEZREQ0/69l7PFzoWVZAeGUmMG/cnP4Rp+FA6oTJvMA=; b=u1jgq2Zm3tPAlYsvhekNzM6OQVWYgRYwB5U1WXNXoxzYeqUldGY5qV8CHforZZ/Lg8 FkNHbIrslwqVf449Hi4L/UNMBcDyk0+9ZWmvbuhDc4/yc+8WYZxEIBjkj9w/oQH1QgmV WQ1Qw9K9EYlL0XzanJhzEXk4FAQbMfPzAXhn36np1rb4Z4IDMtUpeEPmY1UHNkdMAnQY J1HUZEJkV9zpoFfVj7mWILDCB0NYdVUrX227XTFscWgQbxMDAeA4vyu0GTJckY49IHgW gW5oV8BnV4VaojWcdM5AKAGPTontY+9ubU0AWwK2EMLavWKsTJNbwJefcr0z7+Au2s/7 EZOA== X-Gm-Message-State: AOJu0YyXA/VtA1xjEd7seVeMxuK4yyFR0qpDnXtgKVBaljI6k7r/wf7A a+IT9sHckJwPz4a/O8O6d7yF9g7mVAMElaGIO/qYsLepaB7A/A82jwktzCSFZhS44vL02l3ZVpS q0vSxCUIUe8GHyQLSeKhOugMTQMfSaqJszxxMxLiW301zbz95H4BO2yb3 X-Gm-Gg: ASbGncsx5anoUUbWYMOOjfmEk93++z80WxYXutPxGdLKvIsSiNgU0Mwn4Pzd45b6JAz dLqoOH2RciYR9si3KPuWRA8JJOeW6qQvrLJU9ieM3isT9pppdHhoHlMX9oC8GvtCjtTiV+MkWVH 5QVwFdRVq5x0L9CN6Tux7X9VSL6SrUd0rszJ2N848LfaKq62R70pkTeKIvACgRl34R0GRBka9Ai +72nJKal5oo3OW2ipZ2HtfjRX6orH4GFkujAqymw2VLpxfXQQIb4AMgsdeCminQrH77GasVA6ni Pxo9RCVdQfYtJ+aa6efb07x5J5E4i9oHFcVsIrQyww== X-Google-Smtp-Source: AGHT+IHX/eBYD3sIesOcU7KGJKYaNAXP7LYs0qxNZzPcEFbPNY1iQ8ZzbISgSMF77yCeKXfmVlL2LJ3+hIkW X-Received: by 2002:a17:902:ef43:b0:216:69ca:772a with SMTP id d9443c01a7336-21dd7e528a6mr219299895ad.53.1738362828543; Fri, 31 Jan 2025 14:33:48 -0800 (PST) Received: from postal.iol.unh.edu (postal.iol.unh.edu. [2606:4100:3880:1234::84]) by smtp-relay.gmail.com with ESMTPS id d9443c01a7336-21de32494a2sm1576635ad.39.2025.01.31.14.33.48 (version=TLS1_2 cipher=ECDHE-ECDSA-AES128-GCM-SHA256 bits=128/128); Fri, 31 Jan 2025 14:33:48 -0800 (PST) X-Relaying-Domain: iol.unh.edu Date: Fri, 31 Jan 2025 14:33:48 -0800 (PST) Message-ID: <679d4fcc.170a0220.ed7b4.859bSMTPIN_ADDED_MISSING@mx.google.com> Received: from [172.21.0.7] (unknown [172.18.0.240]) by postal.iol.unh.edu (Postfix) with ESMTP id DF55B6052471; Fri, 31 Jan 2025 17:33:47 -0500 (EST) Subject: |SUCCESS| pw150754 [PATCH] vhost: fix VDUSE devices registration From: dpdklab@iol.unh.edu To: Test Report Cc: dpdk-test-reports@iol.unh.edu In-Reply-To: <20250131130957.293562-1-maxime.coquelin@redhat.com> References: <20250131130957.293562-1-maxime.coquelin@redhat.com> Content-Type: text/plain X-BeenThere: test-report@dpdk.org X-Mailman-Version: 2.1.29 Precedence: list List-Id: automatic DPDK test reports List-Unsubscribe: , List-Archive: List-Post: List-Help: List-Subscribe: , Errors-To: test-report-bounces@dpdk.org Test-Label: iol-compile-arm64-testing Test-Status: SUCCESS http://dpdk.org/patch/150754 _Testing PASS_ Submitter: Maxime Coquelin Date: Friday, January 31 2025 13:09:57 DPDK git baseline: Repo:dpdk Branch: master CommitID:8c565bbebb8f72decbc4af6a69cb76f07bffc472 150754 --> testing pass Upstream job id: Generic-DPDK-Compile-Meson#356827 Test environment and result as below: +----------------------------------------+--------------------+ | Environment | dpdk_meson_compile | +========================================+====================+ | Debian 12 with MUSDK | PASS | +----------------------------------------+--------------------+ | Ubuntu 20.04 ARM GCC Cross Compile | PASS | +----------------------------------------+--------------------+ | Ubuntu 20.04 ARM SVE | PASS | +----------------------------------------+--------------------+ | Fedora 40 (ARM) | PASS | +----------------------------------------+--------------------+ | Fedora 40 (ARM Clang) | PASS | +----------------------------------------+--------------------+ | Ubuntu 20.04 (ARM) | PASS | +----------------------------------------+--------------------+ | Fedora 41 (ARM Clang) | PASS | +----------------------------------------+--------------------+ | Fedora 41 (ARM) | PASS | +----------------------------------------+--------------------+ | Ubuntu 22.04 (ARM) | PASS | +----------------------------------------+--------------------+ | Ubuntu 24.04 (ARM) | PASS | +----------------------------------------+--------------------+ | CentOS Stream 9 (ARM) | PASS | +----------------------------------------+--------------------+ | Ubuntu 20.04 aarch32 GCC Cross Compile | PASS | +----------------------------------------+--------------------+ | Debian 12 (arm) | PASS | +----------------------------------------+--------------------+ | Debian 11 (Buster) (ARM) | PASS | +----------------------------------------+--------------------+ | Ubuntu 20.04 ARM Clang Cross Compile | PASS | +----------------------------------------+--------------------+ | RHEL9 (ARM) | PASS | +----------------------------------------+--------------------+ Debian 12 with MUSDK Kernel: Depends on container host Compiler: gcc (Debian 12.2.0-14) 12.2.0 Ubuntu 20.04 ARM GCC Cross Compile Kernel: Depends on container host Compiler: aarch64-linux-gnu-gcc (Ubuntu 9.4.0-1ubuntu1~20.04.2) 9.4.0 Ubuntu 20.04 ARM SVE Kernel: Depends on container host Compiler: gcc (Ubuntu 10.5.0-1ubuntu1~20.04) 10.5.0 Fedora 40 (ARM) Kernel: Depends on container host Compiler: gcc 14.2.1 20240912 (Red Hat 14.2.1-3) Fedora 40 (ARM Clang) Kernel: Depends on container host Compiler: clang 18.1.8 (Fedora 18.1.8-1.fc40) Ubuntu 20.04 (ARM) Kernel: Depends on container host Compiler: gcc (Ubuntu 9.4.0-1ubuntu1~20.04.2) 9.4.0 Fedora 41 (ARM Clang) Kernel: Depends on container host Compiler: clang 19.1.5 (Fedora 19.1.5-1.fc41) Fedora 41 (ARM) Kernel: Depends on container host Compiler: gcc 14.2.1 20240912 (Red Hat 14.2.1-3) Ubuntu 22.04 (ARM) Kernel: Depends on container host Compiler: gcc (Ubuntu 11.4.0-1ubuntu1~22.04) 11.4.0 Ubuntu 24.04 (ARM) Kernel: Depends on container host Compiler: gcc (Ubuntu 13.3.0-6ubuntu2~24.04) 13.3.0 CentOS Stream 9 (ARM) Kernel: Depends on container host Compiler: gcc 11.5.0 20240719 (Red Hat 11.5.0-2) Ubuntu 20.04 aarch32 GCC Cross Compile Kernel: Depends on container host Compiler: gcc 9.4.0 Debian 12 (arm) Kernel: Depends on container host Compiler: gcc (Debian 12.2.0-14) 12.2.0 Debian 11 (Buster) (ARM) Kernel: Depends on container host Compiler: gcc (Debian 10.2.1-6) 10.2.1 20210110 Ubuntu 20.04 ARM Clang Cross Compile Kernel: Depends on container host Compiler: clang 10.0.0-4ubuntu1 RHEL9 (ARM) Kernel: Depends on container host Compiler: gcc 11.5.0 20240719 (Red Hat 11.5.0-2) To view detailed results, visit: https://lab.dpdk.org/results/dashboard/patchsets/32471/ UNH-IOL DPDK Community Lab To manage your email subscriptions, visit: https://lab.dpdk.org/results/dashboard/preferences/subscriptions/