From mboxrd@z Thu Jan 1 00:00:00 1970 Return-Path: Received: from mails.dpdk.org (mails.dpdk.org [217.70.189.124]) by inbox.dpdk.org (Postfix) with ESMTP id 996F34615A for ; Fri, 31 Jan 2025 23:44:25 +0100 (CET) Received: from mails.dpdk.org (localhost [127.0.0.1]) by mails.dpdk.org (Postfix) with ESMTP id 9182A400EF; Fri, 31 Jan 2025 23:44:25 +0100 (CET) Received: from mail-yb1-f226.google.com (mail-yb1-f226.google.com [209.85.219.226]) by mails.dpdk.org (Postfix) with ESMTP id F29AC400D7 for ; Fri, 31 Jan 2025 23:44:24 +0100 (CET) Received: by mail-yb1-f226.google.com with SMTP id 3f1490d57ef6-e549b0f8d57so2917554276.3 for ; Fri, 31 Jan 2025 14:44:24 -0800 (PST) DKIM-Signature: v=1; a=rsa-sha256; c=relaxed/relaxed; d=iol.unh.edu; s=unh-iol; t=1738363464; x=1738968264; darn=dpdk.org; h=references:in-reply-to:cc:to:from:subject:message-id:date:from:to :cc:subject:date:message-id:reply-to; bh=dv8xMcnaWDd23GsV/pVk78OIri2WZEPWUf/WfjXciTw=; b=ZBEyiSboKIlLJV6GbiIjaYRZ4Mn1L+LG4NkWpXe9A8ruP6kKQ3Z3CELeND03ihuBAa TnhsCSz2UwVtqLS1RIyYWt6c4seKjMEoNdfho0IHIpY1PDrfHI+KX/ZC79p9NGs9Fnla GzaqARWMsB9ZasFgFB0Zl34b8ZgMacEyz6VbU= X-Google-DKIM-Signature: v=1; a=rsa-sha256; c=relaxed/relaxed; d=1e100.net; s=20230601; t=1738363464; x=1738968264; h=references:in-reply-to:cc:to:from:subject:message-id:date :x-gm-message-state:from:to:cc:subject:date:message-id:reply-to; bh=dv8xMcnaWDd23GsV/pVk78OIri2WZEPWUf/WfjXciTw=; b=b3ShevOAt4eqp1K6UPEOd+BnngalRlypLC0W4hL3CXfnXcBXzPXr8Ydf2DPVkZVJWC 0oQNogIuWJp61OV2XKqAdw9euxrF3J9GJLJwT7Asne91UXK9wuoxRq51/PhC9jF9wrOl gfQluLcd2TxVDzImXQnmMw7BriWlXpCmAIyDwLv8y3Ybdjfd78dOO1IbJBEutvarUS1V HH886BFn6B6Aj++bLFaxoiTKmgiShYCEeRkEiGZAKQMYtyTtUoVX4rZW+Cr74OSgHluL AAuA2UC9P9I9iJIZG584QexKuXi40PXfrs+qh4jI8IaL36EjnBdiRSWrRNxJhu1AFFCz f3tw== X-Gm-Message-State: AOJu0YzTItM0PvMEhVmOv7beD2su8BNza3riYdiuJQffRyilwHRbKZPH KhsEz7yL1JZsBXGL0I66GCPqEVWGdhQbbllNbcO7J8yOsZ1W+4GlwYPlnd/isKOPcmkfcQQH2JH B3XpQ7isD4CJFEDRxTHJRFUfliOOUMduU0+DyWHsb X-Gm-Gg: ASbGncuIzUuoa3LQKNRHav/9W8xc8qG9qIwgf7EOEMvrfniI1x/FGIAp4jRTVu0WTqX 18PSk+a/K/ZsTOJDUziUJ1Qz5ZG8Y110HgzaiheJoBBhdRQ61fp88x7cWkpiXUs53qAzFmozutl O38/lY6I00MG02GSK2kLXfyoWpCq0B5Rm19EZ9ZnPRJoOdpnLbi/L1R3vMzvS6GUV30BThHOMxK Zxn+JvHdT9rgGvB6QXEKtzA5rR8+EhaSRWeNaHJxBj4Ktlq0SmTOuX+nXKr4bUPJyh2l4bYIHrF XnsLLIFJKX61+PJFEn1jsOsLPGSiCA== X-Google-Smtp-Source: AGHT+IFkg76QRKUr/zbPXqHLxOKnKOlOE+ncwbeXVfQAg21Ygc/RtR7b9ySMjch6YutDNPNBZ3Zz6lXofyaG X-Received: by 2002:a05:690c:6e09:b0:6ee:66d2:e738 with SMTP id 00721157ae682-6f7a83251admr116339157b3.2.1738363463068; Fri, 31 Jan 2025 14:44:23 -0800 (PST) Received: from postal.iol.unh.edu (postal.iol.unh.edu. [132.177.123.84]) by smtp-relay.gmail.com with ESMTPS id 00721157ae682-6f8c460bd83sm1891927b3.12.2025.01.31.14.44.23 (version=TLS1_2 cipher=ECDHE-ECDSA-AES128-GCM-SHA256 bits=128/128); Fri, 31 Jan 2025 14:44:23 -0800 (PST) X-Relaying-Domain: iol.unh.edu Date: Fri, 31 Jan 2025 14:44:23 -0800 (PST) Message-ID: <679d5247.050a0220.3368fe.9eeeSMTPIN_ADDED_MISSING@mx.google.com> Received: from [172.17.0.5] (unknown [172.18.0.217]) by postal.iol.unh.edu (Postfix) with ESMTP id BFA586052471; Fri, 31 Jan 2025 17:44:22 -0500 (EST) Subject: |WARNING| pw150758-150760 [PATCH] [3/3] dts: bump up fabric version From: dpdklab@iol.unh.edu To: Test Report Cc: dpdk-test-reports@iol.unh.edu In-Reply-To: <20250131191924.1936157-4-luca.vizzarro@arm.com> References: <20250131191924.1936157-4-luca.vizzarro@arm.com> Content-Type: text/plain X-BeenThere: test-report@dpdk.org X-Mailman-Version: 2.1.29 Precedence: list List-Id: automatic DPDK test reports List-Unsubscribe: , List-Archive: List-Post: List-Help: List-Subscribe: , Errors-To: test-report-bounces@dpdk.org Test-Label: iol-compile-amd64-testing Test-Status: WARNING http://dpdk.org/patch/150760 _Testing issues_ Submitter: Luca Vizzarro Date: Friday, January 31 2025 19:19:24 DPDK git baseline: Repo:dpdk Branch: master CommitID:75fb46c7ade4a7efaaa02743c4aa450f75ba9468 150758-150760 --> testing issues Upstream job id: Generic-DPDK-Compile-Meson#356906 Test environment and result as below: +---------------------+-------------------+--------------------+----------------------+------------------+-------------------+ | Environment | dpdk_msvc_compile | dpdk_meson_compile | dpdk_mingw64_compile | dpdk_compile_ovs | dpdk_compile_spdk | +=====================+===================+====================+======================+==================+===================+ | Windows Server 2022 | PASS | SKIPPED | PASS | SKIPPED | SKIPPED | +---------------------+-------------------+--------------------+----------------------+------------------+-------------------+ | FreeBSD 13.4 | SKIPPED | PASS | SKIPPED | SKIPPED | SKIPPED | +---------------------+-------------------+--------------------+----------------------+------------------+-------------------+ | FreeBSD 14.2 | SKIPPED | PASS | SKIPPED | SKIPPED | SKIPPED | +---------------------+-------------------+--------------------+----------------------+------------------+-------------------+ | CentOS Stream 9 | SKIPPED | PASS | SKIPPED | PASS | PASS | +---------------------+-------------------+--------------------+----------------------+------------------+-------------------+ | Debian Bullseye | SKIPPED | PASS | SKIPPED | PASS | PASS | +---------------------+-------------------+--------------------+----------------------+------------------+-------------------+ | Debian 12 | SKIPPED | PEND | SKIPPED | PEND | PEND | +---------------------+-------------------+--------------------+----------------------+------------------+-------------------+ | Fedora 40 (Clang) | SKIPPED | PEND | SKIPPED | PEND | PEND | +---------------------+-------------------+--------------------+----------------------+------------------+-------------------+ | Fedora 40 | SKIPPED | PASS | SKIPPED | PASS | PASS | +---------------------+-------------------+--------------------+----------------------+------------------+-------------------+ | Fedora 41 (Clang) | SKIPPED | PEND | SKIPPED | PEND | PEND | +---------------------+-------------------+--------------------+----------------------+------------------+-------------------+ | Fedora 41 | SKIPPED | PASS | SKIPPED | PASS | PASS | +---------------------+-------------------+--------------------+----------------------+------------------+-------------------+ | openSUSE Leap 15 | SKIPPED | PEND | SKIPPED | SKIPPED | SKIPPED | +---------------------+-------------------+--------------------+----------------------+------------------+-------------------+ | RHEL8 | SKIPPED | PASS | SKIPPED | PASS | SKIPPED | +---------------------+-------------------+--------------------+----------------------+------------------+-------------------+ | RHEL9 | SKIPPED | PEND | SKIPPED | PEND | SKIPPED | +---------------------+-------------------+--------------------+----------------------+------------------+-------------------+ | Ubuntu 20.04 | SKIPPED | PASS | SKIPPED | WARN | SKIPPED | +---------------------+-------------------+--------------------+----------------------+------------------+-------------------+ | Ubuntu 22.04 | SKIPPED | PEND | SKIPPED | PEND | PEND | +---------------------+-------------------+--------------------+----------------------+------------------+-------------------+ | Ubuntu 24.04 | SKIPPED | PEND | SKIPPED | PEND | PEND | +---------------------+-------------------+--------------------+----------------------+------------------+-------------------+ | Alpine | SKIPPED | PEND | SKIPPED | PEND | SKIPPED | +---------------------+-------------------+--------------------+----------------------+------------------+-------------------+ ==== 20 line log output for Ubuntu 20.04 (dpdk_compile_ovs): ==== --- Failed to get log output --- ==== End log output ==== Windows Server 2022 Kernel: 10.0.20348.2031 Compiler: clang 15.0.7, gcc 14.1.0 (MinGW), and MSVC VS 19.39.33521 FreeBSD 13.4 Kernel: 13.4-RELEASE-p1 Compiler: clang 18.1.6 FreeBSD 14.2 Kernel: 14.2-RELEASE Compiler: clang 18.1.6 CentOS Stream 9 Kernel: Depends on container host Compiler: gcc 11.5.0 20240719 (Red Hat 11.5.0-2) Debian Bullseye Kernel: Depends on container host Compiler: gcc (Debian 10.2.1-6) 10.2.1 20210110 Debian 12 Kernel: Depends on container host Compiler: gcc (Debian 12.2.0-14) 12.2.0 Fedora 40 (Clang) Kernel: Depends on container host Compiler: clang 18.1.8 (Fedora 18.1.8-1.fc40) Fedora 40 Kernel: Depends on container host Compiler: gcc 14.2.1 20240912 (Red Hat 14.2.1-3) Fedora 41 (Clang) Kernel: Depends on container host Compiler: clang 19.1.5 (Fedora 19.1.5-1.fc41) Fedora 41 Kernel: Depends on container host Compiler: gcc 14.2.1 20240912 (Red Hat 14.2.1-3) openSUSE Leap 15 Kernel: Depends on container host Compiler: gcc (SUSE Linux) 7.5.0 RHEL8 Kernel: Depends on container host Compiler: gcc 8.5.0 20210514 (Red Hat 8.5.0-22) RHEL9 Kernel: Depends on container host Compiler: gcc 11.5.0 20240719 (Red Hat 11.5.0-2) Ubuntu 20.04 Kernel: Depends on container host Compiler: gcc (Ubuntu 9.4.0-1ubuntu1~20.04.2) 9.4.0 Ubuntu 22.04 Kernel: Depends on container host Compiler: gcc (Ubuntu 11.4.0-1ubuntu1~22.04) 11.4.0 Ubuntu 24.04 Kernel: Depends on container host Compiler: gcc (Ubuntu 13.3.0-6ubuntu2~24.04) 13.3.0 Alpine Kernel: Depends on container host Compiler: gcc (Alpine 14.2.0) 14.2.0 To view detailed results, visit: https://lab.dpdk.org/results/dashboard/patchsets/32474/ UNH-IOL DPDK Community Lab To manage your email subscriptions, visit: https://lab.dpdk.org/results/dashboard/preferences/subscriptions/