From mboxrd@z Thu Jan 1 00:00:00 1970 Return-Path: Received: from mails.dpdk.org (mails.dpdk.org [217.70.189.124]) by inbox.dpdk.org (Postfix) with ESMTP id 02A084615A for ; Fri, 31 Jan 2025 23:54:04 +0100 (CET) Received: from mails.dpdk.org (localhost [127.0.0.1]) by mails.dpdk.org (Postfix) with ESMTP id D9EEA400EF; Fri, 31 Jan 2025 23:54:04 +0100 (CET) Received: from mail-pl1-f227.google.com (mail-pl1-f227.google.com [209.85.214.227]) by mails.dpdk.org (Postfix) with ESMTP id E500B400D7 for ; Fri, 31 Jan 2025 23:54:03 +0100 (CET) Received: by mail-pl1-f227.google.com with SMTP id d9443c01a7336-21ddb406f32so39223275ad.2 for ; Fri, 31 Jan 2025 14:54:03 -0800 (PST) DKIM-Signature: v=1; a=rsa-sha256; c=relaxed/relaxed; d=iol.unh.edu; s=unh-iol; t=1738364043; x=1738968843; darn=dpdk.org; h=references:in-reply-to:cc:to:from:subject:message-id:date:from:to :cc:subject:date:message-id:reply-to; bh=Cyuqo95c2aTnbjfzQVFcVVbxX5NaqwSGU4BCsLw/RiM=; b=ReQaCVWmszcYvxZM6cz4z3CtFisyGT4CxoLSwWMwcQzD4eFC+hh/CslblQYd6d3uDd cff2eo8+88Edf85aTwluVZBzSvfK/fawRVgFgw7SMm9LiDzlFSBMm0Na9STVi8Kl99s8 D/R1dNNYgw7tcYUpQFtn5dA5HorX+9X5s9oKs= X-Google-DKIM-Signature: v=1; a=rsa-sha256; c=relaxed/relaxed; d=1e100.net; s=20230601; t=1738364043; x=1738968843; h=references:in-reply-to:cc:to:from:subject:message-id:date :x-gm-message-state:from:to:cc:subject:date:message-id:reply-to; bh=Cyuqo95c2aTnbjfzQVFcVVbxX5NaqwSGU4BCsLw/RiM=; b=V5gSETscpiuV/xXXrjoRG9VokBTEsbyxD1doiSQiSc56rUdJ/u3dsDwQvK2Vua5iL3 SKijpOgpTJbB9b3l7Sa5y9Cfvi+EJXYCejggh38ogx1zkmczmvrps8xxjwZ9UxnDFk0j d2vGrugGXJ75oFweMsitBs0xIOd+YLbRkhEzx7QTJ0QXMjgjy1zlgDnlPQlrXUPTNYBn YpCygDI342/fzYnHfsb9y2I+mpLU7T7/MfsLIEY4TZYIx1J7ou0GFwAuMRt6ywoC7LMu uIA/EObKdUTNxnCF23HCkyqQ86TnBaUOPHhBVrAOmkt4khBvUt0ySfVLKZGmrjBJ/zA9 oPbQ== X-Gm-Message-State: AOJu0Yy/nd5YIVqd3V1jjvEk/ef5tP00g2y+75wpCOw2giGR6oWxrEH+ P42ArKPqneR0VLKL0NZlTDxRNXpTewP0HJofzH+96a3Liu1B1Q5RWV5c9Om/2WFnDeC6/lyV4wa LEliNTkBLwLES9Nk7PcNCUMP/ixK325wcM19AwthLRBvz1N9RGH/4foOQ X-Gm-Gg: ASbGncvPSPM/JfDbrQu6hnATAmgchOEf04gqVNSF8wj+gN2oNqTfbqnWAcHxcIdDS5T o4CWXBlsxtgBLBvz6z09tTO0J2pN7gTFCLKJqBA5wuWMjAw/8Z4XNJf6dCUK/Kigix8rHjjXYDg ZIJlOHSTjPmCB0z0wgFRUsWC568RTETaWGVgyirzfG14KylQjmVKNP2HAag/9777IlzSFYB+4BD tZjnHn9XvwYMn10OcRRmK6THyFuIiHhM//9/Vcn8R2gdZ5Il9EXA1jIrIJAjw4+NFQFoY9KkqU0 8/VCPu9sqho3LyAJlz1F9+mPRVaNs6u2tGEVoKM8gw== X-Google-Smtp-Source: AGHT+IE2K8Mco7q26+Vlb3t0+HBbrCYhwM2q8mzLKmCNaZeGTpVj4nh8ctyZmFtq1Vbu4Fz862j1GF8FGcE0 X-Received: by 2002:a17:903:244d:b0:216:48f4:4f3d with SMTP id d9443c01a7336-21dd7c6658dmr168375065ad.13.1738364042968; Fri, 31 Jan 2025 14:54:02 -0800 (PST) Received: from postal.iol.unh.edu (postal.iol.unh.edu. [2606:4100:3880:1234::84]) by smtp-relay.gmail.com with ESMTPS id d9443c01a7336-21de3325668sm1521895ad.88.2025.01.31.14.54.02 (version=TLS1_2 cipher=ECDHE-ECDSA-AES128-GCM-SHA256 bits=128/128); Fri, 31 Jan 2025 14:54:02 -0800 (PST) X-Relaying-Domain: iol.unh.edu Date: Fri, 31 Jan 2025 14:54:02 -0800 (PST) Message-ID: <679d548a.170a0220.f245a.7cacSMTPIN_ADDED_MISSING@mx.google.com> Received: from [172.17.0.5] (unknown [172.18.0.217]) by postal.iol.unh.edu (Postfix) with ESMTP id 2555A6052471; Fri, 31 Jan 2025 17:54:02 -0500 (EST) Subject: |SUCCESS| pw150761-150762 [PATCH] [2/2] dts: rework run-time MTU adj From: dpdklab@iol.unh.edu To: Test Report Cc: dpdk-test-reports@iol.unh.edu In-Reply-To: <20250131193803.168498-3-npratte@iol.unh.edu> References: <20250131193803.168498-3-npratte@iol.unh.edu> Content-Type: text/plain X-BeenThere: test-report@dpdk.org X-Mailman-Version: 2.1.29 Precedence: list List-Id: automatic DPDK test reports List-Unsubscribe: , List-Archive: List-Post: List-Help: List-Subscribe: , Errors-To: test-report-bounces@dpdk.org Test-Label: iol-sample-apps-testing Test-Status: SUCCESS http://dpdk.org/patch/150762 _Testing PASS_ Submitter: Nicholas Pratte Date: Friday, January 31 2025 19:38:03 DPDK git baseline: Repo:dpdk Branch: master CommitID:75fb46c7ade4a7efaaa02743c4aa450f75ba9468 150761-150762 --> testing pass Upstream job id: ACVP-FIPS-testing#8749 Test environment and result as below: +--------------------+----------------------+----------------------+ | Environment | compressdev_zlib_pmd | dpdk_fips_validation | +====================+======================+======================+ | Ubuntu 22.04 (ARM) | PASS | SKIPPED | +--------------------+----------------------+----------------------+ | Ubuntu 22.04 | PASS | SKIPPED | +--------------------+----------------------+----------------------+ | Ubuntu 20.04 | SKIPPED | PASS | +--------------------+----------------------+----------------------+ Ubuntu 22.04 (ARM) Kernel: 5.15.0-97-generic Compiler: gcc gcc (Ubuntu 11.4.0-1ubuntu1~22.04) 11.4.0 Ubuntu 22.04 Kernel: 5.15.0-100-generic Compiler: gcc gcc (Ubuntu 11.4.0-1ubuntu1~22.04) 11.4.0 Ubuntu 20.04 Kernel: Depends on container host Compiler: gcc (Ubuntu 9.4.0-1ubuntu1~20.04.2) 9.4.0 To view detailed results, visit: https://lab.dpdk.org/results/dashboard/patchsets/32475/ UNH-IOL DPDK Community Lab To manage your email subscriptions, visit: https://lab.dpdk.org/results/dashboard/preferences/subscriptions/