From mboxrd@z Thu Jan 1 00:00:00 1970 Return-Path: Received: from mails.dpdk.org (mails.dpdk.org [217.70.189.124]) by inbox.dpdk.org (Postfix) with ESMTP id 00A4A4615A for ; Fri, 31 Jan 2025 23:54:12 +0100 (CET) Received: from mails.dpdk.org (localhost [127.0.0.1]) by mails.dpdk.org (Postfix) with ESMTP id F0DB5400EF; Fri, 31 Jan 2025 23:54:11 +0100 (CET) Received: from mail-oo1-f98.google.com (mail-oo1-f98.google.com [209.85.161.98]) by mails.dpdk.org (Postfix) with ESMTP id BED7C400D7 for ; Fri, 31 Jan 2025 23:54:10 +0100 (CET) Received: by mail-oo1-f98.google.com with SMTP id 006d021491bc7-5f6497fbccbso1942613eaf.0 for ; Fri, 31 Jan 2025 14:54:10 -0800 (PST) DKIM-Signature: v=1; a=rsa-sha256; c=relaxed/relaxed; d=iol.unh.edu; s=unh-iol; t=1738364050; x=1738968850; darn=dpdk.org; h=references:in-reply-to:cc:to:from:subject:message-id:date:from:to :cc:subject:date:message-id:reply-to; bh=3Ex5hrLNcAtDU9YmDSPmj+O5Q/XyqaoJt2R3l8LzRfg=; b=PG2CIPwYJkW6gQkQNu+cX/g3ngxk0voeYWsH/dB7QLV+Fca8xI1Kjzp76nygfPqwzg q4nag/DITs0chSO6DIkLtXtBWdW9EuncZBDe4JNpYCdG5wJXlju4Ue970BzwDyGXl7Iq r7KnEBBBZwMH0oZt8af5fwCWstGHnn0TxEv78= X-Google-DKIM-Signature: v=1; a=rsa-sha256; c=relaxed/relaxed; d=1e100.net; s=20230601; t=1738364050; x=1738968850; h=references:in-reply-to:cc:to:from:subject:message-id:date :x-gm-message-state:from:to:cc:subject:date:message-id:reply-to; bh=3Ex5hrLNcAtDU9YmDSPmj+O5Q/XyqaoJt2R3l8LzRfg=; b=QOQQAHa4oJtgBJ3I63dlBoBwTmt5movOmimCQywFFLyho4ORXLykJ/hYCujLJV+Rus m1OmbixRLzRrw/yPBwSt/VnudSiutB5mFJUsiefBAOASHEMVJSYREqeDK2Yo0pJJDTru akLiX+4E9GtEAP29RfCk7fPJPHKb8zcF/JyRe9XjMqJDhxgtBqXq9x64fBTEjcT9BY+7 swYdIZ2HeuWxGY9l0oTtyQgat94I2GhL3bnyPr0rAsI/7ASPL5u10WbRy3gXOPbJvgfd LujpZoZvaV0licJmE9xhF0FHkFrhG92dtAkdaGXDLO0Ya/uxN7+4Uza/Xhzf+30YjXAf rSrw== X-Gm-Message-State: AOJu0Yy6PzyiJqOetiJHj1r2PVnC6fUwZQmqYnJinRVpJlS09QmEsEsm nxe5i9T9voV1ZR/wjauNaZ/caQNBruBIB4NK0EiovPL0YD+1C2gj+SlmvBr52qFAHivEd8m3XYV hnvWpnyvdy9P5LF6oO9G4OfqukW6MMBfd8pX7NVGJKGkevcBpN9VXoLeo X-Gm-Gg: ASbGnctt4rx+5RT/jLPTMkLaujdEuew6NVRXwy1Gbd5nJi8W1eborVAV0j21jOFKNv2 QHCMmKg8k/aFCZmb1xq/YwoFEUWY9fo6ge/OmxJyOwq1eaJl957G86LAiUJEsdkt1PbhoBskitI 7x+Vvgwl01xwlrgYWnGzo+IOcjhT7oYoc3mnRz5vBlz9rJLEO5kW/jB6vUC+07de7artHiBpyBU XwM8OWiBtxLie6r8LJSkKSfylFNp7Hd+Ypg6Lf4jptwvWkYYVC15ZPEE1VVYpUfllafugLXPRAH JYJU0b9BNdrj4ACYK7RU3d1QzA+wfqyWKlVHqcmbzQ== X-Google-Smtp-Source: AGHT+IE3Bfyoj/J0+8hWw0nkyHNuUGt7nTfF0VCyVpPoN4oPrnO5A9u2KJZ2IaiK7EBFZgIpX+prY/0kUyb5 X-Received: by 2002:a05:6871:8f16:b0:2a7:8b78:e902 with SMTP id 586e51a60fabf-2b34fe96f99mr5208815fac.7.1738364049867; Fri, 31 Jan 2025 14:54:09 -0800 (PST) Received: from postal.iol.unh.edu (postal.iol.unh.edu. [2606:4100:3880:1234::84]) by smtp-relay.gmail.com with ESMTPS id 586e51a60fabf-2b3561138dasm282123fac.5.2025.01.31.14.54.09 (version=TLS1_2 cipher=ECDHE-ECDSA-AES128-GCM-SHA256 bits=128/128); Fri, 31 Jan 2025 14:54:09 -0800 (PST) X-Relaying-Domain: iol.unh.edu Date: Fri, 31 Jan 2025 14:54:09 -0800 (PST) Message-ID: <679d5491.050a0220.1c4a0.f776SMTPIN_ADDED_MISSING@mx.google.com> Received: from [172.21.0.5] (unknown [172.18.0.240]) by postal.iol.unh.edu (Postfix) with ESMTP id 7C0566052471; Fri, 31 Jan 2025 17:54:09 -0500 (EST) Subject: |SUCCESS| pw150758-150760 [PATCH] [3/3] dts: bump up fabric version From: dpdklab@iol.unh.edu To: Test Report Cc: dpdk-test-reports@iol.unh.edu In-Reply-To: <20250131191924.1936157-4-luca.vizzarro@arm.com> References: <20250131191924.1936157-4-luca.vizzarro@arm.com> Content-Type: text/plain X-BeenThere: test-report@dpdk.org X-Mailman-Version: 2.1.29 Precedence: list List-Id: automatic DPDK test reports List-Unsubscribe: , List-Archive: List-Post: List-Help: List-Subscribe: , Errors-To: test-report-bounces@dpdk.org Test-Label: iol-unit-amd64-testing Test-Status: SUCCESS http://dpdk.org/patch/150760 _Testing PASS_ Submitter: Luca Vizzarro Date: Friday, January 31 2025 19:19:24 DPDK git baseline: Repo:dpdk Branch: master CommitID:75fb46c7ade4a7efaaa02743c4aa450f75ba9468 150758-150760 --> testing pass Upstream job id: Generic-Unit-Test-DPDK#310844 Test environment and result as below: +---------------------+----------------+ | Environment | dpdk_unit_test | +=====================+================+ | CentOS Stream 9 | PASS | +---------------------+----------------+ | Debian 12 | PASS | +---------------------+----------------+ | Fedora 40 | PASS | +---------------------+----------------+ | Debian Bullseye | PASS | +---------------------+----------------+ | Fedora 40 (Clang) | PASS | +---------------------+----------------+ | Fedora 41 (Clang) | PASS | +---------------------+----------------+ | Fedora 41 | PASS | +---------------------+----------------+ | RHEL8 | PASS | +---------------------+----------------+ | RHEL9 | PASS | +---------------------+----------------+ | Ubuntu 20.04 | PASS | +---------------------+----------------+ | Ubuntu 22.04 | PASS | +---------------------+----------------+ | Ubuntu 24.04 | PASS | +---------------------+----------------+ | Windows Server 2022 | PASS | +---------------------+----------------+ CentOS Stream 9 Kernel: Depends on container host Compiler: gcc 11.5.0 20240719 (Red Hat 11.5.0-2) Debian 12 Kernel: Depends on container host Compiler: gcc (Debian 12.2.0-14) 12.2.0 Fedora 40 Kernel: Depends on container host Compiler: gcc 14.2.1 20240912 (Red Hat 14.2.1-3) Debian Bullseye Kernel: Depends on container host Compiler: gcc (Debian 10.2.1-6) 10.2.1 20210110 Fedora 40 (Clang) Kernel: Depends on container host Compiler: clang 18.1.8 (Fedora 18.1.8-1.fc40) Fedora 41 (Clang) Kernel: Depends on container host Compiler: clang 19.1.5 (Fedora 19.1.5-1.fc41) Fedora 41 Kernel: Depends on container host Compiler: gcc 14.2.1 20240912 (Red Hat 14.2.1-3) RHEL8 Kernel: Depends on container host Compiler: gcc 8.5.0 20210514 (Red Hat 8.5.0-22) RHEL9 Kernel: Depends on container host Compiler: gcc 11.5.0 20240719 (Red Hat 11.5.0-2) Ubuntu 20.04 Kernel: Depends on container host Compiler: gcc (Ubuntu 9.4.0-1ubuntu1~20.04.2) 9.4.0 Ubuntu 22.04 Kernel: Depends on container host Compiler: gcc (Ubuntu 11.4.0-1ubuntu1~22.04) 11.4.0 Ubuntu 24.04 Kernel: Depends on container host Compiler: gcc (Ubuntu 13.3.0-6ubuntu2~24.04) 13.3.0 Windows Server 2022 Kernel: 10.0.20348.2031 Compiler: clang 15.0.7, gcc 14.1.0 (MinGW), and MSVC VS 19.39.33521 To view detailed results, visit: https://lab.dpdk.org/results/dashboard/patchsets/32474/ UNH-IOL DPDK Community Lab To manage your email subscriptions, visit: https://lab.dpdk.org/results/dashboard/preferences/subscriptions/