From mboxrd@z Thu Jan 1 00:00:00 1970 Return-Path: Received: from mails.dpdk.org (mails.dpdk.org [217.70.189.124]) by inbox.dpdk.org (Postfix) with ESMTP id 60A924615D for ; Sat, 1 Feb 2025 00:02:08 +0100 (CET) Received: from mails.dpdk.org (localhost [127.0.0.1]) by mails.dpdk.org (Postfix) with ESMTP id 362ED400EF; Sat, 1 Feb 2025 00:02:08 +0100 (CET) Received: from mail-pl1-f227.google.com (mail-pl1-f227.google.com [209.85.214.227]) by mails.dpdk.org (Postfix) with ESMTP id 34B8F400D7 for ; Sat, 1 Feb 2025 00:02:06 +0100 (CET) Received: by mail-pl1-f227.google.com with SMTP id d9443c01a7336-216728b1836so44220105ad.0 for ; Fri, 31 Jan 2025 15:02:06 -0800 (PST) DKIM-Signature: v=1; a=rsa-sha256; c=relaxed/relaxed; d=iol.unh.edu; s=unh-iol; t=1738364525; x=1738969325; darn=dpdk.org; h=cc:to:from:subject:message-id:date:from:to:cc:subject:date :message-id:reply-to; bh=Qxodl0smtH3asPodixpJWmMdy5M38Yr3EP2oTtV4FfQ=; b=TZQz1rOP4iVnbM8G42kmmPfQvVxUbgGdkRbaSHvk9pYS7N+bT83BTdYyAVSHKVTzby VizPDHPFJuDY5/NqybmYfsT+/covYUB72Y0dLQbsPhuvteeKBt0032gqX6Uqe4VA7ee1 2bA8rPmkU7OeEzHX48+SXlf4hqr1U9TUHmfiQ= X-Google-DKIM-Signature: v=1; a=rsa-sha256; c=relaxed/relaxed; d=1e100.net; s=20230601; t=1738364525; x=1738969325; h=cc:to:from:subject:message-id:date:x-gm-message-state:from:to:cc :subject:date:message-id:reply-to; bh=Qxodl0smtH3asPodixpJWmMdy5M38Yr3EP2oTtV4FfQ=; b=M06zH4FkrC43BaHoDdoXZFjlHGTRFHQ4191k0r/On1eCa7vPe5K5+T/p7FTwLYZqbq rFefBpOgdY7JDXbHHSYjxWStzTeVeQt+AFbs0NvT5kCg64JlUPeBYLI6nC3J7aG7YCAW JSDsDukvtyFBHFPvZd9+TYKYOH88tFTybKO8LCt2nz0bHH4/Ki1YXCFFSuAoCuCH1Y3n 4AuRV5TGfTB/U6yoySImZTf62SlT3L5vEPEP2Fg5Etm69v1R0z+wW1k+y1PXClofzLnY d7tECGwYaMQaLHJS5vSkKSIVijmFK02hhlwYJ49WglBRdqFWEf4d/kRRyADCSAy7mVsJ VRjQ== X-Gm-Message-State: AOJu0YzkkSHax1rilSjUUZO5U9/aglD2gUqGPWz1HkI/7tQM8DvqQwud fgG/ez8EmScyai02U7+kH2hLLGFkcZvX04/9lWN3RKYTMmQJ1ZpIlRU2JHdLiL8kENLXe9i4OwO hg/pCzVQ41zwdlNvKmEUDYPfgcRAqMmq2fIh0PDvV/831ErBhAfrdWqE3 X-Gm-Gg: ASbGnctZlLpe18r/Jk7v+Q55jfeAGXjBmsul3xstKQC/oYVIWCLknxA9XtKnqZ7MXQ7 qSST3OFlb4vYKoZEtsI376hAbDixFf2HKgRtm7Ym5WK7bwEL341Rq83iOldcP+A43FftC7G+KBH ui3wgo3ArQj7iKlaO54JyctqcckqIUJ2HDc9amwzuA1p3lcRtuXbFf9B+DXtTWteHKhZXc0yhrL xVUc1cHfzNyj6S3CVs8nClBDP0K2BVbEqoazrbvbl2D60RYpmWIcXOIYCeJjwq/MT59OpDgndgn DeZNQn1rCOL/FXEjzn4oRDHIuQPucBk+40D6/XryLQ== X-Google-Smtp-Source: AGHT+IEGi5mHiT4QmnYkMZ0b6ZyOLxZuRl5LeYXRcBiTJt7ZBZifjqZTC/WoNWlqBw6gid74DN7pzsYf5ibR X-Received: by 2002:a17:903:32c9:b0:212:40e0:9562 with SMTP id d9443c01a7336-21dd7c67043mr191534575ad.25.1738364525302; Fri, 31 Jan 2025 15:02:05 -0800 (PST) Received: from postal.iol.unh.edu (postal.iol.unh.edu. [2606:4100:3880:1234::84]) by smtp-relay.gmail.com with ESMTPS id d9443c01a7336-21de33430f5sm1672795ad.100.2025.01.31.15.02.05 (version=TLS1_2 cipher=ECDHE-ECDSA-AES128-GCM-SHA256 bits=128/128); Fri, 31 Jan 2025 15:02:05 -0800 (PST) X-Relaying-Domain: iol.unh.edu Date: Fri, 31 Jan 2025 15:02:05 -0800 (PST) Message-ID: <679d566d.170a0220.c315a.945dSMTPIN_ADDED_MISSING@mx.google.com> Received: from [172.17.0.4] (unknown [172.18.0.217]) by postal.iol.unh.edu (Postfix) with ESMTP id AC7D76052471; Fri, 31 Jan 2025 18:02:04 -0500 (EST) Subject: |SUCCESS| [GIT MASTER] abf3b7b7b361f8aa8d75ae00d449b588a0cdcda3 From: dpdklab@iol.unh.edu To: Test Report Cc: dpdk-test-reports@iol.unh.edu, Bruce Richardson Content-Type: text/plain X-BeenThere: test-report@dpdk.org X-Mailman-Version: 2.1.29 Precedence: list List-Id: automatic DPDK test reports List-Unsubscribe: , List-Archive: List-Post: List-Help: List-Subscribe: , Errors-To: test-report-bounces@dpdk.org _Testing PASS_ Branch: dpdk-next-net-intel abf3b7b7b361f8aa8d75ae00d449b588a0cdcda3 --> testing pass Upstream job id: Generic-DPDK-Compile-Meson#356795 Test environment and result as below: +----------------------------------------+--------------------+ | Environment | dpdk_meson_compile | +========================================+====================+ | RHEL9 (ARM) | PASS | +----------------------------------------+--------------------+ | Ubuntu 20.04 ARM GCC Cross Compile | PASS | +----------------------------------------+--------------------+ | Ubuntu 20.04 ARM SVE | PASS | +----------------------------------------+--------------------+ | Debian 12 with MUSDK | PASS | +----------------------------------------+--------------------+ | Fedora 40 (ARM) | PASS | +----------------------------------------+--------------------+ | Fedora 40 (ARM Clang) | PASS | +----------------------------------------+--------------------+ | Fedora 41 (ARM) | PASS | +----------------------------------------+--------------------+ | Fedora 41 (ARM Clang) | PASS | +----------------------------------------+--------------------+ | Ubuntu 20.04 (ARM) | PASS | +----------------------------------------+--------------------+ | Ubuntu 22.04 (ARM) | PASS | +----------------------------------------+--------------------+ | Ubuntu 24.04 (ARM) | PASS | +----------------------------------------+--------------------+ | CentOS Stream 9 (ARM) | PASS | +----------------------------------------+--------------------+ | Debian 11 (Buster) (ARM) | PASS | +----------------------------------------+--------------------+ | Debian 12 (arm) | PASS | +----------------------------------------+--------------------+ | Ubuntu 20.04 ARM Clang Cross Compile | PASS | +----------------------------------------+--------------------+ | Ubuntu 20.04 aarch32 GCC Cross Compile | PASS | +----------------------------------------+--------------------+ RHEL9 (ARM) Kernel: Depends on container host Compiler: gcc 11.5.0 20240719 (Red Hat 11.5.0-2) Ubuntu 20.04 ARM GCC Cross Compile Kernel: Depends on container host Compiler: aarch64-linux-gnu-gcc (Ubuntu 9.4.0-1ubuntu1~20.04.2) 9.4.0 Ubuntu 20.04 ARM SVE Kernel: Depends on container host Compiler: gcc (Ubuntu 10.5.0-1ubuntu1~20.04) 10.5.0 Debian 12 with MUSDK Kernel: Depends on container host Compiler: gcc (Debian 12.2.0-14) 12.2.0 Fedora 40 (ARM) Kernel: Depends on container host Compiler: gcc 14.2.1 20240912 (Red Hat 14.2.1-3) Fedora 40 (ARM Clang) Kernel: Depends on container host Compiler: clang 18.1.8 (Fedora 18.1.8-1.fc40) Fedora 41 (ARM) Kernel: Depends on container host Compiler: gcc 14.2.1 20240912 (Red Hat 14.2.1-3) Fedora 41 (ARM Clang) Kernel: Depends on container host Compiler: clang 19.1.5 (Fedora 19.1.5-1.fc41) Ubuntu 20.04 (ARM) Kernel: Depends on container host Compiler: gcc (Ubuntu 9.4.0-1ubuntu1~20.04.2) 9.4.0 Ubuntu 22.04 (ARM) Kernel: Depends on container host Compiler: gcc (Ubuntu 11.4.0-1ubuntu1~22.04) 11.4.0 Ubuntu 24.04 (ARM) Kernel: Depends on container host Compiler: gcc (Ubuntu 13.3.0-6ubuntu2~24.04) 13.3.0 CentOS Stream 9 (ARM) Kernel: Depends on container host Compiler: gcc 11.5.0 20240719 (Red Hat 11.5.0-2) Debian 11 (Buster) (ARM) Kernel: Depends on container host Compiler: gcc (Debian 10.2.1-6) 10.2.1 20210110 Debian 12 (arm) Kernel: Depends on container host Compiler: gcc (Debian 12.2.0-14) 12.2.0 Ubuntu 20.04 ARM Clang Cross Compile Kernel: Depends on container host Compiler: clang 10.0.0-4ubuntu1 Ubuntu 20.04 aarch32 GCC Cross Compile Kernel: Depends on container host Compiler: gcc 9.4.0 To view detailed results, visit: https://lab.dpdk.org/results/dashboard/tarballs/32405/ UNH-IOL DPDK Community Lab To manage your email subscriptions, visit: https://lab.dpdk.org/results/dashboard/preferences/subscriptions/