From mboxrd@z Thu Jan 1 00:00:00 1970 Return-Path: Received: from mails.dpdk.org (mails.dpdk.org [217.70.189.124]) by inbox.dpdk.org (Postfix) with ESMTP id 7C8C44615A for ; Sat, 1 Feb 2025 00:20:33 +0100 (CET) Received: from mails.dpdk.org (localhost [127.0.0.1]) by mails.dpdk.org (Postfix) with ESMTP id 5835740291; Sat, 1 Feb 2025 00:20:33 +0100 (CET) Received: from mail-qk1-f225.google.com (mail-qk1-f225.google.com [209.85.222.225]) by mails.dpdk.org (Postfix) with ESMTP id 72A6D400D7 for ; Sat, 1 Feb 2025 00:20:32 +0100 (CET) Received: by mail-qk1-f225.google.com with SMTP id af79cd13be357-7b98a2e3b3eso138409085a.2 for ; Fri, 31 Jan 2025 15:20:32 -0800 (PST) DKIM-Signature: v=1; a=rsa-sha256; c=relaxed/relaxed; d=iol.unh.edu; s=unh-iol; t=1738365632; x=1738970432; darn=dpdk.org; h=references:in-reply-to:cc:to:from:subject:message-id:date:from:to :cc:subject:date:message-id:reply-to; bh=dPah6TbhGDZKD/UXz5k/QRcW2SyDnT39yIAENWP2Z5I=; b=ezjlKPMckP5ds2+oMVmGV3hFBEhPMqPBmj4e+4ArWKrOEGY/Fp3df05u7oZgOwOf97 oPlBDmu+LnkjPT7mD5exzFYtZnS3Cexttl9xLRdvnf2IIbqJ+UhF9Uu3YHk0PHj0QOMc pHuIAKKByu65rBEkDsPGhDMeo5VpBfIeqRhDk= X-Google-DKIM-Signature: v=1; a=rsa-sha256; c=relaxed/relaxed; d=1e100.net; s=20230601; t=1738365632; x=1738970432; h=references:in-reply-to:cc:to:from:subject:message-id:date :x-gm-message-state:from:to:cc:subject:date:message-id:reply-to; bh=dPah6TbhGDZKD/UXz5k/QRcW2SyDnT39yIAENWP2Z5I=; b=gB6b8IUDbJT5d0eWr4F6wk5e+jpyIh9x1kaUTvE5kb+pMDdilooqVho0ZxH5Qs17dr lZQMJcgZR0Dqs4tybm/MoHYkDQWM/+B6dZ8DClXLGu05qPMxuyy91c3ebHcuyp/IPocq mBUCWMz+VG4iW8nbYjt+6JOshhpMHzHwq91tGtcBCheg3DXqX2SKQjXu50nX9Lfw/KRs Qya291ODQphuFvYxkogs7qcwasDca25iqfPwU4heAGPYRvkNySu5Aa8Hzjjh1n74sXOW inGjUUXRyW+4c6VzlVTZHjAANoak3AyIESAWQC3u086NuLaGlSPg+rwiz/IhVx6NWg0h 8Tng== X-Gm-Message-State: AOJu0YxAaZvpIXwlbygqe4c6MShug6nNFCCFAxFKixJO+jSyNVZpRxQb hGFjvyYDGV7RK1WQDdlqtD0bBdEUzGUmvYHlwD89SC40m2DD9gPT1mxey+MTvNBNdwAEHCAlBUt 8ULdWcwJMvWi7YjvRNWs/5R2cTcW8VtFXCVzJCpg1 X-Gm-Gg: ASbGnctS36pAoTpm8NEdNSwjQp8iyYwaivcbs0wIFWyITZ0Y25Ftdv2v0YJw9mvqbE0 y43I8B9LzqFDvAqH+PbbOsiFuyZCz/AJaC38lRQheVSoAuYicaFKd8y9pIhPbNx09WLVJvX5tv3 y+7y8Cz7HuOfsu5BJqaaOdXPLSlKCLHpIMADqwR9Yu4zeopaNYX8MS9JS4iJr2RsWI8dM4NwuxZ O+bjz+27C+GKeuxM3Gbf0k5jrgo70zBtzpZRca/m77XR2vtQKLmoCNDlWwO6XYKkn9mQek9wA8N 8TxNTi3b7Cksly7skKHKzy2pcHFEBg== X-Google-Smtp-Source: AGHT+IHJRw+7Sp/mscx9waUuAny5RMabj8IyIpqTSNDqnrx3ONDU7iYcX+/yjNA+hSzmiGiFvf+yD0mRor/z X-Received: by 2002:a05:620a:29cc:b0:7b1:51df:115a with SMTP id af79cd13be357-7bffcd9f0e7mr2011990885a.49.1738365631821; Fri, 31 Jan 2025 15:20:31 -0800 (PST) Received: from postal.iol.unh.edu (postal.iol.unh.edu. [132.177.123.84]) by smtp-relay.gmail.com with ESMTPS id af79cd13be357-7c00a8fd8e3sm24612785a.4.2025.01.31.15.20.31 (version=TLS1_2 cipher=ECDHE-ECDSA-AES128-GCM-SHA256 bits=128/128); Fri, 31 Jan 2025 15:20:31 -0800 (PST) X-Relaying-Domain: iol.unh.edu Date: Fri, 31 Jan 2025 15:20:31 -0800 (PST) Message-ID: <679d5abf.050a0220.118ea1.d82aSMTPIN_ADDED_MISSING@mx.google.com> Received: from [172.17.0.4] (unknown [172.18.0.217]) by postal.iol.unh.edu (Postfix) with ESMTP id 5D7166052471; Fri, 31 Jan 2025 18:20:31 -0500 (EST) Subject: |WARNING| pw150758-150760 [PATCH] [3/3] dts: bump up fabric version From: dpdklab@iol.unh.edu To: Test Report Cc: dpdk-test-reports@iol.unh.edu In-Reply-To: <20250131191924.1936157-4-luca.vizzarro@arm.com> References: <20250131191924.1936157-4-luca.vizzarro@arm.com> Content-Type: text/plain X-BeenThere: test-report@dpdk.org X-Mailman-Version: 2.1.29 Precedence: list List-Id: automatic DPDK test reports List-Unsubscribe: , List-Archive: List-Post: List-Help: List-Subscribe: , Errors-To: test-report-bounces@dpdk.org Test-Label: iol-compile-amd64-testing Test-Status: WARNING http://dpdk.org/patch/150760 _Testing issues_ Submitter: Luca Vizzarro Date: Friday, January 31 2025 19:19:24 DPDK git baseline: Repo:dpdk Branch: master CommitID:75fb46c7ade4a7efaaa02743c4aa450f75ba9468 150758-150760 --> testing issues Upstream job id: Generic-DPDK-Compile-Meson#356908 Test environment and result as below: +---------------------+-------------------+--------------------+----------------------+------------------+-------------------+ | Environment | dpdk_msvc_compile | dpdk_meson_compile | dpdk_mingw64_compile | dpdk_compile_ovs | dpdk_compile_spdk | +=====================+===================+====================+======================+==================+===================+ | Windows Server 2022 | PASS | SKIPPED | PASS | SKIPPED | SKIPPED | +---------------------+-------------------+--------------------+----------------------+------------------+-------------------+ | FreeBSD 13.4 | SKIPPED | PASS | SKIPPED | SKIPPED | SKIPPED | +---------------------+-------------------+--------------------+----------------------+------------------+-------------------+ | FreeBSD 14.2 | SKIPPED | PASS | SKIPPED | SKIPPED | SKIPPED | +---------------------+-------------------+--------------------+----------------------+------------------+-------------------+ | CentOS Stream 9 | SKIPPED | PASS | SKIPPED | PASS | PASS | +---------------------+-------------------+--------------------+----------------------+------------------+-------------------+ | Debian Bullseye | SKIPPED | PASS | SKIPPED | PASS | PASS | +---------------------+-------------------+--------------------+----------------------+------------------+-------------------+ | Debian 12 | SKIPPED | PASS | SKIPPED | PASS | PASS | +---------------------+-------------------+--------------------+----------------------+------------------+-------------------+ | Fedora 40 (Clang) | SKIPPED | PASS | SKIPPED | PASS | PASS | +---------------------+-------------------+--------------------+----------------------+------------------+-------------------+ | Fedora 40 | SKIPPED | PASS | SKIPPED | PASS | PASS | +---------------------+-------------------+--------------------+----------------------+------------------+-------------------+ | Fedora 41 (Clang) | SKIPPED | PASS | SKIPPED | PASS | PASS | +---------------------+-------------------+--------------------+----------------------+------------------+-------------------+ | Fedora 41 | SKIPPED | PASS | SKIPPED | PASS | PASS | +---------------------+-------------------+--------------------+----------------------+------------------+-------------------+ | openSUSE Leap 15 | SKIPPED | PASS | SKIPPED | SKIPPED | SKIPPED | +---------------------+-------------------+--------------------+----------------------+------------------+-------------------+ | RHEL8 | SKIPPED | PASS | SKIPPED | PASS | SKIPPED | +---------------------+-------------------+--------------------+----------------------+------------------+-------------------+ | RHEL9 | SKIPPED | PASS | SKIPPED | PASS | SKIPPED | +---------------------+-------------------+--------------------+----------------------+------------------+-------------------+ | Ubuntu 20.04 | SKIPPED | PASS | SKIPPED | WARN | SKIPPED | +---------------------+-------------------+--------------------+----------------------+------------------+-------------------+ | Ubuntu 22.04 | SKIPPED | PASS | SKIPPED | PASS | PASS | +---------------------+-------------------+--------------------+----------------------+------------------+-------------------+ | Ubuntu 24.04 | SKIPPED | PASS | SKIPPED | PASS | PASS | +---------------------+-------------------+--------------------+----------------------+------------------+-------------------+ | Alpine | SKIPPED | PASS | SKIPPED | PASS | SKIPPED | +---------------------+-------------------+--------------------+----------------------+------------------+-------------------+ ==== 20 line log output for Ubuntu 20.04 (dpdk_compile_ovs): ==== --- Failed to get log output --- ==== End log output ==== Windows Server 2022 Kernel: 10.0.20348.2031 Compiler: clang 15.0.7, gcc 14.1.0 (MinGW), and MSVC VS 19.39.33521 FreeBSD 13.4 Kernel: 13.4-RELEASE-p1 Compiler: clang 18.1.6 FreeBSD 14.2 Kernel: 14.2-RELEASE Compiler: clang 18.1.6 CentOS Stream 9 Kernel: Depends on container host Compiler: gcc 11.5.0 20240719 (Red Hat 11.5.0-2) Debian Bullseye Kernel: Depends on container host Compiler: gcc (Debian 10.2.1-6) 10.2.1 20210110 Debian 12 Kernel: Depends on container host Compiler: gcc (Debian 12.2.0-14) 12.2.0 Fedora 40 (Clang) Kernel: Depends on container host Compiler: clang 18.1.8 (Fedora 18.1.8-1.fc40) Fedora 40 Kernel: Depends on container host Compiler: gcc 14.2.1 20240912 (Red Hat 14.2.1-3) Fedora 41 (Clang) Kernel: Depends on container host Compiler: clang 19.1.5 (Fedora 19.1.5-1.fc41) Fedora 41 Kernel: Depends on container host Compiler: gcc 14.2.1 20240912 (Red Hat 14.2.1-3) openSUSE Leap 15 Kernel: Depends on container host Compiler: gcc (SUSE Linux) 7.5.0 RHEL8 Kernel: Depends on container host Compiler: gcc 8.5.0 20210514 (Red Hat 8.5.0-22) RHEL9 Kernel: Depends on container host Compiler: gcc 11.5.0 20240719 (Red Hat 11.5.0-2) Ubuntu 20.04 Kernel: Depends on container host Compiler: gcc (Ubuntu 9.4.0-1ubuntu1~20.04.2) 9.4.0 Ubuntu 22.04 Kernel: Depends on container host Compiler: gcc (Ubuntu 11.4.0-1ubuntu1~22.04) 11.4.0 Ubuntu 24.04 Kernel: Depends on container host Compiler: gcc (Ubuntu 13.3.0-6ubuntu2~24.04) 13.3.0 Alpine Kernel: Depends on container host Compiler: gcc (Alpine 14.2.0) 14.2.0 To view detailed results, visit: https://lab.dpdk.org/results/dashboard/patchsets/32474/ UNH-IOL DPDK Community Lab To manage your email subscriptions, visit: https://lab.dpdk.org/results/dashboard/preferences/subscriptions/