From mboxrd@z Thu Jan 1 00:00:00 1970 Return-Path: Received: from mails.dpdk.org (mails.dpdk.org [217.70.189.124]) by inbox.dpdk.org (Postfix) with ESMTP id 8E1CC4615A for ; Sat, 1 Feb 2025 00:22:04 +0100 (CET) Received: from mails.dpdk.org (localhost [127.0.0.1]) by mails.dpdk.org (Postfix) with ESMTP id 8877040291; Sat, 1 Feb 2025 00:22:04 +0100 (CET) Received: from mail-io1-f100.google.com (mail-io1-f100.google.com [209.85.166.100]) by mails.dpdk.org (Postfix) with ESMTP id A2A52400D7 for ; Sat, 1 Feb 2025 00:22:03 +0100 (CET) Received: by mail-io1-f100.google.com with SMTP id ca18e2360f4ac-844e6d1283aso99361539f.1 for ; Fri, 31 Jan 2025 15:22:03 -0800 (PST) DKIM-Signature: v=1; a=rsa-sha256; c=relaxed/relaxed; d=iol.unh.edu; s=unh-iol; t=1738365723; x=1738970523; darn=dpdk.org; h=references:in-reply-to:cc:to:from:subject:message-id:date:from:to :cc:subject:date:message-id:reply-to; bh=mlbszQ1PbYP/88YiWS3/p/GDaRO9EBKmfuhSaaCiOuY=; b=i1Iv372NmDLpgkL2bCBd9ClP2fua0QG5l0h7YJivLVAaXgfoLL3IXd/l4NRm/188sG m/eduEwo/DrWMPy6DWv0PNFdZmrpOYobWI8jEU7qyrkToFX6EQv4tYuZo1Ap8ersmGKT xUcDGhtgX4UKLGPO6oIrilCE9kyoYcljsrv+w= X-Google-DKIM-Signature: v=1; a=rsa-sha256; c=relaxed/relaxed; d=1e100.net; s=20230601; t=1738365723; x=1738970523; h=references:in-reply-to:cc:to:from:subject:message-id:date :x-gm-message-state:from:to:cc:subject:date:message-id:reply-to; bh=mlbszQ1PbYP/88YiWS3/p/GDaRO9EBKmfuhSaaCiOuY=; b=i3FZk06m3lS4PPFTtHQUXgcfFfElVa8a1p2Zkjm/acHbw+XjF6XPCU3cIgkzmF7NGV rpN/0BGk1A7uJJl/VDUFFsEA67q2IvI2xh/HjnX0ibZW/CG+mw9WrwZdRK6b6kW22pc9 MOKvgfZwKGnniQZwWbBdLbx77C+wqE28D0BULTau2IOqlTXmr2/d5LZTywd9EgISkwge PtcT+i7gI5px+1P/I42fWFd7uy2iJt15vYfz7mmqxqPtl2/eFZjw4lHDQXINzdmRm+ad pxIYhXYDiT5zi6ocjUeImxdbDjx4EBsWDeXy3advkmrokzEOQstuDhd3vBfm3EHovu7j wl9w== X-Gm-Message-State: AOJu0Yz7C0wbs63MW/vaHUGq5GUE6VWtM6twvf5KYWcU/2KBEhlamtop ArQbHB3Zjj+GKo0Dnkz5U2wVXycJGH5ambcgcc7vicSfsTuHajcjUddVXg6sF0py0rD73bPvw1i DdoC3qVsotfoMhZbaB4mqaQdUFjRtlmaQKlq6ZZJZ X-Gm-Gg: ASbGncssk3FeLmhpTuLZbHLTc36jaWjeiWKLPi267QW33MPGEOdZ2OF6P/8NscwVOqU 23uGikmzmpusDHWE2iAapuIe1L/GecTRH8pgbOwNtEE2SVy7GBIjkadwmO43ASB94Pyy43DXkP5 Zq4UWrRLkH20AYuyNn6MaTrq0uyQkSbCh5KN2VvtrpFLGODKRZuk+IEAca1DYO69d9w7JmDmCp6 iAktY7RuZKm6rmhqEvMjuCsuIcVHEE8/tF6Tw1+OXe80RxZk/3MKYczWp19SAWOf9ZbuWzmRVsh 03u+Fnkw8M1q66NyNG1l71I9vUIPrA== X-Google-Smtp-Source: AGHT+IEWe2qBSOxwt5emumxKyA791wDEIl2nIDq+giPlKlbCHr2jQmusgCV3twOKKDUji4/w0TKRzXUErNoc X-Received: by 2002:a05:6e02:1809:b0:3cf:c7bc:4523 with SMTP id e9e14a558f8ab-3d008eec85emr75545325ab.6.1738365722885; Fri, 31 Jan 2025 15:22:02 -0800 (PST) Received: from postal.iol.unh.edu (postal.iol.unh.edu. [132.177.123.84]) by smtp-relay.gmail.com with ESMTPS id e9e14a558f8ab-3d00a5ec440sm2958975ab.51.2025.01.31.15.22.02 (version=TLS1_2 cipher=ECDHE-ECDSA-AES128-GCM-SHA256 bits=128/128); Fri, 31 Jan 2025 15:22:02 -0800 (PST) X-Relaying-Domain: iol.unh.edu Date: Fri, 31 Jan 2025 15:22:02 -0800 (PST) Message-ID: <679d5b1a.050a0220.1e67f2.0911SMTPIN_ADDED_MISSING@mx.google.com> Received: from [172.17.0.4] (unknown [172.18.0.217]) by postal.iol.unh.edu (Postfix) with ESMTP id 4A12D6052471; Fri, 31 Jan 2025 18:22:02 -0500 (EST) Subject: |SUCCESS| pw150758-150760 [PATCH] [3/3] dts: bump up fabric version From: dpdklab@iol.unh.edu To: Test Report Cc: dpdk-test-reports@iol.unh.edu In-Reply-To: <20250131191924.1936157-4-luca.vizzarro@arm.com> References: <20250131191924.1936157-4-luca.vizzarro@arm.com> Content-Type: text/plain X-BeenThere: test-report@dpdk.org X-Mailman-Version: 2.1.29 Precedence: list List-Id: automatic DPDK test reports List-Unsubscribe: , List-Archive: List-Post: List-Help: List-Subscribe: , Errors-To: test-report-bounces@dpdk.org Test-Label: iol-sample-apps-testing Test-Status: SUCCESS http://dpdk.org/patch/150760 _Testing PASS_ Submitter: Luca Vizzarro Date: Friday, January 31 2025 19:19:24 DPDK git baseline: Repo:dpdk Branch: master CommitID:75fb46c7ade4a7efaaa02743c4aa450f75ba9468 150758-150760 --> testing pass Upstream job id: ACVP-FIPS-testing#8750 Test environment and result as below: +--------------------+----------------------+----------------------+ | Environment | compressdev_zlib_pmd | dpdk_fips_validation | +====================+======================+======================+ | Ubuntu 22.04 (ARM) | PASS | SKIPPED | +--------------------+----------------------+----------------------+ | Ubuntu 22.04 | PASS | SKIPPED | +--------------------+----------------------+----------------------+ | Ubuntu 20.04 | SKIPPED | PASS | +--------------------+----------------------+----------------------+ Ubuntu 22.04 (ARM) Kernel: 5.15.0-97-generic Compiler: gcc gcc (Ubuntu 11.4.0-1ubuntu1~22.04) 11.4.0 Ubuntu 22.04 Kernel: 5.15.0-100-generic Compiler: gcc gcc (Ubuntu 11.4.0-1ubuntu1~22.04) 11.4.0 Ubuntu 20.04 Kernel: Depends on container host Compiler: gcc (Ubuntu 9.4.0-1ubuntu1~20.04.2) 9.4.0 To view detailed results, visit: https://lab.dpdk.org/results/dashboard/patchsets/32474/ UNH-IOL DPDK Community Lab To manage your email subscriptions, visit: https://lab.dpdk.org/results/dashboard/preferences/subscriptions/