From mboxrd@z Thu Jan 1 00:00:00 1970 Return-Path: Received: from mails.dpdk.org (mails.dpdk.org [217.70.189.124]) by inbox.dpdk.org (Postfix) with ESMTP id E28914615B for ; Sat, 1 Feb 2025 02:15:38 +0100 (CET) Received: from mails.dpdk.org (localhost [127.0.0.1]) by mails.dpdk.org (Postfix) with ESMTP id ECB404026B; Sat, 1 Feb 2025 02:15:37 +0100 (CET) Received: from mail-oa1-f100.google.com (mail-oa1-f100.google.com [209.85.160.100]) by mails.dpdk.org (Postfix) with ESMTP id 73739400D7 for ; Sat, 1 Feb 2025 02:15:36 +0100 (CET) Received: by mail-oa1-f100.google.com with SMTP id 586e51a60fabf-29fb532b668so669023fac.0 for ; Fri, 31 Jan 2025 17:15:36 -0800 (PST) DKIM-Signature: v=1; a=rsa-sha256; c=relaxed/relaxed; d=iol.unh.edu; s=unh-iol; t=1738372535; x=1738977335; darn=dpdk.org; h=references:in-reply-to:cc:to:from:subject:message-id:date:from:to :cc:subject:date:message-id:reply-to; bh=Jtq0O1KjKMHK/e17xs1gZSbskGzMJcMls3hUQTYaoEg=; b=LHxZ5HRGHHXQq/UPCQZMpdXOKoB5QhBcxvqPD3YfB9BFTrn2pDUC7obr1CBtryZyjx SIbrGBVd4okgw6CUfWaWBvvUwUa8KwZwICSJzJpHyzZDbCZxBXcIVSGTe1GJ9Tv/eh5a Cx0bv6F/GFbZ161tP24yfw5wlZ5Y7urCbPz0E= X-Google-DKIM-Signature: v=1; a=rsa-sha256; c=relaxed/relaxed; d=1e100.net; s=20230601; t=1738372535; x=1738977335; h=references:in-reply-to:cc:to:from:subject:message-id:date :x-gm-message-state:from:to:cc:subject:date:message-id:reply-to; bh=Jtq0O1KjKMHK/e17xs1gZSbskGzMJcMls3hUQTYaoEg=; b=kmkalKZVyyN30Q7F004qcXZRGm7KyUyum/yy56AqxKy0VlUVss9HpFCbNWyPlK4UtS UhycYZCjtF7GcDVHk8B3bRk+VOdzXX8aG0jKwHDQbGiUfZ3D1+FGlXyrnud1NhFq9mhj Lj0VVM6u0am52RTCCVYYdZLxZYR5VBFmZFcwNChQCBANHPtUfBzCTkXGAPTTvAQaKazo zd/391b2kzpLtzP4174I6ueFGoI9yz51iPgLO8bJtIIPjR0pvVlVeyUF/3ytn9Wu+rmD 3bHQyHDM2I6Gpz1CiLN95XqqiiO9Uh2eqyvqWUKMI0A7OBpGMPFNlWJHFkWHb08kmFsW HqFQ== X-Gm-Message-State: AOJu0YwmbSZUrQIVVSyNI2kA/Tg/N2yMaFtVXo54QutysBJ5N87D1BA5 R2w5sMVxkyG4fe99CAJQBGliLi0IT7YtpWbUwPadb5JOd7CV5A07u05GaegejKqykkCV4TVwhrR 3pRF/XenSVSOk/ZrL+K2P5ss0tFLYBQH7qgEnTZp3 X-Gm-Gg: ASbGncvmC0fOG4w8LvruNl9wSRShvmn3fRaBkkGWUh25RQ1oc9neO3bsVxRwaNpbMcd paVxkxylvHwzFXRSQuBAlPnn9OrZWDm/CuRp30FiD/So561VM8MQPHto01FmxbnQ7FMBVDR9iU/ FbQTPOqHSHPG6JfrJwHP7akTqiIqgcMwbEhiWiYkfuplRHYryq4u+/YWhkrgkBF1VE+FXBHduZf K6mQzbEUvlPLrbvxHfAGcEx36EzgNWzDJzH5hD5sQLQ/8TVfByBLSLVAbGO1LdjozFVkY6EhnEM s9lLejirFQdOe2IyGuFg0Au7wrvDJw== X-Google-Smtp-Source: AGHT+IHCZob5MRg+OB64gQjyZKNutZuNv6coYaTKPfu9lEMadzMUpKya/jwmDpEa2dsK9ltlYKM23/we+EwR X-Received: by 2002:a05:6870:4e07:b0:288:563b:e48d with SMTP id 586e51a60fabf-2b32f03426dmr8543061fac.10.1738372535542; Fri, 31 Jan 2025 17:15:35 -0800 (PST) Received: from postal.iol.unh.edu (postal.iol.unh.edu. [132.177.123.84]) by smtp-relay.gmail.com with ESMTPS id 586e51a60fabf-2b3565ad4d1sm304505fac.32.2025.01.31.17.15.35 (version=TLS1_2 cipher=ECDHE-ECDSA-AES128-GCM-SHA256 bits=128/128); Fri, 31 Jan 2025 17:15:35 -0800 (PST) X-Relaying-Domain: iol.unh.edu Date: Fri, 31 Jan 2025 17:15:35 -0800 (PST) Message-ID: <679d75b7.050a0220.1d71cf.1033SMTPIN_ADDED_MISSING@mx.google.com> Received: from [172.17.0.5] (unknown [172.18.0.217]) by postal.iol.unh.edu (Postfix) with ESMTP id E8BD56052471; Fri, 31 Jan 2025 20:15:34 -0500 (EST) Subject: |SUCCESS| pw150756-150757 [PATCH] [v5,2/2] net/af_xdp: Refactor af_x From: dpdklab@iol.unh.edu To: Test Report Cc: dpdk-test-reports@iol.unh.edu In-Reply-To: <20250131183439.909831-3-ariel.otilibili@6wind.com> References: <20250131183439.909831-3-ariel.otilibili@6wind.com> Content-Type: text/plain X-BeenThere: test-report@dpdk.org X-Mailman-Version: 2.1.29 Precedence: list List-Id: automatic DPDK test reports List-Unsubscribe: , List-Archive: List-Post: List-Help: List-Subscribe: , Errors-To: test-report-bounces@dpdk.org Test-Label: iol-compile-arm64-testing Test-Status: SUCCESS http://dpdk.org/patch/150757 _Testing PASS_ Submitter: Ariel Otilibili Date: Friday, January 31 2025 18:34:39 DPDK git baseline: Repo:dpdk Branch: master CommitID:4a377fd5d560cfdece42b0d87b31c87efb7938d2 150756-150757 --> testing pass Upstream job id: Generic-DPDK-Compile-Meson#356841 Test environment and result as below: +----------------------------------------+--------------------+ | Environment | dpdk_meson_compile | +========================================+====================+ | RHEL9 (ARM) | PASS | +----------------------------------------+--------------------+ | Ubuntu 20.04 ARM GCC Cross Compile | PASS | +----------------------------------------+--------------------+ | Debian 12 with MUSDK | PASS | +----------------------------------------+--------------------+ | Ubuntu 20.04 ARM SVE | PASS | +----------------------------------------+--------------------+ | Fedora 41 (ARM Clang) | PASS | +----------------------------------------+--------------------+ | Fedora 41 (ARM) | PASS | +----------------------------------------+--------------------+ | Fedora 40 (ARM Clang) | PASS | +----------------------------------------+--------------------+ | Fedora 40 (ARM) | PASS | +----------------------------------------+--------------------+ | Ubuntu 20.04 (ARM) | PASS | +----------------------------------------+--------------------+ | Ubuntu 24.04 (ARM) | PASS | +----------------------------------------+--------------------+ | Ubuntu 22.04 (ARM) | PASS | +----------------------------------------+--------------------+ | CentOS Stream 9 (ARM) | PASS | +----------------------------------------+--------------------+ | Debian 11 (Buster) (ARM) | PASS | +----------------------------------------+--------------------+ | Ubuntu 20.04 ARM Clang Cross Compile | PASS | +----------------------------------------+--------------------+ | Debian 12 (arm) | PASS | +----------------------------------------+--------------------+ | Ubuntu 20.04 aarch32 GCC Cross Compile | PASS | +----------------------------------------+--------------------+ RHEL9 (ARM) Kernel: Depends on container host Compiler: gcc 11.5.0 20240719 (Red Hat 11.5.0-2) Ubuntu 20.04 ARM GCC Cross Compile Kernel: Depends on container host Compiler: aarch64-linux-gnu-gcc (Ubuntu 9.4.0-1ubuntu1~20.04.2) 9.4.0 Debian 12 with MUSDK Kernel: Depends on container host Compiler: gcc (Debian 12.2.0-14) 12.2.0 Ubuntu 20.04 ARM SVE Kernel: Depends on container host Compiler: gcc (Ubuntu 10.5.0-1ubuntu1~20.04) 10.5.0 Fedora 41 (ARM Clang) Kernel: Depends on container host Compiler: clang 19.1.5 (Fedora 19.1.5-1.fc41) Fedora 41 (ARM) Kernel: Depends on container host Compiler: gcc 14.2.1 20240912 (Red Hat 14.2.1-3) Fedora 40 (ARM Clang) Kernel: Depends on container host Compiler: clang 18.1.8 (Fedora 18.1.8-1.fc40) Fedora 40 (ARM) Kernel: Depends on container host Compiler: gcc 14.2.1 20240912 (Red Hat 14.2.1-3) Ubuntu 20.04 (ARM) Kernel: Depends on container host Compiler: gcc (Ubuntu 9.4.0-1ubuntu1~20.04.2) 9.4.0 Ubuntu 24.04 (ARM) Kernel: Depends on container host Compiler: gcc (Ubuntu 13.3.0-6ubuntu2~24.04) 13.3.0 Ubuntu 22.04 (ARM) Kernel: Depends on container host Compiler: gcc (Ubuntu 11.4.0-1ubuntu1~22.04) 11.4.0 CentOS Stream 9 (ARM) Kernel: Depends on container host Compiler: gcc 11.5.0 20240719 (Red Hat 11.5.0-2) Debian 11 (Buster) (ARM) Kernel: Depends on container host Compiler: gcc (Debian 10.2.1-6) 10.2.1 20210110 Ubuntu 20.04 ARM Clang Cross Compile Kernel: Depends on container host Compiler: clang 10.0.0-4ubuntu1 Debian 12 (arm) Kernel: Depends on container host Compiler: gcc (Debian 12.2.0-14) 12.2.0 Ubuntu 20.04 aarch32 GCC Cross Compile Kernel: Depends on container host Compiler: gcc 9.4.0 To view detailed results, visit: https://lab.dpdk.org/results/dashboard/patchsets/32473/ UNH-IOL DPDK Community Lab To manage your email subscriptions, visit: https://lab.dpdk.org/results/dashboard/preferences/subscriptions/