From mboxrd@z Thu Jan 1 00:00:00 1970 Return-Path: Received: from mails.dpdk.org (mails.dpdk.org [217.70.189.124]) by inbox.dpdk.org (Postfix) with ESMTP id 63AEF4615B for ; Sat, 1 Feb 2025 02:17:47 +0100 (CET) Received: from mails.dpdk.org (localhost [127.0.0.1]) by mails.dpdk.org (Postfix) with ESMTP id 4108D4026B; Sat, 1 Feb 2025 02:17:47 +0100 (CET) Received: from mail-il1-f226.google.com (mail-il1-f226.google.com [209.85.166.226]) by mails.dpdk.org (Postfix) with ESMTP id 2C00C400D7 for ; Sat, 1 Feb 2025 02:17:46 +0100 (CET) Received: by mail-il1-f226.google.com with SMTP id e9e14a558f8ab-3ce915a8a25so9388685ab.1 for ; Fri, 31 Jan 2025 17:17:46 -0800 (PST) DKIM-Signature: v=1; a=rsa-sha256; c=relaxed/relaxed; d=iol.unh.edu; s=unh-iol; t=1738372665; x=1738977465; darn=dpdk.org; h=references:in-reply-to:cc:to:from:subject:message-id:date:from:to :cc:subject:date:message-id:reply-to; bh=ZBxy4pO9oFbGVow76bZy8NYI+fP2H6bp0CiveYesduM=; b=gfA1apuO2/IOccgwlLegZaYuZqNbvvGA8bwygEiygwd2z/flAweLRbxsMeTy3Wy2fi biHAbKYEjTF6KygXTSYyBYvvH7rKQitSCtFdtPbnqJuI+F7/yvlmFz/k9dR0sUq0YKw1 kzJZyOI7uL9saarDKOpWL+mnJ+GJZjGcRgK2w= X-Google-DKIM-Signature: v=1; a=rsa-sha256; c=relaxed/relaxed; d=1e100.net; s=20230601; t=1738372665; x=1738977465; h=references:in-reply-to:cc:to:from:subject:message-id:date :x-gm-message-state:from:to:cc:subject:date:message-id:reply-to; bh=ZBxy4pO9oFbGVow76bZy8NYI+fP2H6bp0CiveYesduM=; b=JhsvvbaPytIdUENxIEbAVIbQouAnbc9DF6BnhNJSUg4DFVbbx0mkN9TPYL+PeymsxJ OyYAxWe/LThgMuQN8l1ZG/lI7nQeTriUr8PyPswjLgaYyHYLIHhwveExrlhdTvb7TexK D7W+Ek6yEwUbOgTnl2klcc87zusw/sAj8tiqfIhydKNN/jKEJCZCTEyhDu41IhhIBe/X 2wjESoMkeUt7394qNy2NzyMnPYg8FshgKEDPXwyigOHBpxBR4veLyWuc2j2BzvSBqqGq nWn0omwQTUU5aT5WtSYVkbnMcbI1Net6mIy9FDlQuGt+cQubgWTGXfX8B4INhlm7ompi we5A== X-Gm-Message-State: AOJu0YxzfTPrgr/QseZu2Ryy56ZQryTPKhZSUOiWDZvqyZ8VVDadH761 OGYtJWGX9QhZ/aGZ5pFGG/5t/0lf/djSbni07xM7Pp9rT6ho7XLjO3+3vmnf3sct93YnNsYMy6x UpA0Wr/U7dvVZSXf5BV59FcC3u7Nf2469MJYyq7HJ X-Gm-Gg: ASbGnctuSo0UTg9J9GUtZhDdKxPiEi4pTJqvM/2MITeJ7LCC3F/1j7xiT8t8YOzfwlY frkBHhM1TpzytCN4Zt/Af6i+pPmIRrH3lGcKcyTwewNQfmE3+ZK/wMgOsv9mIIOMQkCs01l2Bwg /ufzcuAUgAw5z1Rf2JIPKlyvqyLxOdluVi9ZfV4fgiptxZmgWjWV0jx8fxWyeF7LIkTtP2exGiH t9rdDz2JpxToAV4e2ykY/x2A6wGCoEmaHsM24CB2xyzR6qD96wkIZoQbcFHxb9wzSFsiuyKXIt7 mOb0qrk8scTVTONKdu0I8FI9blV+RA== X-Google-Smtp-Source: AGHT+IEm9txbtYeDYw+2APr6tiP4QXFTSW+elIw14MfcP4kIANCJngHc8BmvOCu8VKbbIiSTIwtkWwgI9byL X-Received: by 2002:a05:6e02:2149:b0:3cf:cbac:3ba6 with SMTP id e9e14a558f8ab-3cffe37cef5mr125153725ab.5.1738372665361; Fri, 31 Jan 2025 17:17:45 -0800 (PST) Received: from postal.iol.unh.edu (postal.iol.unh.edu. [132.177.123.84]) by smtp-relay.gmail.com with ESMTPS id e9e14a558f8ab-3d00a503d57sm3196515ab.24.2025.01.31.17.17.45 (version=TLS1_2 cipher=ECDHE-ECDSA-AES128-GCM-SHA256 bits=128/128); Fri, 31 Jan 2025 17:17:45 -0800 (PST) X-Relaying-Domain: iol.unh.edu Date: Fri, 31 Jan 2025 17:17:45 -0800 (PST) Message-ID: <679d7639.050a0220.276a19.1a4dSMTPIN_ADDED_MISSING@mx.google.com> Received: from [172.17.0.5] (unknown [172.18.0.217]) by postal.iol.unh.edu (Postfix) with ESMTP id D5BA46052471; Fri, 31 Jan 2025 20:17:44 -0500 (EST) Subject: |SUCCESS| pw150761-150762 [PATCH] [2/2] dts: rework run-time MTU adj From: dpdklab@iol.unh.edu To: Test Report Cc: dpdk-test-reports@iol.unh.edu In-Reply-To: <20250131193803.168498-3-npratte@iol.unh.edu> References: <20250131193803.168498-3-npratte@iol.unh.edu> Content-Type: text/plain X-BeenThere: test-report@dpdk.org X-Mailman-Version: 2.1.29 Precedence: list List-Id: automatic DPDK test reports List-Unsubscribe: , List-Archive: List-Post: List-Help: List-Subscribe: , Errors-To: test-report-bounces@dpdk.org Test-Label: iol-unit-arm64-testing Test-Status: SUCCESS http://dpdk.org/patch/150762 _Testing PASS_ Submitter: Nicholas Pratte Date: Friday, January 31 2025 19:38:03 DPDK git baseline: Repo:dpdk Branch: master CommitID:75fb46c7ade4a7efaaa02743c4aa450f75ba9468 150761-150762 --> testing pass Upstream job id: Generic-Unit-Test-DPDK#310814 Test environment and result as below: +-----------------------------+----------------+--------------+------------------------------+---------------------------+ | Environment | dpdk_unit_test | lpm_autotest | cryptodev_sw_snow3g_autotest | cryptodev_sw_zuc_autotest | +=============================+================+==============+==============================+===========================+ | Debian 11 (Buster) (ARM) | PASS | SKIPPED | SKIPPED | SKIPPED | +-----------------------------+----------------+--------------+------------------------------+---------------------------+ | CentOS Stream 9 (ARM) | PASS | SKIPPED | SKIPPED | SKIPPED | +-----------------------------+----------------+--------------+------------------------------+---------------------------+ | Debian 12 (arm) | PASS | SKIPPED | PASS | PASS | +-----------------------------+----------------+--------------+------------------------------+---------------------------+ | Fedora 41 (ARM) | PASS | SKIPPED | SKIPPED | SKIPPED | +-----------------------------+----------------+--------------+------------------------------+---------------------------+ | Fedora 40 (ARM) | PASS | SKIPPED | SKIPPED | SKIPPED | +-----------------------------+----------------+--------------+------------------------------+---------------------------+ | Fedora 40 (ARM Clang) | PASS | SKIPPED | SKIPPED | SKIPPED | +-----------------------------+----------------+--------------+------------------------------+---------------------------+ | Ubuntu 22.04 (ARM) | PASS | SKIPPED | SKIPPED | SKIPPED | +-----------------------------+----------------+--------------+------------------------------+---------------------------+ | Fedora 41 (ARM Clang) | PASS | SKIPPED | SKIPPED | SKIPPED | +-----------------------------+----------------+--------------+------------------------------+---------------------------+ | Ubuntu 20.04 (ARM) | PASS | SKIPPED | SKIPPED | SKIPPED | +-----------------------------+----------------+--------------+------------------------------+---------------------------+ | RHEL9 (ARM) | PASS | SKIPPED | SKIPPED | SKIPPED | +-----------------------------+----------------+--------------+------------------------------+---------------------------+ | Ubuntu 24.04 (ARM) | PASS | SKIPPED | SKIPPED | SKIPPED | +-----------------------------+----------------+--------------+------------------------------+---------------------------+ | 32-bit Ubuntu 22.04.4 (ARM) | PASS | SKIPPED | SKIPPED | SKIPPED | +-----------------------------+----------------+--------------+------------------------------+---------------------------+ | Ubuntu 20.04 ARM SVE | SKIPPED | PASS | SKIPPED | SKIPPED | +-----------------------------+----------------+--------------+------------------------------+---------------------------+ Debian 11 (Buster) (ARM) Kernel: Depends on container host Compiler: gcc (Debian 10.2.1-6) 10.2.1 20210110 CentOS Stream 9 (ARM) Kernel: Depends on container host Compiler: gcc 11.5.0 20240719 (Red Hat 11.5.0-2) Debian 12 (arm) Kernel: Depends on container host Compiler: gcc (Debian 12.2.0-14) 12.2.0 Fedora 41 (ARM) Kernel: Depends on container host Compiler: gcc 14.2.1 20240912 (Red Hat 14.2.1-3) Fedora 40 (ARM) Kernel: Depends on container host Compiler: gcc 14.2.1 20240912 (Red Hat 14.2.1-3) Fedora 40 (ARM Clang) Kernel: Depends on container host Compiler: clang 18.1.8 (Fedora 18.1.8-1.fc40) Ubuntu 22.04 (ARM) Kernel: Depends on container host Compiler: gcc (Ubuntu 11.4.0-1ubuntu1~22.04) 11.4.0 Fedora 41 (ARM Clang) Kernel: Depends on container host Compiler: clang 19.1.5 (Fedora 19.1.5-1.fc41) Ubuntu 20.04 (ARM) Kernel: Depends on container host Compiler: gcc (Ubuntu 9.4.0-1ubuntu1~20.04.2) 9.4.0 RHEL9 (ARM) Kernel: Depends on container host Compiler: gcc 11.5.0 20240719 (Red Hat 11.5.0-2) Ubuntu 24.04 (ARM) Kernel: Depends on container host Compiler: gcc (Ubuntu 13.3.0-6ubuntu2~24.04) 13.3.0 32-bit Ubuntu 22.04.4 (ARM) Kernel: 5.15.83+ aarch64 Compiler: gcc (Ubuntu 11.4.0-1ubuntu1~22.04) 11.4.0 Ubuntu 20.04 ARM SVE Kernel: Depends on container host Compiler: gcc (Ubuntu 10.5.0-1ubuntu1~20.04) 10.5.0 To view detailed results, visit: https://lab.dpdk.org/results/dashboard/patchsets/32475/ UNH-IOL DPDK Community Lab To manage your email subscriptions, visit: https://lab.dpdk.org/results/dashboard/preferences/subscriptions/