automatic DPDK test reports
 help / color / mirror / Atom feed
* |PENDING| [GIT MASTER] dc4ce7c2538b713e16887eb598da309bc7b4d528
@ 2025-02-01  1:41 dpdklab
  0 siblings, 0 replies; 3+ messages in thread
From: dpdklab @ 2025-02-01  1:41 UTC (permalink / raw)
  To: Test Report; +Cc: dpdk-test-reports

_Testing pending_

Branch: dpdk

dc4ce7c2538b713e16887eb598da309bc7b4d528 --> testing pending

Upstream job id: Aarch32-Unit-Test#5162

Test environment and result as below:

+-----------------------------+----------------+--------------+---------------------------+------------------------------+
|         Environment         | dpdk_unit_test | lpm_autotest | cryptodev_sw_zuc_autotest | cryptodev_sw_snow3g_autotest |
+=============================+================+==============+===========================+==============================+
| 32-bit Ubuntu 22.04.4 (ARM) | PASS           | SKIPPED      | SKIPPED                   | SKIPPED                      |
+-----------------------------+----------------+--------------+---------------------------+------------------------------+
| CentOS Stream 9 (ARM)       | PEND           | SKIPPED      | SKIPPED                   | SKIPPED                      |
+-----------------------------+----------------+--------------+---------------------------+------------------------------+
| Debian 12 (arm)             | PEND           | SKIPPED      | PEND                      | PEND                         |
+-----------------------------+----------------+--------------+---------------------------+------------------------------+
| Debian 11 (Buster) (ARM)    | PEND           | SKIPPED      | SKIPPED                   | SKIPPED                      |
+-----------------------------+----------------+--------------+---------------------------+------------------------------+
| Fedora 40 (ARM)             | PEND           | SKIPPED      | SKIPPED                   | SKIPPED                      |
+-----------------------------+----------------+--------------+---------------------------+------------------------------+
| Fedora 40 (ARM Clang)       | PEND           | SKIPPED      | SKIPPED                   | SKIPPED                      |
+-----------------------------+----------------+--------------+---------------------------+------------------------------+
| Fedora 41 (ARM)             | PEND           | SKIPPED      | SKIPPED                   | SKIPPED                      |
+-----------------------------+----------------+--------------+---------------------------+------------------------------+
| Fedora 41 (ARM Clang)       | PEND           | SKIPPED      | SKIPPED                   | SKIPPED                      |
+-----------------------------+----------------+--------------+---------------------------+------------------------------+
| RHEL9 (ARM)                 | PEND           | SKIPPED      | SKIPPED                   | SKIPPED                      |
+-----------------------------+----------------+--------------+---------------------------+------------------------------+
| Ubuntu 20.04 (ARM)          | PEND           | SKIPPED      | SKIPPED                   | SKIPPED                      |
+-----------------------------+----------------+--------------+---------------------------+------------------------------+
| Ubuntu 22.04 (ARM)          | PEND           | SKIPPED      | SKIPPED                   | SKIPPED                      |
+-----------------------------+----------------+--------------+---------------------------+------------------------------+
| Ubuntu 24.04 (ARM)          | PEND           | SKIPPED      | SKIPPED                   | SKIPPED                      |
+-----------------------------+----------------+--------------+---------------------------+------------------------------+
| Ubuntu 20.04 ARM SVE        | SKIPPED        | PEND         | SKIPPED                   | SKIPPED                      |
+-----------------------------+----------------+--------------+---------------------------+------------------------------+


32-bit Ubuntu 22.04.4 (ARM)
	Kernel: 5.15.83+ aarch64
	Compiler: gcc (Ubuntu 11.4.0-1ubuntu1~22.04) 11.4.0

CentOS Stream 9 (ARM)
	Kernel: Depends on container host
	Compiler: gcc 11.5.0 20240719 (Red Hat 11.5.0-2)

Debian 12 (arm)
	Kernel: Depends on container host
	Compiler: gcc (Debian 12.2.0-14) 12.2.0

Debian 11 (Buster) (ARM)
	Kernel: Depends on container host
	Compiler: gcc (Debian 10.2.1-6) 10.2.1 20210110

Fedora 40 (ARM)
	Kernel: Depends on container host
	Compiler: gcc 14.2.1 20240912 (Red Hat 14.2.1-3)

Fedora 40 (ARM Clang)
	Kernel: Depends on container host
	Compiler: clang 18.1.8 (Fedora 18.1.8-1.fc40)

Fedora 41 (ARM)
	Kernel: Depends on container host
	Compiler: gcc 14.2.1 20240912 (Red Hat 14.2.1-3)

Fedora 41 (ARM Clang)
	Kernel: Depends on container host
	Compiler: clang 19.1.5 (Fedora 19.1.5-1.fc41)

RHEL9 (ARM)
	Kernel: Depends on container host
	Compiler: gcc 11.5.0 20240719 (Red Hat 11.5.0-2)

Ubuntu 20.04 (ARM)
	Kernel: Depends on container host
	Compiler: gcc (Ubuntu 9.4.0-1ubuntu1~20.04.2) 9.4.0

Ubuntu 22.04 (ARM)
	Kernel: Depends on container host
	Compiler: gcc (Ubuntu 11.4.0-1ubuntu1~22.04) 11.4.0

Ubuntu 24.04 (ARM)
	Kernel: Depends on container host
	Compiler: gcc (Ubuntu 13.3.0-6ubuntu2~24.04) 13.3.0

Ubuntu 20.04 ARM SVE
	Kernel: Depends on container host
	Compiler: gcc (Ubuntu 10.5.0-1ubuntu1~20.04) 10.5.0

To view detailed results, visit:
https://lab.dpdk.org/results/dashboard/tarballs/32411/

UNH-IOL DPDK Community Lab

To manage your email subscriptions, visit: 
https://lab.dpdk.org/results/dashboard/preferences/subscriptions/

^ permalink raw reply	[flat|nested] 3+ messages in thread

* |PENDING| [GIT MASTER] dc4ce7c2538b713e16887eb598da309bc7b4d528
@ 2025-02-01  1:47 dpdklab
  0 siblings, 0 replies; 3+ messages in thread
From: dpdklab @ 2025-02-01  1:47 UTC (permalink / raw)
  To: Test Report; +Cc: dpdk-test-reports

_Testing pending_

Branch: dpdk

dc4ce7c2538b713e16887eb598da309bc7b4d528 --> testing pending

Upstream job id: Generic-DPDK-Compile-Meson#356943

Test environment and result as below:

+------------------------------------+--------------------+
|            Environment             | dpdk_meson_compile |
+====================================+====================+
| RHEL9 (ARM)                        | PEND               |
+------------------------------------+--------------------+
| Ubuntu 20.04 ARM SVE               | PASS               |
+------------------------------------+--------------------+
| Ubuntu 20.04 ARM GCC Cross Compile | PEND               |
+------------------------------------+--------------------+
| Debian 12 with MUSDK               | PEND               |
+------------------------------------+--------------------+
| Fedora 40 (ARM)                    | PEND               |
+------------------------------------+--------------------+
| Fedora 40 (ARM Clang)              | PEND               |
+------------------------------------+--------------------+
| Fedora 41 (ARM)                    | PEND               |
+------------------------------------+--------------------+
| Ubuntu 20.04 (ARM)                 | PEND               |
+------------------------------------+--------------------+


RHEL9 (ARM)
	Kernel: Depends on container host
	Compiler: gcc 11.5.0 20240719 (Red Hat 11.5.0-2)

Ubuntu 20.04 ARM SVE
	Kernel: Depends on container host
	Compiler: gcc (Ubuntu 10.5.0-1ubuntu1~20.04) 10.5.0

Ubuntu 20.04 ARM GCC Cross Compile
	Kernel: Depends on container host
	Compiler: aarch64-linux-gnu-gcc (Ubuntu 9.4.0-1ubuntu1~20.04.2) 9.4.0

Debian 12 with MUSDK
	Kernel: Depends on container host
	Compiler: gcc (Debian 12.2.0-14) 12.2.0

Fedora 40 (ARM)
	Kernel: Depends on container host
	Compiler: gcc 14.2.1 20240912 (Red Hat 14.2.1-3)

Fedora 40 (ARM Clang)
	Kernel: Depends on container host
	Compiler: clang 18.1.8 (Fedora 18.1.8-1.fc40)

Fedora 41 (ARM)
	Kernel: Depends on container host
	Compiler: gcc 14.2.1 20240912 (Red Hat 14.2.1-3)

Ubuntu 20.04 (ARM)
	Kernel: Depends on container host
	Compiler: gcc (Ubuntu 9.4.0-1ubuntu1~20.04.2) 9.4.0

To view detailed results, visit:
https://lab.dpdk.org/results/dashboard/tarballs/32411/

UNH-IOL DPDK Community Lab

To manage your email subscriptions, visit: 
https://lab.dpdk.org/results/dashboard/preferences/subscriptions/

^ permalink raw reply	[flat|nested] 3+ messages in thread

* |PENDING| [GIT MASTER] dc4ce7c2538b713e16887eb598da309bc7b4d528
@ 2025-02-01  1:26 dpdklab
  0 siblings, 0 replies; 3+ messages in thread
From: dpdklab @ 2025-02-01  1:26 UTC (permalink / raw)
  To: Test Report; +Cc: dpdk-test-reports

_Testing pending_

Branch: dpdk

dc4ce7c2538b713e16887eb598da309bc7b4d528 --> testing pending

Upstream job id: Generic-DPDK-Compile-ABI#114423

Test environment and result as below:

+-------------------+----------+
|    Environment    | abi_test |
+===================+==========+
| Debian Bullseye   | PEND     |
+-------------------+----------+
| CentOS Stream 9   | PEND     |
+-------------------+----------+
| Fedora 41 (Clang) | PEND     |
+-------------------+----------+
| Fedora 40 (Clang) | PEND     |
+-------------------+----------+
| Debian 12         | PEND     |
+-------------------+----------+
| Fedora 40         | PEND     |
+-------------------+----------+
| Fedora 41         | PEND     |
+-------------------+----------+
| RHEL8             | PEND     |
+-------------------+----------+
| RHEL9             | PEND     |
+-------------------+----------+
| openSUSE Leap 15  | PASS     |
+-------------------+----------+
| Ubuntu 22.04      | PEND     |
+-------------------+----------+
| Ubuntu 24.04      | PEND     |
+-------------------+----------+
| Arch Linux        | PEND     |
+-------------------+----------+


Debian Bullseye
	Kernel: Depends on container host
	Compiler: gcc (Debian 10.2.1-6) 10.2.1 20210110

CentOS Stream 9
	Kernel: Depends on container host
	Compiler: gcc 11.5.0 20240719 (Red Hat 11.5.0-2)

Fedora 41 (Clang)
	Kernel: Depends on container host
	Compiler: clang 19.1.5 (Fedora 19.1.5-1.fc41)

Fedora 40 (Clang)
	Kernel: Depends on container host
	Compiler: clang 18.1.8 (Fedora 18.1.8-1.fc40)

Debian 12
	Kernel: Depends on container host
	Compiler: gcc (Debian 12.2.0-14) 12.2.0

Fedora 40
	Kernel: Depends on container host
	Compiler: gcc 14.2.1 20240912 (Red Hat 14.2.1-3)

Fedora 41
	Kernel: Depends on container host
	Compiler: gcc 14.2.1 20240912 (Red Hat 14.2.1-3)

RHEL8
	Kernel: Depends on container host
	Compiler: gcc 8.5.0 20210514 (Red Hat 8.5.0-22)

RHEL9
	Kernel: Depends on container host
	Compiler: gcc 11.5.0 20240719 (Red Hat 11.5.0-2)

openSUSE Leap 15
	Kernel: Depends on container host
	Compiler: gcc (SUSE Linux) 7.5.0

Ubuntu 22.04
	Kernel: Depends on container host
	Compiler: gcc (Ubuntu 11.4.0-1ubuntu1~22.04) 11.4.0

Ubuntu 24.04
	Kernel: Depends on container host
	Compiler: gcc (Ubuntu 13.3.0-6ubuntu2~24.04) 13.3.0

Arch Linux
	Kernel: Depends on container host
	Compiler: gcc 14.2.1 20240910

To view detailed results, visit:
https://lab.dpdk.org/results/dashboard/tarballs/32411/

UNH-IOL DPDK Community Lab

To manage your email subscriptions, visit: 
https://lab.dpdk.org/results/dashboard/preferences/subscriptions/

^ permalink raw reply	[flat|nested] 3+ messages in thread

end of thread, other threads:[~2025-02-01  1:47 UTC | newest]

Thread overview: 3+ messages (download: mbox.gz / follow: Atom feed)
-- links below jump to the message on this page --
2025-02-01  1:41 |PENDING| [GIT MASTER] dc4ce7c2538b713e16887eb598da309bc7b4d528 dpdklab
  -- strict thread matches above, loose matches on Subject: below --
2025-02-01  1:47 dpdklab
2025-02-01  1:26 dpdklab

This is a public inbox, see mirroring instructions
for how to clone and mirror all data and code used for this inbox;
as well as URLs for NNTP newsgroup(s).