From mboxrd@z Thu Jan 1 00:00:00 1970 Return-Path: Received: from mails.dpdk.org (mails.dpdk.org [217.70.189.124]) by inbox.dpdk.org (Postfix) with ESMTP id 6A1444615B for ; Sat, 1 Feb 2025 02:56:12 +0100 (CET) Received: from mails.dpdk.org (localhost [127.0.0.1]) by mails.dpdk.org (Postfix) with ESMTP id 3241B400EF; Sat, 1 Feb 2025 02:56:12 +0100 (CET) Received: from mail-yb1-f226.google.com (mail-yb1-f226.google.com [209.85.219.226]) by mails.dpdk.org (Postfix) with ESMTP id 333E1400D7 for ; Sat, 1 Feb 2025 02:56:11 +0100 (CET) Received: by mail-yb1-f226.google.com with SMTP id 3f1490d57ef6-e39779a268bso2675213276.1 for ; Fri, 31 Jan 2025 17:56:11 -0800 (PST) DKIM-Signature: v=1; a=rsa-sha256; c=relaxed/relaxed; d=iol.unh.edu; s=unh-iol; t=1738374970; x=1738979770; darn=dpdk.org; h=references:in-reply-to:cc:to:from:subject:message-id:date:from:to :cc:subject:date:message-id:reply-to; bh=AlC2NQD+mMFiAd7yUQvgsDrsgCbeKTjSL4JHoL21cBE=; b=X5GaY0PuOVWujwdGTqL0c5H9aerEaqKVSrpQQl5m8Vx6XS13WpS6WiRKqpY0X+OJ1w ADw+iSrhklh4shCvBStwXY7bj0K/nNkyqe0b49nPt4DHnAk5eKd4np3r8hfwVuTCVk/d SpErAv9Ojw3SyaToUPHgneFVSLno1NJhefgTM= X-Google-DKIM-Signature: v=1; a=rsa-sha256; c=relaxed/relaxed; d=1e100.net; s=20230601; t=1738374970; x=1738979770; h=references:in-reply-to:cc:to:from:subject:message-id:date :x-gm-message-state:from:to:cc:subject:date:message-id:reply-to; bh=AlC2NQD+mMFiAd7yUQvgsDrsgCbeKTjSL4JHoL21cBE=; b=A3HiEJNbarbG6pZW+tPhZOd2zKHoHCj5H6JGzHrRbKJM/joaMoRsrL0vL9QicWd6Vc L7pc5e2BBxaYan/WtUW7gjnLfKRHgU0yCAglzV2YmChYGAUJKQZOsk/8lO8W/IRLwJxZ Yy+czF0F8qExvP/FdoS4dDgo2zKqgkqqP1r7+6NzEJR1XtKSF+qXIZTi1uT0mHb3BykY Vw7xo7fBNda1MGIVRs4BMU3gbaY2+1JMXS7u1/f4L/msCVoAiPFHHnQC7JNSYV81GIzs zFkTyiUuGRuAGBvIl6w+VZRtDqxtgFS1PUdwtsermdQ8NIHszAYySmR6ItUg4LPNu+8i oxmQ== X-Gm-Message-State: AOJu0YzwO52OFU2A6llkWsgy1OIC0HSf2e3JDvlA3zH0EhetAiLy/z39 I+ihOt3AcFj7f5Yrsd7GSdarU2cnwlh5/1bF3L++UlXDh/z+qMUljQz1/gV6QZ5+it3p7u4GIKl sxDWOvprNG+C19uiL97rw3zE8uuHzMWGgyUmsl8V6 X-Gm-Gg: ASbGncvXU88X0Eu9ogFTao+V0iXIfGteI2BpEsVRwUBDSQrm8yiEb0VYJpMa3aIDeDA 1nPjBOcy9w+ZBNERsCJJV6Saq4nu26/ucnCny7rOtP6oP1Rz8Zhpx2xBrMsac8vJO91Cdeu4hD6 IN/gd7ETaCiYR09b2KcZrThmVyQL4KrI9xEEQfKCK+xdaa8Rk/fI9z3gfk5el7KRAhNURVaaG4k aSW2GWzTBiH8Rpe0Dvd0yWJsHtHcKZ4nEAjKrefooonORrzDjiOCXJommy8JXCnsYSjJ3bep1bc HixBOaEGAPwJbAIGxA2bETxbaHuH5w== X-Google-Smtp-Source: AGHT+IEX6wAZHsGzwUcWAmyziJEnz9IfdfE01oGiu7AUiaCYdgJUn+e9McLMsUBHhf1bwINnPnjek9hW+UIn X-Received: by 2002:a05:6902:991:b0:e38:86ea:eff8 with SMTP id 3f1490d57ef6-e5ad88badeemr5272246276.0.1738374970481; Fri, 31 Jan 2025 17:56:10 -0800 (PST) Received: from postal.iol.unh.edu (postal.iol.unh.edu. [132.177.123.84]) by smtp-relay.gmail.com with ESMTPS id 3f1490d57ef6-e5acb2472b5sm253339276.1.2025.01.31.17.56.10 (version=TLS1_2 cipher=ECDHE-ECDSA-AES128-GCM-SHA256 bits=128/128); Fri, 31 Jan 2025 17:56:10 -0800 (PST) X-Relaying-Domain: iol.unh.edu Date: Fri, 31 Jan 2025 17:56:10 -0800 (PST) Message-ID: <679d7f3a.250a0220.25b5b0.e2bbSMTPIN_ADDED_MISSING@mx.google.com> Received: from [172.21.0.6] (unknown [172.18.0.240]) by postal.iol.unh.edu (Postfix) with ESMTP id 1ED946052471; Fri, 31 Jan 2025 20:56:10 -0500 (EST) Subject: |SUCCESS| pw150758-150760 [PATCH] [3/3] dts: bump up fabric version From: dpdklab@iol.unh.edu To: Test Report Cc: dpdk-test-reports@iol.unh.edu In-Reply-To: <20250131191924.1936157-4-luca.vizzarro@arm.com> References: <20250131191924.1936157-4-luca.vizzarro@arm.com> Content-Type: text/plain X-BeenThere: test-report@dpdk.org X-Mailman-Version: 2.1.29 Precedence: list List-Id: automatic DPDK test reports List-Unsubscribe: , List-Archive: List-Post: List-Help: List-Subscribe: , Errors-To: test-report-bounces@dpdk.org Test-Label: iol-compile-arm64-testing Test-Status: SUCCESS http://dpdk.org/patch/150760 _Testing PASS_ Submitter: Luca Vizzarro Date: Friday, January 31 2025 19:19:24 DPDK git baseline: Repo:dpdk Branch: master CommitID:75fb46c7ade4a7efaaa02743c4aa450f75ba9468 150758-150760 --> testing pass Upstream job id: Generic-DPDK-Compile-Meson#356915 Test environment and result as below: +----------------------------------------+--------------------+ | Environment | dpdk_meson_compile | +========================================+====================+ | RHEL9 (ARM) | PASS | +----------------------------------------+--------------------+ | Ubuntu 20.04 ARM GCC Cross Compile | PASS | +----------------------------------------+--------------------+ | Ubuntu 20.04 ARM SVE | PASS | +----------------------------------------+--------------------+ | Debian 12 with MUSDK | PASS | +----------------------------------------+--------------------+ | Fedora 40 (ARM) | PASS | +----------------------------------------+--------------------+ | Fedora 41 (ARM) | PASS | +----------------------------------------+--------------------+ | Fedora 41 (ARM Clang) | PASS | +----------------------------------------+--------------------+ | Ubuntu 20.04 (ARM) | PASS | +----------------------------------------+--------------------+ | Ubuntu 22.04 (ARM) | PASS | +----------------------------------------+--------------------+ | Ubuntu 24.04 (ARM) | PASS | +----------------------------------------+--------------------+ | CentOS Stream 9 (ARM) | PASS | +----------------------------------------+--------------------+ | Debian 11 (Buster) (ARM) | PASS | +----------------------------------------+--------------------+ | Debian 12 (arm) | PASS | +----------------------------------------+--------------------+ | Ubuntu 20.04 ARM Clang Cross Compile | PASS | +----------------------------------------+--------------------+ | Ubuntu 20.04 aarch32 GCC Cross Compile | PASS | +----------------------------------------+--------------------+ | Fedora 40 (ARM Clang) | PASS | +----------------------------------------+--------------------+ RHEL9 (ARM) Kernel: Depends on container host Compiler: gcc 11.5.0 20240719 (Red Hat 11.5.0-2) Ubuntu 20.04 ARM GCC Cross Compile Kernel: Depends on container host Compiler: aarch64-linux-gnu-gcc (Ubuntu 9.4.0-1ubuntu1~20.04.2) 9.4.0 Ubuntu 20.04 ARM SVE Kernel: Depends on container host Compiler: gcc (Ubuntu 10.5.0-1ubuntu1~20.04) 10.5.0 Debian 12 with MUSDK Kernel: Depends on container host Compiler: gcc (Debian 12.2.0-14) 12.2.0 Fedora 40 (ARM) Kernel: Depends on container host Compiler: gcc 14.2.1 20240912 (Red Hat 14.2.1-3) Fedora 41 (ARM) Kernel: Depends on container host Compiler: gcc 14.2.1 20240912 (Red Hat 14.2.1-3) Fedora 41 (ARM Clang) Kernel: Depends on container host Compiler: clang 19.1.5 (Fedora 19.1.5-1.fc41) Ubuntu 20.04 (ARM) Kernel: Depends on container host Compiler: gcc (Ubuntu 9.4.0-1ubuntu1~20.04.2) 9.4.0 Ubuntu 22.04 (ARM) Kernel: Depends on container host Compiler: gcc (Ubuntu 11.4.0-1ubuntu1~22.04) 11.4.0 Ubuntu 24.04 (ARM) Kernel: Depends on container host Compiler: gcc (Ubuntu 13.3.0-6ubuntu2~24.04) 13.3.0 CentOS Stream 9 (ARM) Kernel: Depends on container host Compiler: gcc 11.5.0 20240719 (Red Hat 11.5.0-2) Debian 11 (Buster) (ARM) Kernel: Depends on container host Compiler: gcc (Debian 10.2.1-6) 10.2.1 20210110 Debian 12 (arm) Kernel: Depends on container host Compiler: gcc (Debian 12.2.0-14) 12.2.0 Ubuntu 20.04 ARM Clang Cross Compile Kernel: Depends on container host Compiler: clang 10.0.0-4ubuntu1 Ubuntu 20.04 aarch32 GCC Cross Compile Kernel: Depends on container host Compiler: gcc 9.4.0 Fedora 40 (ARM Clang) Kernel: Depends on container host Compiler: clang 18.1.8 (Fedora 18.1.8-1.fc40) To view detailed results, visit: https://lab.dpdk.org/results/dashboard/patchsets/32474/ UNH-IOL DPDK Community Lab To manage your email subscriptions, visit: https://lab.dpdk.org/results/dashboard/preferences/subscriptions/