From mboxrd@z Thu Jan 1 00:00:00 1970 Return-Path: Received: from mails.dpdk.org (mails.dpdk.org [217.70.189.124]) by inbox.dpdk.org (Postfix) with ESMTP id A41EA4615B for ; Sat, 1 Feb 2025 03:08:28 +0100 (CET) Received: from mails.dpdk.org (localhost [127.0.0.1]) by mails.dpdk.org (Postfix) with ESMTP id 7B15D400EF; Sat, 1 Feb 2025 03:08:28 +0100 (CET) Received: from mail-pj1-f100.google.com (mail-pj1-f100.google.com [209.85.216.100]) by mails.dpdk.org (Postfix) with ESMTP id 836E0400D7 for ; Sat, 1 Feb 2025 03:08:27 +0100 (CET) Received: by mail-pj1-f100.google.com with SMTP id 98e67ed59e1d1-2ee50ffcf14so5849297a91.0 for ; Fri, 31 Jan 2025 18:08:27 -0800 (PST) DKIM-Signature: v=1; a=rsa-sha256; c=relaxed/relaxed; d=iol.unh.edu; s=unh-iol; t=1738375706; x=1738980506; darn=dpdk.org; h=cc:to:from:subject:message-id:date:from:to:cc:subject:date :message-id:reply-to; bh=btN0A3OSRwL4unv9gRVnBviQepVeIjwv9vMtnigqDhE=; b=VeInftQjgAF9PjG1hnS6kM5Qf18Iy7y2Vswea7PVdzJuOGDxqc8+8UpDTzELrUn/I9 1bF0Pnx0nXtSNMWyHvgQS659cDS1vgyt9YPFDUvTY5gA/FqtQi2p7/mrauMxVGHgAT1Z OPJjCaqeZ2dOQ+p78NXYLV6p/4R1pP3m2Hvxg= X-Google-DKIM-Signature: v=1; a=rsa-sha256; c=relaxed/relaxed; d=1e100.net; s=20230601; t=1738375706; x=1738980506; h=cc:to:from:subject:message-id:date:x-gm-message-state:from:to:cc :subject:date:message-id:reply-to; bh=btN0A3OSRwL4unv9gRVnBviQepVeIjwv9vMtnigqDhE=; b=VVFEBND1QE8JajGS5P66z6K1V5pVHNjF6T6VpDhaN3Q3q1uSUecS4Fc6Odc7vq5DVH gxgUyDMsNnQFbYDSEIZ80ZopppU3biAzNPoUUUmZGho6Co9QfaooPrz2S7U1aEua3xWR c443P7JqZo/gpwdzcDLSXbMwcvPVINIqkJM4tILmGuFvIBgzNmj6KTJHjqIbhMdpwyxH Z3jQXQ5ZEbF4xJ7PzkRZukOrImh0xyBRk/avOxd4uNpQ+ldZT55iZzWes+Mz9CeZ+DPn bDGcBBbCYeJC0RAHo7zDvlsNK+J4NiKTAMFtzAJt9w+TwgCUcDL2rzY+Uzhub6YgzKOe BtDw== X-Gm-Message-State: AOJu0YwRdms4xBXRbxY/rmlO9JpeXtsw0bNGGGPJ+ilRoPEyHpFNrSXg IApeOxXfW1TEoumRWT+i8ICsHsMVj816hX3nzlN0CGmESEp9TSsOh/IQ/XGhxEDn1/hNJ9wcjEG 8CmNI2MqS54No//AoDdB6xmDmOh4e+bIIXQAk4lGQnz6dxRIf2pOcrzoc X-Gm-Gg: ASbGncuwXVXerlqpHBxHnMI//Tyo0wr1SueD2IApn0V6zmFHQx4IYOhTadDM9q3AxjB ZSjHckA62OraNfKeQfDbVd6sscJqRY2JgamcvwlCI829eLjVINreWFUyQER5L/1IrQ9duZqGS8i d8bGNonKi33NkW9tzN6mAGxYKDOKj/xMz85wRwO+Fp7VJc4XDg2+SXmQojh8tFn3f0hLRHf5UHi pYrb40owakeLmy6AVA/ovP4SRiSaj4wXUvH/4G8dwnTvg0p7gRbF/MzcX8apuZXXcGBu5n9GWSV 9vE9gOMpg3ePL+gvCub/Q/tTOJ/OYw0F7vQpYMPRtg== X-Google-Smtp-Source: AGHT+IH4RfboRDOm6n48zC6YT1fzulb9/Jwv7KJ1QqO/GaEitM79XEQz7YQzGjeRB3dGDEv/KlwzFjwiKqLa X-Received: by 2002:a17:90b:2c8b:b0:2ef:e063:b3f8 with SMTP id 98e67ed59e1d1-2f994e50115mr8513284a91.7.1738375706547; Fri, 31 Jan 2025 18:08:26 -0800 (PST) Received: from postal.iol.unh.edu (postal.iol.unh.edu. [2606:4100:3880:1234::84]) by smtp-relay.gmail.com with ESMTPS id d9443c01a7336-21de334642csm1724855ad.106.2025.01.31.18.08.26 (version=TLS1_2 cipher=ECDHE-ECDSA-AES128-GCM-SHA256 bits=128/128); Fri, 31 Jan 2025 18:08:26 -0800 (PST) X-Relaying-Domain: iol.unh.edu Date: Fri, 31 Jan 2025 18:08:26 -0800 (PST) Message-ID: <679d821a.170a0220.2fb52f.904bSMTPIN_ADDED_MISSING@mx.google.com> Received: from [172.17.0.4] (unknown [172.18.0.217]) by postal.iol.unh.edu (Postfix) with ESMTP id 9CDE66052471; Fri, 31 Jan 2025 21:08:25 -0500 (EST) Subject: |SUCCESS| [GIT MASTER] dc4ce7c2538b713e16887eb598da309bc7b4d528 From: dpdklab@iol.unh.edu To: Test Report Cc: dpdk-test-reports@iol.unh.edu Content-Type: text/plain X-BeenThere: test-report@dpdk.org X-Mailman-Version: 2.1.29 Precedence: list List-Id: automatic DPDK test reports List-Unsubscribe: , List-Archive: List-Post: List-Help: List-Subscribe: , Errors-To: test-report-bounces@dpdk.org _Testing PASS_ Branch: dpdk dc4ce7c2538b713e16887eb598da309bc7b4d528 --> testing pass Upstream job id: Generic-Unit-Test-DPDK#310865 Test environment and result as below: +---------------------+----------------+ | Environment | dpdk_unit_test | +=====================+================+ | Arch Linux | PASS | +---------------------+----------------+ | CentOS Stream 9 | PASS | +---------------------+----------------+ | Debian Bullseye | PASS | +---------------------+----------------+ | Fedora 40 | PASS | +---------------------+----------------+ | Debian 12 | PASS | +---------------------+----------------+ | Ubuntu 20.04 | PASS | +---------------------+----------------+ | RHEL8 | PASS | +---------------------+----------------+ | Fedora 40 (Clang) | PASS | +---------------------+----------------+ | Fedora 41 | PASS | +---------------------+----------------+ | RHEL9 | PASS | +---------------------+----------------+ | Fedora 41 (Clang) | PASS | +---------------------+----------------+ | Ubuntu 22.04 | PASS | +---------------------+----------------+ | Ubuntu 24.04 | PASS | +---------------------+----------------+ | Windows Server 2022 | PASS | +---------------------+----------------+ Arch Linux Kernel: Depends on container host Compiler: gcc 14.2.1 20240910 CentOS Stream 9 Kernel: Depends on container host Compiler: gcc 11.5.0 20240719 (Red Hat 11.5.0-2) Debian Bullseye Kernel: Depends on container host Compiler: gcc (Debian 10.2.1-6) 10.2.1 20210110 Fedora 40 Kernel: Depends on container host Compiler: gcc 14.2.1 20240912 (Red Hat 14.2.1-3) Debian 12 Kernel: Depends on container host Compiler: gcc (Debian 12.2.0-14) 12.2.0 Ubuntu 20.04 Kernel: Depends on container host Compiler: gcc (Ubuntu 9.4.0-1ubuntu1~20.04.2) 9.4.0 RHEL8 Kernel: Depends on container host Compiler: gcc 8.5.0 20210514 (Red Hat 8.5.0-22) Fedora 40 (Clang) Kernel: Depends on container host Compiler: clang 18.1.8 (Fedora 18.1.8-1.fc40) Fedora 41 Kernel: Depends on container host Compiler: gcc 14.2.1 20240912 (Red Hat 14.2.1-3) RHEL9 Kernel: Depends on container host Compiler: gcc 11.5.0 20240719 (Red Hat 11.5.0-2) Fedora 41 (Clang) Kernel: Depends on container host Compiler: clang 19.1.5 (Fedora 19.1.5-1.fc41) Ubuntu 22.04 Kernel: Depends on container host Compiler: gcc (Ubuntu 11.4.0-1ubuntu1~22.04) 11.4.0 Ubuntu 24.04 Kernel: Depends on container host Compiler: gcc (Ubuntu 13.3.0-6ubuntu2~24.04) 13.3.0 Windows Server 2022 Kernel: 10.0.20348.2031 Compiler: clang 15.0.7, gcc 14.1.0 (MinGW), and MSVC VS 19.39.33521 To view detailed results, visit: https://lab.dpdk.org/results/dashboard/tarballs/32411/ UNH-IOL DPDK Community Lab To manage your email subscriptions, visit: https://lab.dpdk.org/results/dashboard/preferences/subscriptions/