From mboxrd@z Thu Jan 1 00:00:00 1970 Return-Path: Received: from mails.dpdk.org (mails.dpdk.org [217.70.189.124]) by inbox.dpdk.org (Postfix) with ESMTP id 19E564615B for ; Sat, 1 Feb 2025 03:25:02 +0100 (CET) Received: from mails.dpdk.org (localhost [127.0.0.1]) by mails.dpdk.org (Postfix) with ESMTP id 01298400EF; Sat, 1 Feb 2025 03:25:02 +0100 (CET) Received: from mail-io1-f99.google.com (mail-io1-f99.google.com [209.85.166.99]) by mails.dpdk.org (Postfix) with ESMTP id 2909A400D7 for ; Sat, 1 Feb 2025 03:25:00 +0100 (CET) Received: by mail-io1-f99.google.com with SMTP id ca18e2360f4ac-84a1ce51187so77666939f.1 for ; Fri, 31 Jan 2025 18:25:00 -0800 (PST) DKIM-Signature: v=1; a=rsa-sha256; c=relaxed/relaxed; d=iol.unh.edu; s=unh-iol; t=1738376699; x=1738981499; darn=dpdk.org; h=cc:to:from:subject:message-id:date:from:to:cc:subject:date :message-id:reply-to; bh=Vx/RUV7iCwQbZpCcnnGnJZjjJLe3eByaqR/k2sqjsUY=; b=H1jL1jBPhLQagZHvQ7osbY1gic7XAAKSWXAXqYJw3rjxmVZ/ZILLYvgrQQnMYFYZAd ZZFN3HJGSq/J7LCAG30Ax2gGh1kDauggkOADC+NI9U9mfd6VCQh/Iz9Qu2SdeBoYuvDR k1Vac6XSPeFi8Wipinzpy6D/ViDQoJ/kPx62s= X-Google-DKIM-Signature: v=1; a=rsa-sha256; c=relaxed/relaxed; d=1e100.net; s=20230601; t=1738376699; x=1738981499; h=cc:to:from:subject:message-id:date:x-gm-message-state:from:to:cc :subject:date:message-id:reply-to; bh=Vx/RUV7iCwQbZpCcnnGnJZjjJLe3eByaqR/k2sqjsUY=; b=uOfd40O2O/G7yjOLdCjhl30AWdouoEyxaGEsL8r1+hnjvZv4vtROO1Fh/hXf0GWi2K VEAHGMfLaeQC7mk2q2WsULc3ZLsVquEJN9tQfdwZLbSavrhfCjRIQDbmDXlWcjNBOeVC e6LOev7jb1swEP+l+235cjfIV9LQP6ELF+vFfJJM4BzGqKOSx/df860ymNXGbRVGtsKm +2XLCHfJUKHC12LPY1q9FPnC/nwFTUwUfZllPZrN6gc4xGXmpAh4QIKrUePOZyx4dTL0 GqRm6C8VMtghBCuuh+bGN1zhix7yU/KGWPw7CBOw2s1s2D3sa1QE6J8rMTezZ5qgvtIu 8PEQ== X-Gm-Message-State: AOJu0YyqTLK6qa0rVX6sjedG3mfTQJhD0Z+YyvCORjSY4IoMCitNa6gy myNuPSK996qA0dHyw0yoc4B2riWR2P9qOLRpACSvuye5L4sLErz+KIufdgwfsbZH2hPY48KY9Gy oHK74TkZ7asG28xCDgG1Gja151H08Q/cSfgIp9KkM X-Gm-Gg: ASbGncuPLIFIpIr9KwdZqr7mxRbGruEcTNFa6jGN/ND+Hm84WhZRplmSB6ILPb/Chns pK7TGyrNZ4sEnlXnzfaK5hB7BQXmU5qSZWtFhUaDhOZd42isEAC5+DRc6UIP9Qa9q23qrzHEBeJ SF7HqTTzc1hxz5B8P1RXBjo1F/bB3uFFXMliNbfB/srfhhqx4tSeCNGWnC6mp50S5vQy+2p8vY+ iOSfbA/VDPK5b/ag1qDwgVHfnUfFWI/MIbgsQKHMWR5LwAxvCcGs6cyPmLfTpbxJOtuY6mMhHE3 tfE/R0IWfS8cIQGxisFPXvfYF/uHNw== X-Google-Smtp-Source: AGHT+IG14lVo98sPOReh9TatxLBvGaI7RPzLs1dkoeg6u76SP+M+QF3nGnlhlqqUpEkKU9ENatYwYPilG5FR X-Received: by 2002:a05:6602:3d6:b0:843:f261:60e0 with SMTP id ca18e2360f4ac-85427e05892mr1458484139f.5.1738376699484; Fri, 31 Jan 2025 18:24:59 -0800 (PST) Received: from postal.iol.unh.edu (postal.iol.unh.edu. [132.177.123.84]) by smtp-relay.gmail.com with ESMTPS id ca18e2360f4ac-854a15b93dbsm27322539f.3.2025.01.31.18.24.59 (version=TLS1_2 cipher=ECDHE-ECDSA-AES128-GCM-SHA256 bits=128/128); Fri, 31 Jan 2025 18:24:59 -0800 (PST) X-Relaying-Domain: iol.unh.edu Date: Fri, 31 Jan 2025 18:24:59 -0800 (PST) Message-ID: <679d85fb.050a0220.3036d4.f793SMTPIN_ADDED_MISSING@mx.google.com> Received: from [172.17.0.4] (unknown [172.18.0.217]) by postal.iol.unh.edu (Postfix) with ESMTP id A60AB6052471; Fri, 31 Jan 2025 21:24:58 -0500 (EST) Subject: |SUCCESS| [GIT MASTER] dc4ce7c2538b713e16887eb598da309bc7b4d528 From: dpdklab@iol.unh.edu To: Test Report Cc: dpdk-test-reports@iol.unh.edu Content-Type: text/plain X-BeenThere: test-report@dpdk.org X-Mailman-Version: 2.1.29 Precedence: list List-Id: automatic DPDK test reports List-Unsubscribe: , List-Archive: List-Post: List-Help: List-Subscribe: , Errors-To: test-report-bounces@dpdk.org _Testing PASS_ Branch: dpdk dc4ce7c2538b713e16887eb598da309bc7b4d528 --> testing pass Upstream job id: Generic-DPDK-Compile-ABI#114422 Test environment and result as below: +-------------------+----------+ | Environment | abi_test | +===================+==========+ | Debian Bullseye | PASS | +-------------------+----------+ | CentOS Stream 9 | PASS | +-------------------+----------+ | Fedora 41 (Clang) | PASS | +-------------------+----------+ | Fedora 40 (Clang) | PASS | +-------------------+----------+ | Debian 12 | PASS | +-------------------+----------+ | Fedora 40 | PASS | +-------------------+----------+ | Fedora 41 | PASS | +-------------------+----------+ | RHEL8 | PASS | +-------------------+----------+ | RHEL9 | PASS | +-------------------+----------+ | openSUSE Leap 15 | PASS | +-------------------+----------+ | Ubuntu 22.04 | PASS | +-------------------+----------+ | Ubuntu 24.04 | PASS | +-------------------+----------+ | Arch Linux | PASS | +-------------------+----------+ Debian Bullseye Kernel: Depends on container host Compiler: gcc (Debian 10.2.1-6) 10.2.1 20210110 CentOS Stream 9 Kernel: Depends on container host Compiler: gcc 11.5.0 20240719 (Red Hat 11.5.0-2) Fedora 41 (Clang) Kernel: Depends on container host Compiler: clang 19.1.5 (Fedora 19.1.5-1.fc41) Fedora 40 (Clang) Kernel: Depends on container host Compiler: clang 18.1.8 (Fedora 18.1.8-1.fc40) Debian 12 Kernel: Depends on container host Compiler: gcc (Debian 12.2.0-14) 12.2.0 Fedora 40 Kernel: Depends on container host Compiler: gcc 14.2.1 20240912 (Red Hat 14.2.1-3) Fedora 41 Kernel: Depends on container host Compiler: gcc 14.2.1 20240912 (Red Hat 14.2.1-3) RHEL8 Kernel: Depends on container host Compiler: gcc 8.5.0 20210514 (Red Hat 8.5.0-22) RHEL9 Kernel: Depends on container host Compiler: gcc 11.5.0 20240719 (Red Hat 11.5.0-2) openSUSE Leap 15 Kernel: Depends on container host Compiler: gcc (SUSE Linux) 7.5.0 Ubuntu 22.04 Kernel: Depends on container host Compiler: gcc (Ubuntu 11.4.0-1ubuntu1~22.04) 11.4.0 Ubuntu 24.04 Kernel: Depends on container host Compiler: gcc (Ubuntu 13.3.0-6ubuntu2~24.04) 13.3.0 Arch Linux Kernel: Depends on container host Compiler: gcc 14.2.1 20240910 To view detailed results, visit: https://lab.dpdk.org/results/dashboard/tarballs/32411/ UNH-IOL DPDK Community Lab To manage your email subscriptions, visit: https://lab.dpdk.org/results/dashboard/preferences/subscriptions/