From mboxrd@z Thu Jan 1 00:00:00 1970 Return-Path: Received: from mails.dpdk.org (mails.dpdk.org [217.70.189.124]) by inbox.dpdk.org (Postfix) with ESMTP id 87B3A4615B for ; Sat, 1 Feb 2025 03:31:27 +0100 (CET) Received: from mails.dpdk.org (localhost [127.0.0.1]) by mails.dpdk.org (Postfix) with ESMTP id 92988400EF; Sat, 1 Feb 2025 03:31:26 +0100 (CET) Received: from mail-qv1-f99.google.com (mail-qv1-f99.google.com [209.85.219.99]) by mails.dpdk.org (Postfix) with ESMTP id 83B0A400D7 for ; Sat, 1 Feb 2025 03:31:24 +0100 (CET) Received: by mail-qv1-f99.google.com with SMTP id 6a1803df08f44-6d8e773ad77so19546206d6.2 for ; Fri, 31 Jan 2025 18:31:24 -0800 (PST) DKIM-Signature: v=1; a=rsa-sha256; c=relaxed/relaxed; d=iol.unh.edu; s=unh-iol; t=1738377084; x=1738981884; darn=dpdk.org; h=references:in-reply-to:cc:to:from:subject:message-id:date:from:to :cc:subject:date:message-id:reply-to; bh=Y8+xD3ooBuKlz0nMfweMmj8HlAnG6R/OBurpjJlL4q8=; b=KsJ+ABeIDioGb/neRjfU9r+g3sZBSqFvyeBFtlKykXbdXbYEqNlDqfaQQpHqcLAhLj kUWzm0i6fuLl2R9joX0wRcigBYMR6J8G21FSJkVbaXFI/8R/r3CO4FPUvAqrnx8rBoEL NAJEOoeoPMjkU3cNRlzY3jefgxBuMXqrDQm7w= X-Google-DKIM-Signature: v=1; a=rsa-sha256; c=relaxed/relaxed; d=1e100.net; s=20230601; t=1738377084; x=1738981884; h=references:in-reply-to:cc:to:from:subject:message-id:date :x-gm-message-state:from:to:cc:subject:date:message-id:reply-to; bh=Y8+xD3ooBuKlz0nMfweMmj8HlAnG6R/OBurpjJlL4q8=; b=hHb0RJeSiIfF2HLquGChr/N4yMoKku4gcpWmkpHUV3MI95C00UDSU+dG0OlB3n7Vpo jbC6cC8CwD/I3U7q+mjtn7i8X8zEjPoNChkL2NXQwxOXnpi60UlRus++GfUmwi0yAKBy VPXpltLkmHutT6rSqk34tq8A7lNfeMTjZjdRw4K1h9qykDe6usa8lZKc4rPBhcUz/1+x CWgYr6soshvrVCw6SoU2+QOH4wj5MUR8aIWkZI+EjcUTApd6OgKkuXhjguzJc6KAr7Ay SH44PEHqC8NpN4zx5/JaofO9t0GtAhR1/QR19Jr7hI+NCiuKV9ry8Hgi0UzTZbzvCA/Y +S+w== X-Gm-Message-State: AOJu0YwxInRT73zZsIR1V8MOWAlsCqja1HGmoeNDbNCl81EdmBGZ4Php bOycj6gVFQcK59n0B4COK9i8XvGhEffCmGmjMXKttNgOHtvJ9qg4ENyWAbyVKeiK/HXLA/d2rmB 5w/zD/dsRlFpRmNgDkQyTjx8XmfodQJZHThRXRs2F15FxGMYMNiEintZZ X-Gm-Gg: ASbGncvGXhJuNnOxRP04ck6ubNM/ciIeq3tnlKEhyVsHHMJX+FOuntKZ9c0Lu3wUIdV MP5KXxJ4SDZHBuvWjuORQcuhN2UvYh6byu02vFOZAUw7Zg0wX+9x0ASb9tM+Kcp/OP5p/h4Adtc cdf2eq0c9YQ0N6FYymOifoZxa+UbeZ+Miq002yMrzGjuqtCMbi8k+3uHdSWddbfneFLjTO26vFX 6uZnPIAHB18LC+tBSc89HwKlORhAzFXRW3kLoh2+042DUSohZwx7R9ia4HWs73cf54wx9HwlXZs FJBEaOeb+4vwPXCwfoJYQF4LLUildkkvOFa6tlRgsg== X-Google-Smtp-Source: AGHT+IG9EMyiFcHcXPXqWBgopzHG1pfrkue2NyvUF2uwNkuJ3t1q8PDrRggdxvrBgwBHiMaUWevSpfPHPBIU X-Received: by 2002:a05:6214:20eb:b0:6d8:a570:faee with SMTP id 6a1803df08f44-6e243c1e459mr219945926d6.16.1738377083917; Fri, 31 Jan 2025 18:31:23 -0800 (PST) Received: from postal.iol.unh.edu (postal.iol.unh.edu. [2606:4100:3880:1234::84]) by smtp-relay.gmail.com with ESMTPS id 6a1803df08f44-6e2544dfd18sm2993606d6.6.2025.01.31.18.31.23 (version=TLS1_2 cipher=ECDHE-ECDSA-AES128-GCM-SHA256 bits=128/128); Fri, 31 Jan 2025 18:31:23 -0800 (PST) X-Relaying-Domain: iol.unh.edu Date: Fri, 31 Jan 2025 18:31:23 -0800 (PST) Message-ID: <679d877b.050a0220.152496.fc1bSMTPIN_ADDED_MISSING@mx.google.com> Received: from [172.17.0.4] (unknown [172.18.0.217]) by postal.iol.unh.edu (Postfix) with ESMTP id 95FFA6052471; Fri, 31 Jan 2025 21:31:23 -0500 (EST) Subject: |SUCCESS| pw150758-150760 [PATCH] [3/3] dts: bump up fabric version From: dpdklab@iol.unh.edu To: Test Report Cc: dpdk-test-reports@iol.unh.edu In-Reply-To: <20250131191924.1936157-4-luca.vizzarro@arm.com> References: <20250131191924.1936157-4-luca.vizzarro@arm.com> Content-Type: text/plain X-BeenThere: test-report@dpdk.org X-Mailman-Version: 2.1.29 Precedence: list List-Id: automatic DPDK test reports List-Unsubscribe: , List-Archive: List-Post: List-Help: List-Subscribe: , Errors-To: test-report-bounces@dpdk.org Test-Label: iol-unit-arm64-testing Test-Status: SUCCESS http://dpdk.org/patch/150760 _Testing PASS_ Submitter: Luca Vizzarro Date: Friday, January 31 2025 19:19:24 DPDK git baseline: Repo:dpdk Branch: master CommitID:75fb46c7ade4a7efaaa02743c4aa450f75ba9468 150758-150760 --> testing pass Upstream job id: Generic-Unit-Test-DPDK#310850 Test environment and result as below: +-----------------------------+----------------+--------------+---------------------------+------------------------------+ | Environment | dpdk_unit_test | lpm_autotest | cryptodev_sw_zuc_autotest | cryptodev_sw_snow3g_autotest | +=============================+================+==============+===========================+==============================+ | 32-bit Ubuntu 22.04.4 (ARM) | PASS | SKIPPED | SKIPPED | SKIPPED | +-----------------------------+----------------+--------------+---------------------------+------------------------------+ | CentOS Stream 9 (ARM) | PASS | SKIPPED | SKIPPED | SKIPPED | +-----------------------------+----------------+--------------+---------------------------+------------------------------+ | Debian 12 (arm) | PASS | SKIPPED | PASS | PASS | +-----------------------------+----------------+--------------+---------------------------+------------------------------+ | Fedora 40 (ARM) | PASS | SKIPPED | SKIPPED | SKIPPED | +-----------------------------+----------------+--------------+---------------------------+------------------------------+ | Debian 11 (Buster) (ARM) | PASS | SKIPPED | SKIPPED | SKIPPED | +-----------------------------+----------------+--------------+---------------------------+------------------------------+ | Fedora 40 (ARM Clang) | PASS | SKIPPED | SKIPPED | SKIPPED | +-----------------------------+----------------+--------------+---------------------------+------------------------------+ | Fedora 41 (ARM) | PASS | SKIPPED | SKIPPED | SKIPPED | +-----------------------------+----------------+--------------+---------------------------+------------------------------+ | Fedora 41 (ARM Clang) | PASS | SKIPPED | SKIPPED | SKIPPED | +-----------------------------+----------------+--------------+---------------------------+------------------------------+ | Ubuntu 20.04 (ARM) | PASS | SKIPPED | SKIPPED | SKIPPED | +-----------------------------+----------------+--------------+---------------------------+------------------------------+ | RHEL9 (ARM) | PASS | SKIPPED | SKIPPED | SKIPPED | +-----------------------------+----------------+--------------+---------------------------+------------------------------+ | Ubuntu 22.04 (ARM) | PASS | SKIPPED | SKIPPED | SKIPPED | +-----------------------------+----------------+--------------+---------------------------+------------------------------+ | Ubuntu 24.04 (ARM) | PASS | SKIPPED | SKIPPED | SKIPPED | +-----------------------------+----------------+--------------+---------------------------+------------------------------+ | Ubuntu 20.04 ARM SVE | SKIPPED | PASS | SKIPPED | SKIPPED | +-----------------------------+----------------+--------------+---------------------------+------------------------------+ 32-bit Ubuntu 22.04.4 (ARM) Kernel: 5.15.83+ aarch64 Compiler: gcc (Ubuntu 11.4.0-1ubuntu1~22.04) 11.4.0 CentOS Stream 9 (ARM) Kernel: Depends on container host Compiler: gcc 11.5.0 20240719 (Red Hat 11.5.0-2) Debian 12 (arm) Kernel: Depends on container host Compiler: gcc (Debian 12.2.0-14) 12.2.0 Fedora 40 (ARM) Kernel: Depends on container host Compiler: gcc 14.2.1 20240912 (Red Hat 14.2.1-3) Debian 11 (Buster) (ARM) Kernel: Depends on container host Compiler: gcc (Debian 10.2.1-6) 10.2.1 20210110 Fedora 40 (ARM Clang) Kernel: Depends on container host Compiler: clang 18.1.8 (Fedora 18.1.8-1.fc40) Fedora 41 (ARM) Kernel: Depends on container host Compiler: gcc 14.2.1 20240912 (Red Hat 14.2.1-3) Fedora 41 (ARM Clang) Kernel: Depends on container host Compiler: clang 19.1.5 (Fedora 19.1.5-1.fc41) Ubuntu 20.04 (ARM) Kernel: Depends on container host Compiler: gcc (Ubuntu 9.4.0-1ubuntu1~20.04.2) 9.4.0 RHEL9 (ARM) Kernel: Depends on container host Compiler: gcc 11.5.0 20240719 (Red Hat 11.5.0-2) Ubuntu 22.04 (ARM) Kernel: Depends on container host Compiler: gcc (Ubuntu 11.4.0-1ubuntu1~22.04) 11.4.0 Ubuntu 24.04 (ARM) Kernel: Depends on container host Compiler: gcc (Ubuntu 13.3.0-6ubuntu2~24.04) 13.3.0 Ubuntu 20.04 ARM SVE Kernel: Depends on container host Compiler: gcc (Ubuntu 10.5.0-1ubuntu1~20.04) 10.5.0 To view detailed results, visit: https://lab.dpdk.org/results/dashboard/patchsets/32474/ UNH-IOL DPDK Community Lab To manage your email subscriptions, visit: https://lab.dpdk.org/results/dashboard/preferences/subscriptions/