From mboxrd@z Thu Jan 1 00:00:00 1970 Return-Path: Received: from mails.dpdk.org (mails.dpdk.org [217.70.189.124]) by inbox.dpdk.org (Postfix) with ESMTP id B28A04615B for ; Sat, 1 Feb 2025 03:31:33 +0100 (CET) Received: from mails.dpdk.org (localhost [127.0.0.1]) by mails.dpdk.org (Postfix) with ESMTP id AE4D5400EF; Sat, 1 Feb 2025 03:31:33 +0100 (CET) Received: from mail-pj1-f99.google.com (mail-pj1-f99.google.com [209.85.216.99]) by mails.dpdk.org (Postfix) with ESMTP id 6D07C400D7 for ; Sat, 1 Feb 2025 03:31:32 +0100 (CET) Received: by mail-pj1-f99.google.com with SMTP id 98e67ed59e1d1-2ee86a1a92dso3620363a91.1 for ; Fri, 31 Jan 2025 18:31:32 -0800 (PST) DKIM-Signature: v=1; a=rsa-sha256; c=relaxed/relaxed; d=iol.unh.edu; s=unh-iol; t=1738377091; x=1738981891; darn=dpdk.org; h=references:in-reply-to:cc:to:from:subject:message-id:date:from:to :cc:subject:date:message-id:reply-to; bh=HO/Z8teYUvvY6smQUA4tGEVHDstRN+8bX2efluYiTBc=; b=OGoTrTc9E/aVPN34161RuSqufR+23nqYuW8ddcam9z2t7TuKHZTMvkK7Lz146SwtOO HTpQMQAsa6bnezNbQ2ZPlO1rGhDhE1KjYV1VCBFqD7KBArngcxQH2J55O8olMaXQ3Ic5 ZcKnLBmigr7bjjbvMwBPoF0FLr6imXOJbynAc= X-Google-DKIM-Signature: v=1; a=rsa-sha256; c=relaxed/relaxed; d=1e100.net; s=20230601; t=1738377091; x=1738981891; h=references:in-reply-to:cc:to:from:subject:message-id:date :x-gm-message-state:from:to:cc:subject:date:message-id:reply-to; bh=HO/Z8teYUvvY6smQUA4tGEVHDstRN+8bX2efluYiTBc=; b=XKqH5QosLdvRA9Eb82vAqecQxggWwnNpzzqvjMlcTXau8E/NftXWBHinu1TbqMS0F7 Nvf6dYnsNgYxayeSEiA0SHXrCeloH8ueLNSANWTJohc/OKw5NCrYaeSg/n+ZIXj3LaSU VIyHFw4U0/QyKq9ja+q9l4qphJHavJGTdQBKFWlhG4Fh/XxMG+QOMAUO9/QgD6jdF4NZ PS4ZkXSeOP8NlnjXe1YPqn/+pyB/u/6KzE9H1DtewAFcB0TnjMYRPiAiFwBRpzfm4KAe PON7PD8Cp5kNPsxeoMeuYsgH+94/P7kyLj1OaOr3hdgs6loFpYfVXIWb09PXdCXE8ifz ijXw== X-Gm-Message-State: AOJu0YycYzkXMHFru4jMrnpueRT77sN0/6Cpaal6L1dqgI+7sg0XAJZB chngMnYumUhx8IOE43cme21p7d4mh2eDcspNvRh6MMZqOK4YpeZrf4bJ5yAkwH7FotBehd1XRI0 aF26gLkjo8iDgXghyce5Hn0+UdFv8YYQs+dlcuCDFkFAbS9GAB8hQN/0V X-Gm-Gg: ASbGncu2KnHqOk6SSFGW1wJI+LpN9qoCRMr+FTTAGLl+SvcqUY7EKuJf2DeE1/9/YBv ZLuFRxR6+Plz5QfuNpI1LnJSIHkAhRI/U2/ltluAz7WmSbg/2TCn0OKG5ZmRAj5xz7Syi52uzjO 22cIPODEXsjRt4l41Jep+TXegf894dUbfqhDLJ7Ly34V1CZ2Bb8R2QEsTs3ILYSBBQASunuJvcY Od1gLOQTYYQ3BVwY9Y2huhNoBgrtIB38h2n3uAekDVCquWKDDZ/1vA1bKZgfk9VT1C4CZoly02A mgb6LgCah2soqH7QqwWoA9b4UcD0DGD1kWArEHEWuQ== X-Google-Smtp-Source: AGHT+IEjQ0MdirEnenDeECj1Gbwt7soEW7lRVJegQ+BtP3pT2uOmOODPFU08FVabjLR9r5lnvNIIPn2FbFAh X-Received: by 2002:a17:90b:270c:b0:2f7:b54d:76cf with SMTP id 98e67ed59e1d1-2f83aa8586fmr24739733a91.0.1738377091458; Fri, 31 Jan 2025 18:31:31 -0800 (PST) Received: from postal.iol.unh.edu (postal.iol.unh.edu. [2606:4100:3880:1234::84]) by smtp-relay.gmail.com with ESMTPS id 98e67ed59e1d1-2f848aa5d90sm344459a91.11.2025.01.31.18.31.31 (version=TLS1_2 cipher=ECDHE-ECDSA-AES128-GCM-SHA256 bits=128/128); Fri, 31 Jan 2025 18:31:31 -0800 (PST) X-Relaying-Domain: iol.unh.edu Date: Fri, 31 Jan 2025 18:31:31 -0800 (PST) Message-ID: <679d8783.170a0220.b17d2.1e06SMTPIN_ADDED_MISSING@mx.google.com> Received: from [172.17.0.5] (unknown [172.18.0.217]) by postal.iol.unh.edu (Postfix) with ESMTP id 68B476052471; Fri, 31 Jan 2025 21:31:30 -0500 (EST) Subject: |SUCCESS| pw150758-150760 [PATCH] [3/3] dts: bump up fabric version From: dpdklab@iol.unh.edu To: Test Report Cc: dpdk-test-reports@iol.unh.edu In-Reply-To: <20250131191924.1936157-4-luca.vizzarro@arm.com> References: <20250131191924.1936157-4-luca.vizzarro@arm.com> Content-Type: text/plain X-BeenThere: test-report@dpdk.org X-Mailman-Version: 2.1.29 Precedence: list List-Id: automatic DPDK test reports List-Unsubscribe: , List-Archive: List-Post: List-Help: List-Subscribe: , Errors-To: test-report-bounces@dpdk.org Test-Label: iol-unit-arm64-testing Test-Status: SUCCESS http://dpdk.org/patch/150760 _Testing PASS_ Submitter: Luca Vizzarro Date: Friday, January 31 2025 19:19:24 DPDK git baseline: Repo:dpdk Branch: master CommitID:75fb46c7ade4a7efaaa02743c4aa450f75ba9468 150758-150760 --> testing pass Upstream job id: Generic-Unit-Test-DPDK#310846 Test environment and result as below: +-----------------------------+----------------+--------------+---------------------------+------------------------------+ | Environment | dpdk_unit_test | lpm_autotest | cryptodev_sw_zuc_autotest | cryptodev_sw_snow3g_autotest | +=============================+================+==============+===========================+==============================+ | 32-bit Ubuntu 22.04.4 (ARM) | PASS | SKIPPED | SKIPPED | SKIPPED | +-----------------------------+----------------+--------------+---------------------------+------------------------------+ | CentOS Stream 9 (ARM) | PASS | SKIPPED | SKIPPED | SKIPPED | +-----------------------------+----------------+--------------+---------------------------+------------------------------+ | Debian 12 (arm) | PASS | SKIPPED | PASS | PASS | +-----------------------------+----------------+--------------+---------------------------+------------------------------+ | Fedora 40 (ARM) | PASS | SKIPPED | SKIPPED | SKIPPED | +-----------------------------+----------------+--------------+---------------------------+------------------------------+ | Debian 11 (Buster) (ARM) | PASS | SKIPPED | SKIPPED | SKIPPED | +-----------------------------+----------------+--------------+---------------------------+------------------------------+ | Fedora 40 (ARM Clang) | PASS | SKIPPED | SKIPPED | SKIPPED | +-----------------------------+----------------+--------------+---------------------------+------------------------------+ | Fedora 41 (ARM) | PASS | SKIPPED | SKIPPED | SKIPPED | +-----------------------------+----------------+--------------+---------------------------+------------------------------+ | Fedora 41 (ARM Clang) | PASS | SKIPPED | SKIPPED | SKIPPED | +-----------------------------+----------------+--------------+---------------------------+------------------------------+ | Ubuntu 20.04 (ARM) | PASS | SKIPPED | SKIPPED | SKIPPED | +-----------------------------+----------------+--------------+---------------------------+------------------------------+ | RHEL9 (ARM) | PASS | SKIPPED | SKIPPED | SKIPPED | +-----------------------------+----------------+--------------+---------------------------+------------------------------+ | Ubuntu 22.04 (ARM) | PASS | SKIPPED | SKIPPED | SKIPPED | +-----------------------------+----------------+--------------+---------------------------+------------------------------+ | Ubuntu 24.04 (ARM) | PASS | SKIPPED | SKIPPED | SKIPPED | +-----------------------------+----------------+--------------+---------------------------+------------------------------+ | Ubuntu 20.04 ARM SVE | SKIPPED | PASS | SKIPPED | SKIPPED | +-----------------------------+----------------+--------------+---------------------------+------------------------------+ 32-bit Ubuntu 22.04.4 (ARM) Kernel: 5.15.83+ aarch64 Compiler: gcc (Ubuntu 11.4.0-1ubuntu1~22.04) 11.4.0 CentOS Stream 9 (ARM) Kernel: Depends on container host Compiler: gcc 11.5.0 20240719 (Red Hat 11.5.0-2) Debian 12 (arm) Kernel: Depends on container host Compiler: gcc (Debian 12.2.0-14) 12.2.0 Fedora 40 (ARM) Kernel: Depends on container host Compiler: gcc 14.2.1 20240912 (Red Hat 14.2.1-3) Debian 11 (Buster) (ARM) Kernel: Depends on container host Compiler: gcc (Debian 10.2.1-6) 10.2.1 20210110 Fedora 40 (ARM Clang) Kernel: Depends on container host Compiler: clang 18.1.8 (Fedora 18.1.8-1.fc40) Fedora 41 (ARM) Kernel: Depends on container host Compiler: gcc 14.2.1 20240912 (Red Hat 14.2.1-3) Fedora 41 (ARM Clang) Kernel: Depends on container host Compiler: clang 19.1.5 (Fedora 19.1.5-1.fc41) Ubuntu 20.04 (ARM) Kernel: Depends on container host Compiler: gcc (Ubuntu 9.4.0-1ubuntu1~20.04.2) 9.4.0 RHEL9 (ARM) Kernel: Depends on container host Compiler: gcc 11.5.0 20240719 (Red Hat 11.5.0-2) Ubuntu 22.04 (ARM) Kernel: Depends on container host Compiler: gcc (Ubuntu 11.4.0-1ubuntu1~22.04) 11.4.0 Ubuntu 24.04 (ARM) Kernel: Depends on container host Compiler: gcc (Ubuntu 13.3.0-6ubuntu2~24.04) 13.3.0 Ubuntu 20.04 ARM SVE Kernel: Depends on container host Compiler: gcc (Ubuntu 10.5.0-1ubuntu1~20.04) 10.5.0 To view detailed results, visit: https://lab.dpdk.org/results/dashboard/patchsets/32474/ UNH-IOL DPDK Community Lab To manage your email subscriptions, visit: https://lab.dpdk.org/results/dashboard/preferences/subscriptions/