From mboxrd@z Thu Jan 1 00:00:00 1970 Return-Path: Received: from mails.dpdk.org (mails.dpdk.org [217.70.189.124]) by inbox.dpdk.org (Postfix) with ESMTP id 56FD74615D for ; Sat, 1 Feb 2025 05:09:18 +0100 (CET) Received: from mails.dpdk.org (localhost [127.0.0.1]) by mails.dpdk.org (Postfix) with ESMTP id 3468D400D7; Sat, 1 Feb 2025 05:09:18 +0100 (CET) Received: from mail-pl1-f228.google.com (mail-pl1-f228.google.com [209.85.214.228]) by mails.dpdk.org (Postfix) with ESMTP id 8AA21400D5 for ; Sat, 1 Feb 2025 05:09:16 +0100 (CET) Received: by mail-pl1-f228.google.com with SMTP id d9443c01a7336-216395e151bso33103335ad.0 for ; Fri, 31 Jan 2025 20:09:16 -0800 (PST) DKIM-Signature: v=1; a=rsa-sha256; c=relaxed/relaxed; d=iol.unh.edu; s=unh-iol; t=1738382955; x=1738987755; darn=dpdk.org; h=cc:to:from:subject:message-id:date:from:to:cc:subject:date :message-id:reply-to; bh=R4LBZwJMSh/xq3SK6E6psFQg68iCZs+GE6W4hQpD6IY=; b=BW3KnMG45rMWXBiXtWlvi10/sHEhYnDrbuaCIvkG/8OTaiaBw0cc160u3fkGy6CQ5K F6khGjcjxzzeOtulalCYhtBiigBMjnABPAxM2Hnyq1zRG7+aELO6noiG6k6brnlP4cBF 0TtqPCxDlP84WEOYl+oVpTg+UjKogPuGkWxLg= X-Google-DKIM-Signature: v=1; a=rsa-sha256; c=relaxed/relaxed; d=1e100.net; s=20230601; t=1738382955; x=1738987755; h=cc:to:from:subject:message-id:date:x-gm-message-state:from:to:cc :subject:date:message-id:reply-to; bh=R4LBZwJMSh/xq3SK6E6psFQg68iCZs+GE6W4hQpD6IY=; b=oKq/wwqXWn1c35XtLFifRlzD4eRCwGck0W7V7AURd3bFhWw18QETIk5yRLuCqc9p4M Yng/4DOJuomfg8NaKotRA9DtGgZIIZmmbUgjZfeh7qCQE08Ryc8d/fw44Vm7Sry7d6pL 9H2j2QE+5KZ92dR58AMwx6XuX5o3TLC8wHaJzGLm6IOqMumDBAlzHECJ0Z6tLj4eBzD6 vQMLvguOqp0gjY9voPw8hfVjVZXHWkFK3XflTORA9yzO340bWulDjZTBcRhISirlynH8 tQrxHLYSdGm6AZxcv7leoocI1MVp+ipszrTzLx5q28WaA0bKUMgNDrGPseOd40SfxLgj rIew== X-Gm-Message-State: AOJu0YwAgbHwtliIsGjmm78u3Ehbg72e7nOSqxvlptyGBPn32OIbbSrv 0jCAzaGXmX1VWGcXiIwBcFMw3q+6Tf8qgpdSUuSZJvBDNE8oDeDDPXMbKdMgBx+bcJ7uzuIPkSh S6UhBJs5IPnuIPjiQ9N+/qpdmQ2CMTDa+yNn+sgklAId85WsC7TmVXiwW X-Gm-Gg: ASbGncu/SfUAJEa6mhHYuVurjh9a8A5yfnITFC1Ln4fYOi8YYbK4qkCX5Hv9xls3HVI nTzydsjXnOtGXvcntvE4PKj9mOrSwzz3w2Qbr+g0YTPx9llvXb1cmUDORzFqWvnBg9fhr5fLzSR xCLAsYDLFdKALa0+DoNhIqdY9X09+D7x69sMGgToeii6Ar37UCKol7VuxzWilCZrfI3RiwsFem1 J8/xfE71twcACKxt7bgkrUkf184DXCqtayrehnuGG3WzxR+puwTemmVtdxeRIE+Cb0kcvpkittq NXZv7/PVvTzt2tOqp/sAEVJLaOXA8BKN9vmjwWzw7w== X-Google-Smtp-Source: AGHT+IHcL8EJgZvxyes4ZBmSx9TXiC00jQxaD2NsMC/dsz/afojOcH84kOBIKRvsy4NtorqOJeac/DogxLS4 X-Received: by 2002:a17:903:1c6:b0:215:9eac:1857 with SMTP id d9443c01a7336-21edd7d88c0mr90552715ad.5.1738382955510; Fri, 31 Jan 2025 20:09:15 -0800 (PST) Received: from postal.iol.unh.edu (postal.iol.unh.edu. [2606:4100:3880:1234::84]) by smtp-relay.gmail.com with ESMTPS id d9443c01a7336-21de3325597sm1762145ad.73.2025.01.31.20.09.15 (version=TLS1_2 cipher=ECDHE-ECDSA-AES128-GCM-SHA256 bits=128/128); Fri, 31 Jan 2025 20:09:15 -0800 (PST) X-Relaying-Domain: iol.unh.edu Date: Fri, 31 Jan 2025 20:09:15 -0800 (PST) Message-ID: <679d9e6b.170a0220.1eb14a.941eSMTPIN_ADDED_MISSING@mx.google.com> Received: from [172.17.0.4] (unknown [172.18.0.217]) by postal.iol.unh.edu (Postfix) with ESMTP id 7DFEE6052471; Fri, 31 Jan 2025 23:09:14 -0500 (EST) Subject: |SUCCESS| [GIT MASTER] dc4ce7c2538b713e16887eb598da309bc7b4d528 From: dpdklab@iol.unh.edu To: Test Report Cc: dpdk-test-reports@iol.unh.edu Content-Type: text/plain X-BeenThere: test-report@dpdk.org X-Mailman-Version: 2.1.29 Precedence: list List-Id: automatic DPDK test reports List-Unsubscribe: , List-Archive: List-Post: List-Help: List-Subscribe: , Errors-To: test-report-bounces@dpdk.org _Testing PASS_ Branch: dpdk dc4ce7c2538b713e16887eb598da309bc7b4d528 --> testing pass Upstream job id: Generic-Unit-Test-DPDK#310879 Test environment and result as below: +-----------------------------+----------------+--------------+---------------------------+------------------------------+ | Environment | dpdk_unit_test | lpm_autotest | cryptodev_sw_zuc_autotest | cryptodev_sw_snow3g_autotest | +=============================+================+==============+===========================+==============================+ | 32-bit Ubuntu 22.04.4 (ARM) | PASS | SKIPPED | SKIPPED | SKIPPED | +-----------------------------+----------------+--------------+---------------------------+------------------------------+ | CentOS Stream 9 (ARM) | PASS | SKIPPED | SKIPPED | SKIPPED | +-----------------------------+----------------+--------------+---------------------------+------------------------------+ | Debian 12 (arm) | PASS | SKIPPED | PASS | PASS | +-----------------------------+----------------+--------------+---------------------------+------------------------------+ | Debian 11 (Buster) (ARM) | PASS | SKIPPED | SKIPPED | SKIPPED | +-----------------------------+----------------+--------------+---------------------------+------------------------------+ | Fedora 40 (ARM) | PASS | SKIPPED | SKIPPED | SKIPPED | +-----------------------------+----------------+--------------+---------------------------+------------------------------+ | Fedora 40 (ARM Clang) | PASS | SKIPPED | SKIPPED | SKIPPED | +-----------------------------+----------------+--------------+---------------------------+------------------------------+ | Fedora 41 (ARM) | PASS | SKIPPED | SKIPPED | SKIPPED | +-----------------------------+----------------+--------------+---------------------------+------------------------------+ | Fedora 41 (ARM Clang) | PASS | SKIPPED | SKIPPED | SKIPPED | +-----------------------------+----------------+--------------+---------------------------+------------------------------+ | RHEL9 (ARM) | PASS | SKIPPED | SKIPPED | SKIPPED | +-----------------------------+----------------+--------------+---------------------------+------------------------------+ | Ubuntu 20.04 (ARM) | PASS | SKIPPED | SKIPPED | SKIPPED | +-----------------------------+----------------+--------------+---------------------------+------------------------------+ | Ubuntu 22.04 (ARM) | PASS | SKIPPED | SKIPPED | SKIPPED | +-----------------------------+----------------+--------------+---------------------------+------------------------------+ | Ubuntu 24.04 (ARM) | PASS | SKIPPED | SKIPPED | SKIPPED | +-----------------------------+----------------+--------------+---------------------------+------------------------------+ | Ubuntu 20.04 ARM SVE | SKIPPED | PASS | SKIPPED | SKIPPED | +-----------------------------+----------------+--------------+---------------------------+------------------------------+ 32-bit Ubuntu 22.04.4 (ARM) Kernel: 5.15.83+ aarch64 Compiler: gcc (Ubuntu 11.4.0-1ubuntu1~22.04) 11.4.0 CentOS Stream 9 (ARM) Kernel: Depends on container host Compiler: gcc 11.5.0 20240719 (Red Hat 11.5.0-2) Debian 12 (arm) Kernel: Depends on container host Compiler: gcc (Debian 12.2.0-14) 12.2.0 Debian 11 (Buster) (ARM) Kernel: Depends on container host Compiler: gcc (Debian 10.2.1-6) 10.2.1 20210110 Fedora 40 (ARM) Kernel: Depends on container host Compiler: gcc 14.2.1 20240912 (Red Hat 14.2.1-3) Fedora 40 (ARM Clang) Kernel: Depends on container host Compiler: clang 18.1.8 (Fedora 18.1.8-1.fc40) Fedora 41 (ARM) Kernel: Depends on container host Compiler: gcc 14.2.1 20240912 (Red Hat 14.2.1-3) Fedora 41 (ARM Clang) Kernel: Depends on container host Compiler: clang 19.1.5 (Fedora 19.1.5-1.fc41) RHEL9 (ARM) Kernel: Depends on container host Compiler: gcc 11.5.0 20240719 (Red Hat 11.5.0-2) Ubuntu 20.04 (ARM) Kernel: Depends on container host Compiler: gcc (Ubuntu 9.4.0-1ubuntu1~20.04.2) 9.4.0 Ubuntu 22.04 (ARM) Kernel: Depends on container host Compiler: gcc (Ubuntu 11.4.0-1ubuntu1~22.04) 11.4.0 Ubuntu 24.04 (ARM) Kernel: Depends on container host Compiler: gcc (Ubuntu 13.3.0-6ubuntu2~24.04) 13.3.0 Ubuntu 20.04 ARM SVE Kernel: Depends on container host Compiler: gcc (Ubuntu 10.5.0-1ubuntu1~20.04) 10.5.0 To view detailed results, visit: https://lab.dpdk.org/results/dashboard/tarballs/32411/ UNH-IOL DPDK Community Lab To manage your email subscriptions, visit: https://lab.dpdk.org/results/dashboard/preferences/subscriptions/