From mboxrd@z Thu Jan 1 00:00:00 1970 Return-Path: Received: from mails.dpdk.org (mails.dpdk.org [217.70.189.124]) by inbox.dpdk.org (Postfix) with ESMTP id 1C3464615D for ; Sat, 1 Feb 2025 05:17:40 +0100 (CET) Received: from mails.dpdk.org (localhost [127.0.0.1]) by mails.dpdk.org (Postfix) with ESMTP id DF4F8400D7; Sat, 1 Feb 2025 05:17:39 +0100 (CET) Received: from mail-pj1-f100.google.com (mail-pj1-f100.google.com [209.85.216.100]) by mails.dpdk.org (Postfix) with ESMTP id 91A8C400D5 for ; Sat, 1 Feb 2025 05:17:37 +0100 (CET) Received: by mail-pj1-f100.google.com with SMTP id 98e67ed59e1d1-2efded08c79so3637842a91.0 for ; Fri, 31 Jan 2025 20:17:37 -0800 (PST) DKIM-Signature: v=1; a=rsa-sha256; c=relaxed/relaxed; d=iol.unh.edu; s=unh-iol; t=1738383456; x=1738988256; darn=dpdk.org; h=cc:to:from:subject:message-id:date:from:to:cc:subject:date :message-id:reply-to; bh=uNNrzay8Xf8F0M/dS+D+s3Ns8JUMgx0QaezQqp0coqY=; b=JjBRH1EOTnM0Rfc8/GUKMaMTp93l5cxZAtqLvJBhnHYcyN04pAejk4ucm1X63bGP2d FzNd37edFOo5jTHyuVXc8ixDnQ0j7IPE5QkhDn/D1/IQggKKhntiAhxqxl1cCqSOmJFK 7USOpakSng2hABPkiJh9fr+DgVH5mJYrFNHWs= X-Google-DKIM-Signature: v=1; a=rsa-sha256; c=relaxed/relaxed; d=1e100.net; s=20230601; t=1738383456; x=1738988256; h=cc:to:from:subject:message-id:date:x-gm-message-state:from:to:cc :subject:date:message-id:reply-to; bh=uNNrzay8Xf8F0M/dS+D+s3Ns8JUMgx0QaezQqp0coqY=; b=bA+pyMMRjYJeucoWvgAq58k5is/X43dT7D51ifGUeCcPk4bM4keYAm9gd3tzEqpFJR uiqT417jg1+27asNU1+4s5XiE5RoJ1nFEjDOde6jTiJksz9al1R18hnUrpuJR9bk3rUA /YyLJnSYSBQvIqiDfvCcUJWDnfGq4Mg2hI37H6KBQA0t7e3j+bhEWCbnIykA0oQNIJZB 4MRh/cg2BJIx8YGSW8djDINSxzjGHyTl8rq1BBaGE6rIxa9Pcj9Ler9utXzxH+q24fAg o7isv+DdECVk4SN1jQM4uwzeL7V8888XXmuWYwAV7Ylwk3EHdKYLZ5HBAEBcIHE6nsHd obNQ== X-Gm-Message-State: AOJu0YxbrqygVjrnMgHa/t7ocRFm5kNvWNHmSNU/xEe/STLXcAekvD7u jYWTcK5Ygxc8WhlWx535NYTnjLQom6Lu0YYg1BHCCpZ7KTEIi63nBn4XHJw/wAj+G+smYqiqtnG O7ORSJc8HIRNxh+OulvmHr5IvQn+CA1EyRFZQYiw3 X-Gm-Gg: ASbGncvL73nknaTPC2GXjVoSM9/7oHelC3AjMCYWx+nxSbVGo1CSuSMZq5Jtd/9we9E o7Bs5ecZ2F3e4IwzlBWg4rUVu5s6etAXdPOkQ2fYutChgWchKI6nrvcvYbcYJvft/aGI3mNAQs/ AgluxJYazrABaaq2SpHLYvY1Pyy3PZwp1qoTwoIn4v6M2ZkO0Ibl5DODg/3BrOSPlT/mYjCsTBP 1b0NDWKZoQRabsoFuUQJqY2Y3B0keiUyAY/wzu5eEn5oFaFlxjfrg/V6uKOZtvOEULO5bZnhCI9 eXVbPODwSj0RFp0bQtWyGVPmy9L82g== X-Google-Smtp-Source: AGHT+IGIJ8QyHKAjlBCVu8Ukp08ya9EsrgviZKBwZNSRlyDqrYEdT4oeHU3k6TrEzEMyiTgesVdoO2WfPIzt X-Received: by 2002:a17:90b:3b85:b0:2ee:df57:b194 with SMTP id 98e67ed59e1d1-2f83ac17162mr18386792a91.21.1738383456212; Fri, 31 Jan 2025 20:17:36 -0800 (PST) Received: from postal.iol.unh.edu (postal.iol.unh.edu. [132.177.123.84]) by smtp-relay.gmail.com with ESMTPS id d9443c01a7336-21de324932dsm1746885ad.37.2025.01.31.20.17.36 (version=TLS1_2 cipher=ECDHE-ECDSA-AES128-GCM-SHA256 bits=128/128); Fri, 31 Jan 2025 20:17:36 -0800 (PST) X-Relaying-Domain: iol.unh.edu Date: Fri, 31 Jan 2025 20:17:36 -0800 (PST) Message-ID: <679da060.170a0220.2c0b91.84ffSMTPIN_ADDED_MISSING@mx.google.com> Received: from [172.17.0.4] (unknown [172.18.0.217]) by postal.iol.unh.edu (Postfix) with ESMTP id 4A8806052471; Fri, 31 Jan 2025 23:17:35 -0500 (EST) Subject: |WARNING| [GIT MASTER] dc4ce7c2538b713e16887eb598da309bc7b4d528 From: dpdklab@iol.unh.edu To: Test Report Cc: dpdk-test-reports@iol.unh.edu Content-Type: text/plain X-BeenThere: test-report@dpdk.org X-Mailman-Version: 2.1.29 Precedence: list List-Id: automatic DPDK test reports List-Unsubscribe: , List-Archive: List-Post: List-Help: List-Subscribe: , Errors-To: test-report-bounces@dpdk.org _Testing issues_ Branch: dpdk dc4ce7c2538b713e16887eb598da309bc7b4d528 --> testing issues Upstream job id: ACVP-FIPS-testing#8751 Test environment and result as below: +--------------------+----------------------+----------------------+ | Environment | compressdev_zlib_pmd | dpdk_fips_validation | +====================+======================+======================+ | Ubuntu 22.04 (ARM) | PASS | SKIPPED | +--------------------+----------------------+----------------------+ | Ubuntu 22.04 | PASS | SKIPPED | +--------------------+----------------------+----------------------+ | Ubuntu 20.04 | SKIPPED | WARN | +--------------------+----------------------+----------------------+ ==== 20 line log output for Ubuntu 20.04 (dpdk_fips_validation): ==== INFO:root:Downloading verdict for vector set 2861028 INFO:root:Vector set verdict not ready, waiting 30 seconds... INFO:root:Vector set verdict not ready, waiting 30 seconds... INFO:root:Done INFO:root:Using response file... INFO:root:Uploading response file... INFO:root:Fetching verdict... INFO:root:Downloading verdict for vector set 2861029 INFO:root:Vector set verdict not ready, waiting 30 seconds... INFO:root:Vector set verdict not ready, waiting 30 seconds... INFO:root:Vector set verdict not ready, waiting 30 seconds... INFO:root:Done INFO:root:Using response file... INFO:root:Uploading response file... INFO:root:Fetching verdict... INFO:root:Downloading verdict for vector set 2861030 INFO:root:Vector set verdict not ready, waiting 30 seconds... INFO:root:Vector set verdict not ready, waiting 30 seconds... INFO:root:Vector set verdict not ready, waiting 30 seconds... INFO:root:Done ==== End log output ==== Ubuntu 22.04 (ARM) Kernel: 5.15.0-97-generic Compiler: gcc gcc (Ubuntu 11.4.0-1ubuntu1~22.04) 11.4.0 Ubuntu 22.04 Kernel: 5.15.0-100-generic Compiler: gcc gcc (Ubuntu 11.4.0-1ubuntu1~22.04) 11.4.0 Ubuntu 20.04 Kernel: Depends on container host Compiler: gcc (Ubuntu 9.4.0-1ubuntu1~20.04.2) 9.4.0 To view detailed results, visit: https://lab.dpdk.org/results/dashboard/tarballs/32411/ UNH-IOL DPDK Community Lab To manage your email subscriptions, visit: https://lab.dpdk.org/results/dashboard/preferences/subscriptions/