From mboxrd@z Thu Jan 1 00:00:00 1970 Return-Path: Received: from mails.dpdk.org (mails.dpdk.org [217.70.189.124]) by inbox.dpdk.org (Postfix) with ESMTP id 7B6114615D for ; Sat, 1 Feb 2025 05:47:43 +0100 (CET) Received: from mails.dpdk.org (localhost [127.0.0.1]) by mails.dpdk.org (Postfix) with ESMTP id 53F6B400D7; Sat, 1 Feb 2025 05:47:43 +0100 (CET) Received: from mail-il1-f228.google.com (mail-il1-f228.google.com [209.85.166.228]) by mails.dpdk.org (Postfix) with ESMTP id D6ACD400D5 for ; Sat, 1 Feb 2025 05:47:41 +0100 (CET) Received: by mail-il1-f228.google.com with SMTP id e9e14a558f8ab-3ce873818a3so23756535ab.1 for ; Fri, 31 Jan 2025 20:47:41 -0800 (PST) DKIM-Signature: v=1; a=rsa-sha256; c=relaxed/relaxed; d=iol.unh.edu; s=unh-iol; t=1738385261; x=1738990061; darn=dpdk.org; h=cc:to:from:subject:message-id:date:from:to:cc:subject:date :message-id:reply-to; bh=CKlnE4qaEPRbSFJOfQLzSjhGGwmYabT7kHr1gep3MSQ=; b=APUg8Y3PXVlg1OhZ2n2E9ehf9K0QpKmgC79SODZvqjZZ1yGWhCVxUDwilxJslo2nfG WuinQTGIL4YggqJk4RxnV3NJv+MAvJpF3gwmJZ8edmHrsQn0N6SGld/x1yg+UQutN423 WUzJWoFw41kGaF+yDRF9Ws7bI7eW2o0C1VemU= X-Google-DKIM-Signature: v=1; a=rsa-sha256; c=relaxed/relaxed; d=1e100.net; s=20230601; t=1738385261; x=1738990061; h=cc:to:from:subject:message-id:date:x-gm-message-state:from:to:cc :subject:date:message-id:reply-to; bh=CKlnE4qaEPRbSFJOfQLzSjhGGwmYabT7kHr1gep3MSQ=; b=mxSdTNdsNkkKTYAtk/F1qRTLNB2FVT38dEqK5m+TLCh3f5PEO/Ax2Aek49/Ccr+P+2 wNNVnL3SEd5kJ+7pRHOVBXP9NB5DjMPhqzYoN+KtmJvXv49U6MaBA6rwGNB/YNdXMFLE FWvbsYI4GuLF4ivFimRQrYgg/XA5yEstKiZXg8o1DKuZinTzr5BUjQbiklcs7GDFWY/v EZMSyaccqkYe/SjFM/zy2kPQVmweTWbwfwdUKoP75RzarmwSpBvROPu+OQuyYevfl4Eh 6ERvsSoozYxUMZfvHc5Y3lCIhyXRP8B0ruJFgQYPHym+F4OP2wLxYygSSXCkxt1Wex/J oHEQ== X-Gm-Message-State: AOJu0Yyenhbe9cZNZBy7IHTqkXKhXiHpnhtolLBWJUwsPLNMMmNOBDsU UcnDNO4RPDbM4ONy6pEijN0fi2cVbDgwVJHQdzDZUGaFratqeyJ8TacuhEQOTatP7XzqeLLJ4IV 05fcUxazFHsaNW9LS9ye2KkOqBXeVdUy4QmNccXXt+dL+42SpZbivkm7f X-Gm-Gg: ASbGnctt4SKwk0w+a0OUMM090iZE5ki3eWdAHehBcbfyIyyGkMsGa4RzIJPuJey2YH+ i7Yvjpe+AwU4PL4ZXTBkOcSPk1J5p2db3mWD8kWmRknbWRbklKYvjXiWNLf3uOW5+UgQgqqbyW/ g2IjwY/FVLFyrnjFFhbSaKOCAjLefELiOHvKV0ZVwUeGiLDhAgHzpnza+DRoBDLIZUzkRaBYNXv iBKVvT56N1CO7E9EB7TamFRpf77kNZXkaI0iouvgsvVKpYv4+KVUZUYDN8CdMtpQFPCHyMTGFWI d/o66ZOETwj79V8Ic9FdAelFv2rRr698MD9ndi1B1w== X-Google-Smtp-Source: AGHT+IEfoqHdjNSG5yKaVSAsVr3ZJT8ZWdWZulP7b67reUpuHkmqpMJMeUTMXARf29PkLoaTymxHCDXgxE23 X-Received: by 2002:a05:6e02:1ca8:b0:3d0:21aa:a756 with SMTP id e9e14a558f8ab-3d021aaa830mr9451175ab.5.1738385261096; Fri, 31 Jan 2025 20:47:41 -0800 (PST) Received: from postal.iol.unh.edu (postal.iol.unh.edu. [2606:4100:3880:1234::84]) by smtp-relay.gmail.com with ESMTPS id e9e14a558f8ab-3d00a604f94sm3316355ab.65.2025.01.31.20.47.41 (version=TLS1_2 cipher=ECDHE-ECDSA-AES128-GCM-SHA256 bits=128/128); Fri, 31 Jan 2025 20:47:41 -0800 (PST) X-Relaying-Domain: iol.unh.edu Date: Fri, 31 Jan 2025 20:47:41 -0800 (PST) Message-ID: <679da76d.050a0220.145a59.19c3SMTPIN_ADDED_MISSING@mx.google.com> Received: from [172.17.0.4] (unknown [172.18.0.217]) by postal.iol.unh.edu (Postfix) with ESMTP id 493B36052471; Fri, 31 Jan 2025 23:47:40 -0500 (EST) Subject: |SUCCESS| [GIT MASTER] dc4ce7c2538b713e16887eb598da309bc7b4d528 From: dpdklab@iol.unh.edu To: Test Report Cc: dpdk-test-reports@iol.unh.edu Content-Type: text/plain X-BeenThere: test-report@dpdk.org X-Mailman-Version: 2.1.29 Precedence: list List-Id: automatic DPDK test reports List-Unsubscribe: , List-Archive: List-Post: List-Help: List-Subscribe: , Errors-To: test-report-bounces@dpdk.org _Testing PASS_ Branch: dpdk dc4ce7c2538b713e16887eb598da309bc7b4d528 --> testing pass Upstream job id: Generic-DPDK-Compile-Meson#356946 Test environment and result as below: +----------------------------------------+--------------------+ | Environment | dpdk_meson_compile | +========================================+====================+ | RHEL9 (ARM) | PASS | +----------------------------------------+--------------------+ | Ubuntu 20.04 ARM SVE | PASS | +----------------------------------------+--------------------+ | Ubuntu 20.04 ARM GCC Cross Compile | PASS | +----------------------------------------+--------------------+ | Debian 12 with MUSDK | PASS | +----------------------------------------+--------------------+ | Fedora 40 (ARM) | PASS | +----------------------------------------+--------------------+ | Fedora 40 (ARM Clang) | PASS | +----------------------------------------+--------------------+ | Fedora 41 (ARM) | PASS | +----------------------------------------+--------------------+ | Ubuntu 20.04 (ARM) | PASS | +----------------------------------------+--------------------+ | Fedora 41 (ARM Clang) | PASS | +----------------------------------------+--------------------+ | Ubuntu 22.04 (ARM) | PASS | +----------------------------------------+--------------------+ | Ubuntu 24.04 (ARM) | PASS | +----------------------------------------+--------------------+ | CentOS Stream 9 (ARM) | PASS | +----------------------------------------+--------------------+ | Debian 11 (Buster) (ARM) | PASS | +----------------------------------------+--------------------+ | Debian 12 (arm) | PASS | +----------------------------------------+--------------------+ | Ubuntu 20.04 ARM Clang Cross Compile | PASS | +----------------------------------------+--------------------+ | Ubuntu 20.04 aarch32 GCC Cross Compile | PASS | +----------------------------------------+--------------------+ RHEL9 (ARM) Kernel: Depends on container host Compiler: gcc 11.5.0 20240719 (Red Hat 11.5.0-2) Ubuntu 20.04 ARM SVE Kernel: Depends on container host Compiler: gcc (Ubuntu 10.5.0-1ubuntu1~20.04) 10.5.0 Ubuntu 20.04 ARM GCC Cross Compile Kernel: Depends on container host Compiler: aarch64-linux-gnu-gcc (Ubuntu 9.4.0-1ubuntu1~20.04.2) 9.4.0 Debian 12 with MUSDK Kernel: Depends on container host Compiler: gcc (Debian 12.2.0-14) 12.2.0 Fedora 40 (ARM) Kernel: Depends on container host Compiler: gcc 14.2.1 20240912 (Red Hat 14.2.1-3) Fedora 40 (ARM Clang) Kernel: Depends on container host Compiler: clang 18.1.8 (Fedora 18.1.8-1.fc40) Fedora 41 (ARM) Kernel: Depends on container host Compiler: gcc 14.2.1 20240912 (Red Hat 14.2.1-3) Ubuntu 20.04 (ARM) Kernel: Depends on container host Compiler: gcc (Ubuntu 9.4.0-1ubuntu1~20.04.2) 9.4.0 Fedora 41 (ARM Clang) Kernel: Depends on container host Compiler: clang 19.1.5 (Fedora 19.1.5-1.fc41) Ubuntu 22.04 (ARM) Kernel: Depends on container host Compiler: gcc (Ubuntu 11.4.0-1ubuntu1~22.04) 11.4.0 Ubuntu 24.04 (ARM) Kernel: Depends on container host Compiler: gcc (Ubuntu 13.3.0-6ubuntu2~24.04) 13.3.0 CentOS Stream 9 (ARM) Kernel: Depends on container host Compiler: gcc 11.5.0 20240719 (Red Hat 11.5.0-2) Debian 11 (Buster) (ARM) Kernel: Depends on container host Compiler: gcc (Debian 10.2.1-6) 10.2.1 20210110 Debian 12 (arm) Kernel: Depends on container host Compiler: gcc (Debian 12.2.0-14) 12.2.0 Ubuntu 20.04 ARM Clang Cross Compile Kernel: Depends on container host Compiler: clang 10.0.0-4ubuntu1 Ubuntu 20.04 aarch32 GCC Cross Compile Kernel: Depends on container host Compiler: gcc 9.4.0 To view detailed results, visit: https://lab.dpdk.org/results/dashboard/tarballs/32411/ UNH-IOL DPDK Community Lab To manage your email subscriptions, visit: https://lab.dpdk.org/results/dashboard/preferences/subscriptions/