From mboxrd@z Thu Jan 1 00:00:00 1970 Return-Path: Received: from mails.dpdk.org (mails.dpdk.org [217.70.189.124]) by inbox.dpdk.org (Postfix) with ESMTP id 6F2674615E for ; Sat, 1 Feb 2025 07:29:24 +0100 (CET) Received: from mails.dpdk.org (localhost [127.0.0.1]) by mails.dpdk.org (Postfix) with ESMTP id 43DCD400D7; Sat, 1 Feb 2025 07:29:24 +0100 (CET) Received: from mail-pl1-f225.google.com (mail-pl1-f225.google.com [209.85.214.225]) by mails.dpdk.org (Postfix) with ESMTP id D440E400D5 for ; Sat, 1 Feb 2025 07:29:22 +0100 (CET) Received: by mail-pl1-f225.google.com with SMTP id d9443c01a7336-21628b3fe7dso50941335ad.3 for ; Fri, 31 Jan 2025 22:29:22 -0800 (PST) DKIM-Signature: v=1; a=rsa-sha256; c=relaxed/relaxed; d=iol.unh.edu; s=unh-iol; t=1738391362; x=1738996162; darn=dpdk.org; h=cc:to:from:subject:message-id:date:from:to:cc:subject:date :message-id:reply-to; bh=JHVx96UosTgtVZsWQg5AmGOOHcUyXFepPQXWJ4SMIcQ=; b=SWPcp+lYKb8kH9fFGFMqZ1LX4Xa1ilNAn4OmGcK9puhzFIHegGdYyxxo11PYQZamNc iPAODZeEXeX3V3XVhdwecMHvZl0Twa/KB1wf1Pf337/wD2xu7RH2lJMA8LqNqhC42mm+ BTPIf40MOpasEy2s3+zHSk3JhGzqKdWDkczSM= X-Google-DKIM-Signature: v=1; a=rsa-sha256; c=relaxed/relaxed; d=1e100.net; s=20230601; t=1738391362; x=1738996162; h=cc:to:from:subject:message-id:date:x-gm-message-state:from:to:cc :subject:date:message-id:reply-to; bh=JHVx96UosTgtVZsWQg5AmGOOHcUyXFepPQXWJ4SMIcQ=; b=SVE1/4TW48rbs0DlD+KLOCM6sitDxvjycXvlieGKTUq0TQGGRHWDtcXBdEOYxASufW YmkuyLAVWwKwpL4qoki0YQqX516VN+u4ImU/WqvEB7nvOSHv9r5h+StQ6bZ4JH8tnl+2 blftu26EQfn412MqS87nXGq6taY0fVrtew0IKGvAxcjswn3fl2t1NS5C+zmnn2oOujf5 Snvv4FXw+eBI3dRCuz8LATfF+ZgmZsF+iWnKWwQt8X09/H1UiWyhdzcBZghbY869Rw46 kjLX1Cnmy317mOSr1Swx5qyHJgdmX4XnRnXjSqbKbryP9f23HoccNz5CGGKhYc51mu2P AQEg== X-Gm-Message-State: AOJu0Yw80ddciLaLDXKeaf6i3FQXY6VKErqUs1jGRzJKjNwzUxv2tilW 0fD7YJ1sXGU0YjjCSsknRmbFcUq+s0Up3ebWY9k8kmdEDvvu4P0JFSdArnfE10TiVgP9ardIMAQ VFQnPEKJdznYuDHgRnNVc7QkWajJgIVR/ X-Gm-Gg: ASbGncuoeYX+TgwXiGq1lMMBIf9KQmocLVXTZ3wKy+AwQrBM5XVe39EkoHawk72DODR TRYuFZpwIp5jJP5oM6LYCg6ItG8BZb7dPovbXrsyamTZyp2xQaG7+x1TUiGiUyt3JDH965XGarm qgsp9c7s1lRWiRvlpA0MD0QbQwB5VTHCpXF46280pSJFxs/DT6e2fh6Jjl3ULpvN9QqZbRFogE3 44sa6+8I3lDQAGhWOU2B3R1VYcQF+bXclKyqHR1JWaQSaucxNPESeNlYh9hexF6XsisMUpqQdq1 60FbN8W2Gdk8lNU/RwcZpnfxczDXag== X-Google-Smtp-Source: AGHT+IFmaUw5GNHGPQAMGqN8jzEM9xBruxTzR7DnRoifnzJHNDwPepySU3rdjyv8XPmCJWlcgxSZGjcqzvYa X-Received: by 2002:a17:902:fc4e:b0:216:6c88:efd9 with SMTP id d9443c01a7336-21dd7c6290cmr233210525ad.15.1738391361690; Fri, 31 Jan 2025 22:29:21 -0800 (PST) Received: from postal.iol.unh.edu (postal.iol.unh.edu. [132.177.123.84]) by smtp-relay.gmail.com with ESMTPS id d9443c01a7336-21de3248323sm1854995ad.28.2025.01.31.22.29.21 (version=TLS1_2 cipher=ECDHE-ECDSA-AES128-GCM-SHA256 bits=128/128); Fri, 31 Jan 2025 22:29:21 -0800 (PST) X-Relaying-Domain: iol.unh.edu Date: Fri, 31 Jan 2025 22:29:21 -0800 (PST) Message-ID: <679dbf41.170a0220.8108c.91fdSMTPIN_ADDED_MISSING@mx.google.com> Received: from [172.21.0.6] (unknown [172.18.0.240]) by postal.iol.unh.edu (Postfix) with ESMTP id AC1946052471; Sat, 1 Feb 2025 01:29:20 -0500 (EST) Subject: |SUCCESS| [GIT MASTER] f2eea2f37a82bb73fb01d56350708f7d70e21379 From: dpdklab@iol.unh.edu To: Test Report Cc: dpdk-test-reports@iol.unh.edu, Xueming Li , Christian Ehrhardt , Kevin Traynor , Luca Boccassi Content-Type: text/plain X-BeenThere: test-report@dpdk.org X-Mailman-Version: 2.1.29 Precedence: list List-Id: automatic DPDK test reports List-Unsubscribe: , List-Archive: List-Post: List-Help: List-Subscribe: , Errors-To: test-report-bounces@dpdk.org _Testing PASS_ Branch: tags/v24.11 f2eea2f37a82bb73fb01d56350708f7d70e21379 --> testing pass Upstream job id: Generic-DPDK-Compile-ABI#114454 Test environment and result as below: +-------------------+----------+ | Environment | abi_test | +===================+==========+ | CentOS Stream 9 | PASS | +-------------------+----------+ | Debian 12 | PASS | +-------------------+----------+ | Debian Bullseye | PASS | +-------------------+----------+ | Fedora 40 (Clang) | PASS | +-------------------+----------+ | Fedora 41 (Clang) | PASS | +-------------------+----------+ | Fedora 40 | PASS | +-------------------+----------+ | Fedora 41 | PASS | +-------------------+----------+ | openSUSE Leap 15 | PASS | +-------------------+----------+ | RHEL8 | PASS | +-------------------+----------+ | RHEL9 | PASS | +-------------------+----------+ | Ubuntu 22.04 | PASS | +-------------------+----------+ | Ubuntu 24.04 | PASS | +-------------------+----------+ CentOS Stream 9 Kernel: Depends on container host Compiler: gcc 11.5.0 20240719 (Red Hat 11.5.0-2) Debian 12 Kernel: Depends on container host Compiler: gcc (Debian 12.2.0-14) 12.2.0 Debian Bullseye Kernel: Depends on container host Compiler: gcc (Debian 10.2.1-6) 10.2.1 20210110 Fedora 40 (Clang) Kernel: Depends on container host Compiler: clang 18.1.8 (Fedora 18.1.8-1.fc40) Fedora 41 (Clang) Kernel: Depends on container host Compiler: clang 19.1.5 (Fedora 19.1.5-1.fc41) Fedora 40 Kernel: Depends on container host Compiler: gcc 14.2.1 20240912 (Red Hat 14.2.1-3) Fedora 41 Kernel: Depends on container host Compiler: gcc 14.2.1 20240912 (Red Hat 14.2.1-3) openSUSE Leap 15 Kernel: Depends on container host Compiler: gcc (SUSE Linux) 7.5.0 RHEL8 Kernel: Depends on container host Compiler: gcc 8.5.0 20210514 (Red Hat 8.5.0-22) RHEL9 Kernel: Depends on container host Compiler: gcc 11.5.0 20240719 (Red Hat 11.5.0-2) Ubuntu 22.04 Kernel: Depends on container host Compiler: gcc (Ubuntu 11.4.0-1ubuntu1~22.04) 11.4.0 Ubuntu 24.04 Kernel: Depends on container host Compiler: gcc (Ubuntu 13.3.0-6ubuntu2~24.04) 13.3.0 To view detailed results, visit: https://lab.dpdk.org/results/dashboard/tarballs/32412/ UNH-IOL DPDK Community Lab To manage your email subscriptions, visit: https://lab.dpdk.org/results/dashboard/preferences/subscriptions/