From mboxrd@z Thu Jan 1 00:00:00 1970 Return-Path: Received: from mails.dpdk.org (mails.dpdk.org [217.70.189.124]) by inbox.dpdk.org (Postfix) with ESMTP id A84B24615F for ; Sat, 1 Feb 2025 08:03:01 +0100 (CET) Received: from mails.dpdk.org (localhost [127.0.0.1]) by mails.dpdk.org (Postfix) with ESMTP id 8CE88400D7; Sat, 1 Feb 2025 08:03:01 +0100 (CET) Received: from mail-pl1-f226.google.com (mail-pl1-f226.google.com [209.85.214.226]) by mails.dpdk.org (Postfix) with ESMTP id 779B2400D5 for ; Sat, 1 Feb 2025 08:03:00 +0100 (CET) Received: by mail-pl1-f226.google.com with SMTP id d9443c01a7336-21bc1512a63so52189605ad.1 for ; Fri, 31 Jan 2025 23:03:00 -0800 (PST) DKIM-Signature: v=1; a=rsa-sha256; c=relaxed/relaxed; d=iol.unh.edu; s=unh-iol; t=1738393379; x=1738998179; darn=dpdk.org; h=cc:to:from:subject:message-id:date:from:to:cc:subject:date :message-id:reply-to; bh=VBHC+iXjP+okgtbU3Li8NLjmuA9TW/LWcldB/DPMmIQ=; b=gqk4ikZ60WdBufFVH9D3PbLov0o1YfKQ0Yta61NZlTUnHJr7X4zJF088Nt41fWxQSu X4ZmSTC2lWsdg4cc+qN9bZwigIq/O84tJ92EGolsYQF4Be/rDVCNPfCTVhqN2mTnKDUF f3niC89ySnxiT0jdn8MeNdFiWsLgohRkjjmhM= X-Google-DKIM-Signature: v=1; a=rsa-sha256; c=relaxed/relaxed; d=1e100.net; s=20230601; t=1738393379; x=1738998179; h=cc:to:from:subject:message-id:date:x-gm-message-state:from:to:cc :subject:date:message-id:reply-to; bh=VBHC+iXjP+okgtbU3Li8NLjmuA9TW/LWcldB/DPMmIQ=; b=Lcm1Y7MvBzd+gCJgHfu+ke5reMCufkSVegI7bgobs/yMlsXTB3d/kQK7V800Jp4yRh 8PDR919d7W/lXJRw4Pr+DfZwbcn0Pz0l9QzXLaDItFehQZ5mz3RcYN3ZE1L+Ae2S7x9/ 8IGM5qByb/cg4sBJZANvStYatomcY2tJnmmJyIpBsuo+q6tAX6aNmmSCVvBeq2vdQF3v 0jaeqqKhWD8Pw1tZ4VuslYDb4w/8YPMfr1VMZ5JvVq4l4OpVZSqGwfwhEiyHUTWDszOt dcIDDL76g/00QdqLxbRwgLoTrsGph3AeX5LgKIJ7AZP1vvliibIQN1ihxBu67kyNy6Jo i+5Q== X-Gm-Message-State: AOJu0YyTHPdoDZBDqeuw8VVCfB1EfMzLUNVxCDxVNIvSaPaCVEHIT8QA j7lRTOJk+qzv880kIsrQ1+ev9y+0IHHgwAH+nykQSc6Wc8QtPAc9ZV1DtrHbsy1z+glnOk5qmIv 93Fn4mj6VE1QFzv8DnKz6+DBaipWmByBh X-Gm-Gg: ASbGncvB13/RK80Xrqo/HugC+bscQI+3YxolRebXJqbEBPfwvXUeX52KxcL+RO8TNtC Z751d5ZvsAgJP8mKqLZfzzdh+786sVV6J76tZa3nhotmftDyqkyL/k8cl/TGS8kqjiDKTWoLR7P 08X8Y+0E97+cuC+etvj8LXrCM/5htICCz2sCYToeiW6RoXdlvL8abQKTVpGgcCADhcJsLvxv3NZ wKsEe7siIoNv+rkHxXsN49LXAhKqpuuxvk0EP0wmX/MvOhHQ5JlGKbGhs0MmUhVf13gUES8/3Jz F93q2Je0wE4mTmfKYBFvfWXyYIS+nA== X-Google-Smtp-Source: AGHT+IH/IC1d0LAFAVKSpGu1zUO0jQGy7mgpK7ScE/o0MnZ/Fyp7zl+A94JGLK1/+TO0ZlnIo2x00PkbHVM3 X-Received: by 2002:a17:903:1205:b0:21a:87d1:168a with SMTP id d9443c01a7336-21dd7dde161mr239494555ad.41.1738393378597; Fri, 31 Jan 2025 23:02:58 -0800 (PST) Received: from postal.iol.unh.edu (postal.iol.unh.edu. [132.177.123.84]) by smtp-relay.gmail.com with ESMTPS id d9443c01a7336-21de321bf8asm1856225ad.16.2025.01.31.23.02.58 (version=TLS1_2 cipher=ECDHE-ECDSA-AES128-GCM-SHA256 bits=128/128); Fri, 31 Jan 2025 23:02:58 -0800 (PST) X-Relaying-Domain: iol.unh.edu Date: Fri, 31 Jan 2025 23:02:58 -0800 (PST) Message-ID: <679dc722.170a0220.3cd807.9352SMTPIN_ADDED_MISSING@mx.google.com> Received: from [172.21.0.5] (unknown [172.18.0.240]) by postal.iol.unh.edu (Postfix) with ESMTP id 9EEED6052471; Sat, 1 Feb 2025 02:02:57 -0500 (EST) Subject: |SUCCESS| [GIT MASTER] c66daa12e76d7b4912cfb7109a761856a7a873ab From: dpdklab@iol.unh.edu To: Test Report Cc: dpdk-test-reports@iol.unh.edu, Xueming Li , Christian Ehrhardt , Kevin Traynor , Luca Boccassi Content-Type: text/plain X-BeenThere: test-report@dpdk.org X-Mailman-Version: 2.1.29 Precedence: list List-Id: automatic DPDK test reports List-Unsubscribe: , List-Archive: List-Post: List-Help: List-Subscribe: , Errors-To: test-report-bounces@dpdk.org _Testing PASS_ Branch: tags/v23.11 c66daa12e76d7b4912cfb7109a761856a7a873ab --> testing pass Upstream job id: Generic-DPDK-Compile-ABI#114457 Test environment and result as below: +-------------------+----------+ | Environment | abi_test | +===================+==========+ | CentOS Stream 9 | PASS | +-------------------+----------+ | Debian Bullseye | PASS | +-------------------+----------+ | Fedora 41 | PASS | +-------------------+----------+ | Fedora 40 (Clang) | PASS | +-------------------+----------+ | Debian 12 | PASS | +-------------------+----------+ | Fedora 40 | PASS | +-------------------+----------+ | Fedora 41 (Clang) | PASS | +-------------------+----------+ | RHEL8 | PASS | +-------------------+----------+ | openSUSE Leap 15 | PASS | +-------------------+----------+ | RHEL9 | PASS | +-------------------+----------+ | Ubuntu 22.04 | PASS | +-------------------+----------+ | Ubuntu 24.04 | PASS | +-------------------+----------+ CentOS Stream 9 Kernel: Depends on container host Compiler: gcc 11.5.0 20240719 (Red Hat 11.5.0-2) Debian Bullseye Kernel: Depends on container host Compiler: gcc (Debian 10.2.1-6) 10.2.1 20210110 Fedora 41 Kernel: Depends on container host Compiler: gcc 14.2.1 20240912 (Red Hat 14.2.1-3) Fedora 40 (Clang) Kernel: Depends on container host Compiler: clang 18.1.8 (Fedora 18.1.8-1.fc40) Debian 12 Kernel: Depends on container host Compiler: gcc (Debian 12.2.0-14) 12.2.0 Fedora 40 Kernel: Depends on container host Compiler: gcc 14.2.1 20240912 (Red Hat 14.2.1-3) Fedora 41 (Clang) Kernel: Depends on container host Compiler: clang 19.1.5 (Fedora 19.1.5-1.fc41) RHEL8 Kernel: Depends on container host Compiler: gcc 8.5.0 20210514 (Red Hat 8.5.0-22) openSUSE Leap 15 Kernel: Depends on container host Compiler: gcc (SUSE Linux) 7.5.0 RHEL9 Kernel: Depends on container host Compiler: gcc 11.5.0 20240719 (Red Hat 11.5.0-2) Ubuntu 22.04 Kernel: Depends on container host Compiler: gcc (Ubuntu 11.4.0-1ubuntu1~22.04) 11.4.0 Ubuntu 24.04 Kernel: Depends on container host Compiler: gcc (Ubuntu 13.3.0-6ubuntu2~24.04) 13.3.0 To view detailed results, visit: https://lab.dpdk.org/results/dashboard/tarballs/32414/ UNH-IOL DPDK Community Lab To manage your email subscriptions, visit: https://lab.dpdk.org/results/dashboard/preferences/subscriptions/